BEGIN:VCALENDAR
VERSION:2.0
PRODID:-//www.dnesnivylet.cz                                                                                                                        Tip na výlet pro celou rodinu. - ECPv6.15.13.1//NONSGML v1.0//EN
CALSCALE:GREGORIAN
METHOD:PUBLISH
X-ORIGINAL-URL:https://dnesnivylet.cz
X-WR-CALDESC:Akce na www.dnesnivylet.cz                                                                                                                        Tip na výlet pro celou rodinu.
REFRESH-INTERVAL;VALUE=DURATION:PT1H
X-Robots-Tag:noindex
X-PUBLISHED-TTL:PT1H
BEGIN:VTIMEZONE
TZID:Europe/Prague
BEGIN:DAYLIGHT
TZOFFSETFROM:+0100
TZOFFSETTO:+0200
TZNAME:CEST
DTSTART:20250330T010000
END:DAYLIGHT
BEGIN:STANDARD
TZOFFSETFROM:+0200
TZOFFSETTO:+0100
TZNAME:CET
DTSTART:20251026T010000
END:STANDARD
BEGIN:DAYLIGHT
TZOFFSETFROM:+0100
TZOFFSETTO:+0200
TZNAME:CEST
DTSTART:20260329T010000
END:DAYLIGHT
BEGIN:STANDARD
TZOFFSETFROM:+0200
TZOFFSETTO:+0100
TZNAME:CET
DTSTART:20261025T010000
END:STANDARD
BEGIN:DAYLIGHT
TZOFFSETFROM:+0100
TZOFFSETTO:+0200
TZNAME:CEST
DTSTART:20270328T010000
END:DAYLIGHT
BEGIN:STANDARD
TZOFFSETFROM:+0200
TZOFFSETTO:+0100
TZNAME:CET
DTSTART:20271031T010000
END:STANDARD
END:VTIMEZONE
BEGIN:VEVENT
DTSTART;TZID=Europe/Prague:20260408T093000
DTEND;TZID=Europe/Prague:20260408T123000
DTSTAMP:20260419T131250
CREATED:20260306T172826Z
LAST-MODIFIED:20260306T172827Z
UID:19087-1775640600-1775651400@dnesnivylet.cz
SUMMARY:MIMIKINO - Něco za něco
DESCRIPTION:MIMIKINO – Něco za něco se uskuteční dne 2026-04-08 v 09:30 v Humpolec\, Malá scéna\, Mikádo. \n🎟️ Koupit vstupenku \n\nKomedie\, která vás chytne za ledvinu \n\nTento tip na kulturní akci v Humpolec najdete v přehledu na Dnesnivylet.cz spolu s dalšími koncerty\, festivaly a divadelními představeními.Každý si vybere co se mu líbí. Nezapomeňte koupit vstupenky včas\, stačí kliknout a budete přesměrování na oficiálního prodejce vstupenek.
URL:https://dnesnivylet.cz/event/mimikino-neco-za-neco/
LOCATION:Malá scéna\, Mikádo\, Humpolec\, Malá scéna\, Mikádo\, Humpolec\, Česká republika
CATEGORIES:Zábava
ATTACH;FMTTYPE=image/jpeg:https://dnesnivylet.cz/wp-content/uploads/2026/03/320-0ede5829b70e48359b463a21ddf62891.jpg
END:VEVENT
BEGIN:VEVENT
DTSTART;TZID=Europe/Prague:20260408T190000
DTEND;TZID=Europe/Prague:20260408T220000
DTSTAMP:20260419T131250
CREATED:20260314T190752Z
LAST-MODIFIED:20260314T190752Z
UID:19575-1775674800-1775685600@dnesnivylet.cz
SUMMARY:Dejvické divadlo: Ucpanej systém
DESCRIPTION:Dejvické divadlo: Ucpanej systém se uskuteční dne 2026-04-08 v 19:00 v Humpolec\, Kino. \n🎟️ Koupit vstupenku \n\nZáznam derniéry ikonického představení Dejvického divadla Ucpanej systém\, která v roce 2023 dosáhla v přímém přenosu rekordní návštěvnosti přes 33 000 diváků\, se vrací na plátna kin exkluzivně ve středu 8. dubna 2026! \n\nTento tip na kulturní akci v Humpolec najdete v přehledu na Dnesnivylet.cz spolu s dalšími koncerty\, festivaly a divadelními představeními.Každý si vybere co se mu líbí. Nezapomeňte koupit vstupenky včas\, stačí kliknout a budete přesměrování na oficiálního prodejce vstupenek.
URL:https://dnesnivylet.cz/event/dejvicke-divadlo-ucpanej-system/
LOCATION:Kino\, Humpolec\, Kino\, Humpolec\, Česká republika
CATEGORIES:Divadlo
ATTACH;FMTTYPE=image/jpeg:https://dnesnivylet.cz/wp-content/uploads/2026/03/320-546a53cd7fbe4fefbb5766d1ef0676ed.jpg
END:VEVENT
END:VCALENDAR