BEGIN:VCALENDAR
VERSION:2.0
PRODID:-//www.dnesnivylet.cz                                                                                                                        Tip na výlet pro celou rodinu. - ECPv6.15.13.1//NONSGML v1.0//EN
CALSCALE:GREGORIAN
METHOD:PUBLISH
X-ORIGINAL-URL:https://dnesnivylet.cz
X-WR-CALDESC:Akce na www.dnesnivylet.cz                                                                                                                        Tip na výlet pro celou rodinu.
REFRESH-INTERVAL;VALUE=DURATION:PT1H
X-Robots-Tag:noindex
X-PUBLISHED-TTL:PT1H
BEGIN:VTIMEZONE
TZID:Europe/Prague
BEGIN:DAYLIGHT
TZOFFSETFROM:+0100
TZOFFSETTO:+0200
TZNAME:CEST
DTSTART:20250330T010000
END:DAYLIGHT
BEGIN:STANDARD
TZOFFSETFROM:+0200
TZOFFSETTO:+0100
TZNAME:CET
DTSTART:20251026T010000
END:STANDARD
BEGIN:DAYLIGHT
TZOFFSETFROM:+0100
TZOFFSETTO:+0200
TZNAME:CEST
DTSTART:20260329T010000
END:DAYLIGHT
BEGIN:STANDARD
TZOFFSETFROM:+0200
TZOFFSETTO:+0100
TZNAME:CET
DTSTART:20261025T010000
END:STANDARD
BEGIN:DAYLIGHT
TZOFFSETFROM:+0100
TZOFFSETTO:+0200
TZNAME:CEST
DTSTART:20270328T010000
END:DAYLIGHT
BEGIN:STANDARD
TZOFFSETFROM:+0200
TZOFFSETTO:+0100
TZNAME:CET
DTSTART:20271031T010000
END:STANDARD
END:VTIMEZONE
BEGIN:VEVENT
DTSTART;TZID=Europe/Prague:20260625T170000
DTEND;TZID=Europe/Prague:20260625T200000
DTSTAMP:20260419T161250
CREATED:20251113T091045Z
LAST-MODIFIED:20251113T091049Z
UID:13357-1782406800-1782417600@dnesnivylet.cz
SUMMARY:Techtle Mechtle – Haló\, tady máma!
DESCRIPTION:Techtle Mechtle – Haló\, tady máma! se uskuteční dne 2026-06-25 v 17:00 v Humpolec\, Kino. \n🎟️ Koupit vstupenku \n\nTechtle Mechtle revue – to je aktuálně nejúspěšnější česká show na poli divadelní scény. Během roku odehraje až 200 repríz divadelních představení po celé České republice\, která jsou vyprodána dlouho dopředu. Kombinace muzikálu\, travesti show\, činohry a kabaretu\, díky které zažijete nezapomenutelný večer plný smíchu a hudby. Má to jen jeden háček – všechny role\, a to včetně těch dámských\, tu hrají pouze muži a ti jsou navíc k nerozeznání od skutečných žen\, což vám pěkně zamotá hlavu. \nPředstavení „Haló\, tady máma“ je bláznivá hudební komedie o tom\, co se stane\, když mateřská láska překročí všechny meze. Dan oslavuje 31. narozeniny a rozhodne se představit své excentrické matce svou novou lásku – Terezku\, milou vegetariánku. Jenže tchýně z toho není nadšená a rozhodne se\, že Danovi a jeho nastávající ukáže\, jak se správně starat o jejího synáčka. Když se tchyně nastěhuje k mladému páru a začne jim „vylepšovat“ život\, začíná hotové peklo plné hudby\, smíchu a bláznivých situací. \nDiváci se mohou těšit na energický příběh plný nečekaných zvratů\, vtipných písniček a jedné velmi rozhodné mámy\, která (možná) nakonec zjistí\, že každý má právo žít po svém. Tahle komedie vám ukáže\, že rodina může být trochu bláznivá\, ale láska si nakonec najde cestu – a to vše s humorem a úsměvem na rtech. Poznáte se v tomhle šíleném příběhu i vy sami? \n\nTento tip na kulturní akci v Humpolec najdete v přehledu na Dnesnivylet.cz spolu s dalšími koncerty\, festivaly a divadelními představeními.Každý si vybere co se mu líbí. Nezapomeňte koupit vstupenky včas\, stačí kliknout a budete přesměrování na oficiálního prodejce vstupenek.
URL:https://dnesnivylet.cz/event/techtle-mechtle-halo-tady-mama-2/
LOCATION:Kino\, Humpolec\, Kino\, Humpolec\, Česká republika
CATEGORIES:Zábava
ATTACH;FMTTYPE=image/jpeg:https://dnesnivylet.cz/wp-content/uploads/2025/11/320-a8e742b873c6409b9d2fd5f90fede91d.jpg
END:VEVENT
BEGIN:VEVENT
DTSTART;TZID=Europe/Prague:20260625T170000
DTEND;TZID=Europe/Prague:20260625T200000
DTSTAMP:20260419T161250
CREATED:20251113T091045Z
LAST-MODIFIED:20251113T091051Z
UID:13358-1782406800-1782417600@dnesnivylet.cz
SUMMARY:Techtle Mechtle – Haló\, tady máma!
DESCRIPTION:Techtle Mechtle – Haló\, tady máma! se uskuteční dne 2026-06-25 v 17:00 v Humpolec\, Kino. \n🎟️ Koupit vstupenku \n\nTechtle Mechtle revue – to je aktuálně nejúspěšnější česká show na poli divadelní scény. Během roku odehraje až 200 repríz divadelních představení po celé České republice\, která jsou vyprodána dlouho dopředu. Kombinace muzikálu\, travesti show\, činohry a kabaretu\, díky které zažijete nezapomenutelný večer plný smíchu a hudby. Má to jen jeden háček – všechny role\, a to včetně těch dámských\, tu hrají pouze muži a ti jsou navíc k nerozeznání od skutečných žen\, což vám pěkně zamotá hlavu. \nPředstavení „Haló\, tady máma“ je bláznivá hudební komedie o tom\, co se stane\, když mateřská láska překročí všechny meze. Dan oslavuje 31. narozeniny a rozhodne se představit své excentrické matce svou novou lásku – Terezku\, milou vegetariánku. Jenže tchýně z toho není nadšená a rozhodne se\, že Danovi a jeho nastávající ukáže\, jak se správně starat o jejího synáčka. Když se tchyně nastěhuje k mladému páru a začne jim „vylepšovat“ život\, začíná hotové peklo plné hudby\, smíchu a bláznivých situací. \nDiváci se mohou těšit na energický příběh plný nečekaných zvratů\, vtipných písniček a jedné velmi rozhodné mámy\, která (možná) nakonec zjistí\, že každý má právo žít po svém. Tahle komedie vám ukáže\, že rodina může být trochu bláznivá\, ale láska si nakonec najde cestu – a to vše s humorem a úsměvem na rtech. Poznáte se v tomhle šíleném příběhu i vy sami? \n\nTento tip na kulturní akci v Humpolec najdete v přehledu na Dnesnivylet.cz spolu s dalšími koncerty\, festivaly a divadelními představeními.Každý si vybere co se mu líbí. Nezapomeňte koupit vstupenky včas\, stačí kliknout a budete přesměrování na oficiálního prodejce vstupenek.
URL:https://dnesnivylet.cz/event/techtle-mechtle-halo-tady-mama/
LOCATION:Kino\, Humpolec\, Kino\, Humpolec\, Česká republika
CATEGORIES:Zábava
ATTACH;FMTTYPE=image/jpeg:https://dnesnivylet.cz/wp-content/uploads/2025/11/320-a8e742b873c6409b9d2fd5f90fede91d-1.jpg
END:VEVENT
BEGIN:VEVENT
DTSTART;TZID=Europe/Prague:20260625T200000
DTEND;TZID=Europe/Prague:20260625T230000
DTSTAMP:20260419T161250
CREATED:20251113T091050Z
LAST-MODIFIED:20251113T091050Z
UID:13364-1782417600-1782428400@dnesnivylet.cz
SUMMARY:Techtle Mechtle – Haló\, tady máma!
DESCRIPTION:Techtle Mechtle – Haló\, tady máma! se uskuteční dne 2026-06-25 v 20:00 v Humpolec\, Kino. \n🎟️ Koupit vstupenku \n\nTechtle Mechtle revue – to je aktuálně nejúspěšnější česká show na poli divadelní scény. Během roku odehraje až 200 repríz divadelních představení po celé České republice\, která jsou vyprodána dlouho dopředu. Kombinace muzikálu\, travesti show\, činohry a kabaretu\, díky které zažijete nezapomenutelný večer plný smíchu a hudby. Má to jen jeden háček – všechny role\, a to včetně těch dámských\, tu hrají pouze muži a ti jsou navíc k nerozeznání od skutečných žen\, což vám pěkně zamotá hlavu. \nPředstavení „Haló\, tady máma“ je bláznivá hudební komedie o tom\, co se stane\, když mateřská láska překročí všechny meze. Dan oslavuje 31. narozeniny a rozhodne se představit své excentrické matce svou novou lásku – Terezku\, milou vegetariánku. Jenže tchýně z toho není nadšená a rozhodne se\, že Danovi a jeho nastávající ukáže\, jak se správně starat o jejího synáčka. Když se tchyně nastěhuje k mladému páru a začne jim „vylepšovat“ život\, začíná hotové peklo plné hudby\, smíchu a bláznivých situací. \nDiváci se mohou těšit na energický příběh plný nečekaných zvratů\, vtipných písniček a jedné velmi rozhodné mámy\, která (možná) nakonec zjistí\, že každý má právo žít po svém. Tahle komedie vám ukáže\, že rodina může být trochu bláznivá\, ale láska si nakonec najde cestu – a to vše s humorem a úsměvem na rtech. Poznáte se v tomhle šíleném příběhu i vy sami? \n\nTento tip na kulturní akci v Humpolec najdete v přehledu na Dnesnivylet.cz spolu s dalšími koncerty\, festivaly a divadelními představeními.Každý si vybere co se mu líbí. Nezapomeňte koupit vstupenky včas\, stačí kliknout a budete přesměrování na oficiálního prodejce vstupenek.
URL:https://dnesnivylet.cz/event/techtle-mechtle-halo-tady-mama-3/
LOCATION:Kino\, Humpolec\, Kino\, Humpolec\, Česká republika
CATEGORIES:Zábava
ATTACH;FMTTYPE=image/jpeg:https://dnesnivylet.cz/wp-content/uploads/2025/11/320-c9332befd4b34c1e94a7bf2385f08d28.jpg
END:VEVENT
END:VCALENDAR