BEGIN:VCALENDAR
VERSION:2.0
PRODID:-//www.dnesnivylet.cz                                                                                                                        Tip na výlet pro celou rodinu. - ECPv6.15.13.1//NONSGML v1.0//EN
CALSCALE:GREGORIAN
METHOD:PUBLISH
X-WR-CALNAME:www.dnesnivylet.cz                                                                                                                        Tip na výlet pro celou rodinu.
X-ORIGINAL-URL:https://dnesnivylet.cz
X-WR-CALDESC:Akce na www.dnesnivylet.cz                                                                                                                        Tip na výlet pro celou rodinu.
REFRESH-INTERVAL;VALUE=DURATION:PT1H
X-Robots-Tag:noindex
X-PUBLISHED-TTL:PT1H
BEGIN:VTIMEZONE
TZID:Europe/Prague
BEGIN:DAYLIGHT
TZOFFSETFROM:+0100
TZOFFSETTO:+0200
TZNAME:CEST
DTSTART:20250330T010000
END:DAYLIGHT
BEGIN:STANDARD
TZOFFSETFROM:+0200
TZOFFSETTO:+0100
TZNAME:CET
DTSTART:20251026T010000
END:STANDARD
BEGIN:DAYLIGHT
TZOFFSETFROM:+0100
TZOFFSETTO:+0200
TZNAME:CEST
DTSTART:20260329T010000
END:DAYLIGHT
BEGIN:STANDARD
TZOFFSETFROM:+0200
TZOFFSETTO:+0100
TZNAME:CET
DTSTART:20261025T010000
END:STANDARD
BEGIN:DAYLIGHT
TZOFFSETFROM:+0100
TZOFFSETTO:+0200
TZNAME:CEST
DTSTART:20270328T010000
END:DAYLIGHT
BEGIN:STANDARD
TZOFFSETFROM:+0200
TZOFFSETTO:+0100
TZNAME:CET
DTSTART:20271031T010000
END:STANDARD
END:VTIMEZONE
BEGIN:VEVENT
DTSTART;TZID=Europe/Prague:20261118T180000
DTEND;TZID=Europe/Prague:20261118T210000
DTSTAMP:20260420T020907
CREATED:20260208T145134Z
LAST-MODIFIED:20260208T145134Z
UID:17708-1795024800-1795035600@dnesnivylet.cz
SUMMARY:Jiří Kolbaba: Sedm divů Islandu
DESCRIPTION:Jiří Kolbaba: Sedm divů Islandu se uskuteční dne 2026-11-18 v 18:00 v Humpolec\, Kino. \n🎟️ Koupit vstupenku \n\nOsamělá pevnina v severovýchodním Atlantiku je druhým největším ostrovem Evropy. Dynamická geologie z něj dělá ojedinělé\, mimořádně fotogenické místo. Objevíme termální prameny\, gejzíry\, bouřlivé vodopády\, třpytivé ledovce\, vulkanickou barevnou půdu i svěže zelené nekonečné plochy. Sugestivní krajina\, ve které potkáme spíše zbloudilé koně nebo ovce\, připomíná peklo i ráj. Jiří Kolbaba byl na oblíbeném Islandu již dvaatřicetkrát. \n\nTento tip na kulturní akci v Humpolec najdete v přehledu na Dnesnivylet.cz spolu s dalšími koncerty\, festivaly a divadelními představeními.Každý si vybere co se mu líbí. Nezapomeňte koupit vstupenky včas\, stačí kliknout a budete přesměrování na oficiálního prodejce vstupenek.
URL:https://dnesnivylet.cz/event/jiri-kolbaba-sedm-divu-islandu/
LOCATION:Kino\, Humpolec\, Kino\, Humpolec\, Česká republika
CATEGORIES:Zábava
ATTACH;FMTTYPE=image/jpeg:https://dnesnivylet.cz/wp-content/uploads/2026/02/320-0ac4122f95ae4c6793636928fd2febb4.jpg
END:VEVENT
END:VCALENDAR