BEGIN:VCALENDAR
VERSION:2.0
PRODID:-//www.dnesnivylet.cz                                                                                                                        Tip na výlet pro celou rodinu. - ECPv6.15.13.1//NONSGML v1.0//EN
CALSCALE:GREGORIAN
METHOD:PUBLISH
X-WR-CALNAME:www.dnesnivylet.cz                                                                                                                        Tip na výlet pro celou rodinu.
X-ORIGINAL-URL:https://dnesnivylet.cz
X-WR-CALDESC:Akce na www.dnesnivylet.cz                                                                                                                        Tip na výlet pro celou rodinu.
REFRESH-INTERVAL;VALUE=DURATION:PT1H
X-Robots-Tag:noindex
X-PUBLISHED-TTL:PT1H
BEGIN:VTIMEZONE
TZID:Europe/Prague
BEGIN:DAYLIGHT
TZOFFSETFROM:+0100
TZOFFSETTO:+0200
TZNAME:CEST
DTSTART:20240331T010000
END:DAYLIGHT
BEGIN:STANDARD
TZOFFSETFROM:+0200
TZOFFSETTO:+0100
TZNAME:CET
DTSTART:20241027T010000
END:STANDARD
BEGIN:DAYLIGHT
TZOFFSETFROM:+0100
TZOFFSETTO:+0200
TZNAME:CEST
DTSTART:20250330T010000
END:DAYLIGHT
BEGIN:STANDARD
TZOFFSETFROM:+0200
TZOFFSETTO:+0100
TZNAME:CET
DTSTART:20251026T010000
END:STANDARD
BEGIN:DAYLIGHT
TZOFFSETFROM:+0100
TZOFFSETTO:+0200
TZNAME:CEST
DTSTART:20260329T010000
END:DAYLIGHT
BEGIN:STANDARD
TZOFFSETFROM:+0200
TZOFFSETTO:+0100
TZNAME:CET
DTSTART:20261025T010000
END:STANDARD
END:VTIMEZONE
BEGIN:VEVENT
DTSTART;TZID=Europe/Prague:20251205T000000
DTEND;TZID=Europe/Prague:20251205T030000
DTSTAMP:20260420T015649
CREATED:20251102T185017Z
LAST-MODIFIED:20251102T185018Z
UID:11291-1764892800-1764903600@dnesnivylet.cz
SUMMARY:BALET V KINĚ 2025/2026
DESCRIPTION:BALET V KINĚ 2025/2026 se uskuteční dne 2025-12-05 v 00:00 v Humpolec\, Kino. \n🎟️ Koupit vstupenku \n\nLondýnský Royal Ballet & Opera uvede v nové sezóně 2025/2026 do kin po celém světě výběr 5 inscenací Královského baletu. V programu nechybí milované klasiky ani očekávané novinky. \nPěti titulům Královského baletu vévodí dvojice pohádkových baletů pro celou rodinu Popelka a Louskáček\, které budou uvedeny v předvánočním čase. Ještě předtím ale začátek zimy rozveselí romantická komedie Marná opatrnost choreografa Fredericka Ashtona. Druhá polovina pak nabídne absolutní romantickou klasiku baletního repertoáru Giselle od Maria Petipy a také unikátní program Díla Woolfové (Woolf Works)\, ve kterém rezidenční choreograf Wayne McGregor oslavuje tvorbu spisovatelky Virginie Woolfové. \nProgram \n\n5. 12. 2025 – 19:00 – Marná opatrnost\n11. 12. 2025 – 19:00 – Popelka\n21. 12. 2025 – 17:00 – Louskáček\n19. 3. 2026 – 19:00 – Woolf Works\n16. 4. 2026 – 19:00 – Giselle\n\nPředplatné na všechny inscenace za zvýhodněnou cenu 1000 Kč je možné zakoupit pouze do 5. 12. 2025 19:30. \nJedná se o záznam promítaný na plátno kina. \nVšechny balety jsou kompletně opatřeny českými titulky\, včetně úvodního slova\, rozhovorů a přestávkového programu\, který vždy dovolí nahlédnout do zákulisí jednoho z nejprestižnějších baletních domů na světě. \n  \n\nTento tip na kulturní akci v Humpolec najdete v přehledu na Dnesnivylet.cz spolu s dalšími koncerty\, festivaly a divadelními představeními.Každý si vybere co se mu líbí. Nezapomeňte koupit vstupenky včas\, stačí kliknout a budete přesměrování na oficiálního prodejce vstupenek.
URL:https://dnesnivylet.cz/event/balet-v-kine-2025-2026/
LOCATION:Kino\, Humpolec\, Kino\, Humpolec\, Česká republika
CATEGORIES:Zábava
ATTACH;FMTTYPE=image/jpeg:https://dnesnivylet.cz/wp-content/uploads/2025/11/320-1aa24992a9e4439cae400eaf308bdd47.jpg
END:VEVENT
BEGIN:VEVENT
DTSTART;TZID=Europe/Prague:20251204T093000
DTEND;TZID=Europe/Prague:20251204T123000
DTSTAMP:20260420T015649
CREATED:20251102T123222Z
LAST-MODIFIED:20251102T123222Z
UID:11008-1764840600-1764851400@dnesnivylet.cz
SUMMARY:MIMIKINO - Jak se nám to mohlo stát!?
DESCRIPTION:MIMIKINO – Jak se nám to mohlo stát!? se uskuteční dne 2025-12-04 v 09:30 v Humpolec\, Malá scéna\, Mikádo. \n🎟️ Koupit vstupenku \n\nPo pětadvaceti letech od legendárních Pelíšků konečně znovu v kinech rozehrají Miroslav Donutil a Bolek Polívka pořádnou komedii. \n\nTento tip na kulturní akci v Humpolec najdete v přehledu na Dnesnivylet.cz spolu s dalšími koncerty\, festivaly a divadelními představeními.Každý si vybere co se mu líbí. Nezapomeňte koupit vstupenky včas\, stačí kliknout a budete přesměrování na oficiálního prodejce vstupenek.
URL:https://dnesnivylet.cz/event/mimikino-jak-se-nam-to-mohlo-stat/
LOCATION:Malá scéna\, Mikádo\, Humpolec\, Malá scéna\, Mikádo\, Humpolec\, Česká republika
CATEGORIES:Zábava
ATTACH;FMTTYPE=image/jpeg:https://dnesnivylet.cz/wp-content/uploads/2025/11/320-1375a6cd39544f9d93d7773cf0b7bce6.jpg
END:VEVENT
BEGIN:VEVENT
DTSTART;TZID=Europe/Prague:20251202T190000
DTEND;TZID=Europe/Prague:20251202T220000
DTSTAMP:20260420T015649
CREATED:20251102T184817Z
LAST-MODIFIED:20251102T184817Z
UID:11241-1764702000-1764712800@dnesnivylet.cz
SUMMARY:Petr Tomeček / Vánoční Panova flétna
DESCRIPTION:Petr Tomeček / Vánoční Panova flétna se uskuteční dne 2025-12-02 v 19:00 v Humpolec\, Divadlo Za komínem. \n🎟️ Koupit vstupenku \n\n🎄✨ Vánoční Panova flétna v Divadle Za komínem ✨🎄 \nZveme vás na kouzelný večer plný hudby\, která pohladí duši a rozzáří srdce v předvánočním čase.V moderním\, a přesto hřejivě útulném prostředí Divadla za komínem v Humpolci se rozezní jedinečné tóny Panovy flétny\, které vás přenesou do světa klidu\, světla a lásky. \nV doprovodu klavíru zazní nejkrásnější melodie\, které k Vánocům neodmyslitelně patří – melodie\, jež v sobě nesou vůni svíček\, zimní pohádkové ticho i radost očekávání. \nPřijďte se zastavit\, nadechnout a nechat se unést hudbou\, která mluví přímo k srdci. 💫 \n\nTento tip na kulturní akci v Humpolec najdete v přehledu na Dnesnivylet.cz spolu s dalšími koncerty\, festivaly a divadelními představeními.Každý si vybere co se mu líbí. Nezapomeňte koupit vstupenky včas\, stačí kliknout a budete přesměrování na oficiálního prodejce vstupenek.
URL:https://dnesnivylet.cz/event/petr-tomecek-vanocni-panova-fletna-5/
LOCATION:Divadlo Za komínem\, Humpolec\, Divadlo Za komínem\, Humpolec\, Česká republika
CATEGORIES:Koncert
ATTACH;FMTTYPE=image/jpeg:https://dnesnivylet.cz/wp-content/uploads/2025/11/320-ff96e6beaa204102850f3b645b15f6eb.jpg
END:VEVENT
BEGIN:VEVENT
DTSTART;TZID=Europe/Prague:20251127T180000
DTEND;TZID=Europe/Prague:20251127T210000
DTSTAMP:20260420T015649
CREATED:20251102T202251Z
LAST-MODIFIED:20251102T202252Z
UID:11366-1764266400-1764277200@dnesnivylet.cz
SUMMARY:Čtyři dohody
DESCRIPTION:Čtyři dohody se uskuteční dne 2025-11-27 v 18:00 v Humpolec\, Kino. \n🎟️ Koupit vstupenku \n\nRodinný pivovar Bernard pořádá benefiční představení ve prospěch Nadačního fondu pomoci Bernard\, který podporuje obyvatele Humpolce a okolí. \nJaroslav Dušek v hlavní roli inscenace podle knihy Dona Miguela Ruize\, založené na staré moudrosti Toltéků. Jaroslav Dušek vede monolog a promlouvá o tématech vzdělávání\, výchovy dětí\, partnerských vztahů a vnímání vlastního ega a ukazuje nám tak prostřednictvím toltéků\, že celý náš systém je postavený na nesmyslném a nerovném soutěžení a honbou za ilozurním světem… \nPředstavení vzniklo ve spolupráci s Klubem Lávka. \nBased on the book The Four Agreements © 1997 by Miguel Angel Ruiz\, M.D. and Janet Mills. Produced with permission of Amber-Allen Publishing\, Inc. P.O. Box 6657\, San Rafael\, CA 94903. All rights reserved. \nPartneři představení jsou: \n– smsticket \n– Městské kulturní a informační středisko v Humpolci \n\nTento tip na kulturní akci v Humpolec najdete v přehledu na Dnesnivylet.cz spolu s dalšími koncerty\, festivaly a divadelními představeními.Každý si vybere co se mu líbí. Nezapomeňte koupit vstupenky včas\, stačí kliknout a budete přesměrování na oficiálního prodejce vstupenek.
URL:https://dnesnivylet.cz/event/ctyri-dohody/
LOCATION:Kino\, Humpolec\, Kino\, Humpolec\, Česká republika
CATEGORIES:Divadlo
ATTACH;FMTTYPE=image/jpeg:https://dnesnivylet.cz/wp-content/uploads/2025/11/320-0b320b9e2d50407cbe1b6b1bd178e419.jpg
END:VEVENT
BEGIN:VEVENT
DTSTART;TZID=Europe/Prague:20251125T180000
DTEND;TZID=Europe/Prague:20251125T210000
DTSTAMP:20260420T015649
CREATED:20251020T064532Z
LAST-MODIFIED:20251020T064533Z
UID:8024-1764093600-1764104400@dnesnivylet.cz
SUMMARY:Jiří Kolbaba: Mystické Japonsko
DESCRIPTION:Jiří Kolbaba: Mystické Japonsko se uskuteční dne 2025-11-25 v 18:00 v Humpolec\, Kino. \n🎟️ Koupit vstupenku \n\nNavštívit Zemi vycházejícího slunce je snem mnohých cestovatelů. Známý cestovatel Jiří Kolbaba nám ji představí prostřednictvím svých úžasných fotografií a neméně úžasných historek. \n\nTento tip na kulturní akci v Humpolec najdete v přehledu na Dnesnivylet.cz spolu s dalšími koncerty\, festivaly a divadelními představeními.Každý si vybere co se mu líbí. Nezapomeňte koupit vstupenky včas\, stačí kliknout a budete přesměrování na oficiálního prodejce vstupenek.
URL:https://dnesnivylet.cz/event/jiri-kolbaba-mysticke-japonsko/
LOCATION:Kino\, Humpolec\, Kino\, Humpolec\, Česká republika
CATEGORIES:Zábava
ATTACH;FMTTYPE=image/jpeg:https://dnesnivylet.cz/wp-content/uploads/2025/10/320-c69e0736b33745828330f70ba3d911a2-1.jpg
END:VEVENT
BEGIN:VEVENT
DTSTART;TZID=Europe/Prague:20251121T190000
DTEND;TZID=Europe/Prague:20251121T220000
DTSTAMP:20260420T015649
CREATED:20251027T094549Z
LAST-MODIFIED:20251027T094549Z
UID:10334-1763751600-1763762400@dnesnivylet.cz
SUMMARY:Dan Bárta & Robert Balzar Trio
DESCRIPTION:Dan Bárta & Robert Balzar Trio se uskuteční dne 2025-11-21 v 19:00 v Humpolec\, Kino. \n🎟️ Koupit vstupenku \n\nZveme vás na koncert populárního zpěváka Dana Bárty a Robert Balzar Tria. \n  \nDan Bárta & Robert Balzar Trio jsou spojením vysoce hodnocené a oblíbené autorské a interpretační formace české jazzové scény a multižánrového zpěváka a autora\, jehož eklektická tvorba koření spíše v rocku a soulu\, jakkoli je její zařazení sem jen orientační vzhledem k těžišti textové tvorby v mateřském jazyce\, češtině. Stylově patří toto spojení někam na pomezí jazzu a popu\, jejich společná tvorba je navíc částečně konceptuální a syntetická. Sestava RBTria se několikrát obměňovala až k dnešní podobě\, kdy RBTrio tvoří kontrabasista Robert Balzar\, pianista Vít Křišťan a hráč na bicí nástroje Kamil Slezák. Dan Bárta s RBTriem spolupracuje od roku 1999\, jejich dílo i oni sami byli mnohokrát oceněni výročními hudebními cenami\, Czech Music Awards\, jak v žánrových\, tak v hlavních kategoriích. Jejich první společná deska\, Theyories\, vyšla v roce 2010\, následovala živá nahrávka Jazz in Box v roce 2015\, pořízená v Düsseldorfu. Kromě své domoviny vystupovali úspěšně v řadě evropských zemí. \n\nTento tip na kulturní akci v Humpolec najdete v přehledu na Dnesnivylet.cz spolu s dalšími koncerty\, festivaly a divadelními představeními.Každý si vybere co se mu líbí. Nezapomeňte koupit vstupenky včas\, stačí kliknout a budete přesměrování na oficiálního prodejce vstupenek.
URL:https://dnesnivylet.cz/event/dan-barta-robert-balzar-trio/
LOCATION:Kino\, Humpolec\, Kino\, Humpolec\, Česká republika
CATEGORIES:Koncert
ATTACH;FMTTYPE=image/jpeg:https://dnesnivylet.cz/wp-content/uploads/2025/10/320-a93243edd2aa4724aaaebfbfc95d4e62.jpg
END:VEVENT
BEGIN:VEVENT
DTSTART;TZID=Europe/Prague:20251119T190000
DTEND;TZID=Europe/Prague:20251119T220000
DTSTAMP:20260420T015649
CREATED:20251103T192536Z
LAST-MODIFIED:20251103T192536Z
UID:11922-1763578800-1763589600@dnesnivylet.cz
SUMMARY:TADY VARY - Není jiná možnost
DESCRIPTION:TADY VARY – Není jiná možnost se uskuteční dne 2025-11-19 v 19:00 v Humpolec\, Kino. \n🎟️ Koupit vstupenku \n\nRežisér Park Chan-wook přináší příběh plný originální akce a typického černého humoru. Co se stane\, když „slušný člověk“ vezme osud do vlastních rukou? Man-su má perfektní život – až do dne\, kdy dostane výpověď. Po letech marného shánění práce přichází s jediným možným plánem\, jak získat vysněné místo: zbavit se konkurence. V hlavní roli září Lee Byung-hun\, hvězda seriálu Hra na oliheň. \n139 min / TITULKY \n\nTento tip na kulturní akci v Humpolec najdete v přehledu na Dnesnivylet.cz spolu s dalšími koncerty\, festivaly a divadelními představeními.Každý si vybere co se mu líbí. Nezapomeňte koupit vstupenky včas\, stačí kliknout a budete přesměrování na oficiálního prodejce vstupenek.
URL:https://dnesnivylet.cz/event/tady-vary-neni-jina-moznost/
LOCATION:Kino\, Humpolec\, Kino\, Humpolec\, Česká republika
CATEGORIES:Zábava
ATTACH;FMTTYPE=image/jpeg:https://dnesnivylet.cz/wp-content/uploads/2025/11/320-ba5d364f2dd44e88b20f39985fbb9173.jpg
END:VEVENT
BEGIN:VEVENT
DTSTART;TZID=Europe/Prague:20251119T093000
DTEND;TZID=Europe/Prague:20251119T123000
DTSTAMP:20260420T015649
CREATED:20251101T134423Z
LAST-MODIFIED:20251101T134423Z
UID:10961-1763544600-1763555400@dnesnivylet.cz
SUMMARY:SENIORKINO - Sbormistr
DESCRIPTION:SENIORKINO – Sbormistr se uskuteční dne 2025-11-19 v 09:30 v Humpolec\, Kino. \n🎟️ Koupit vstupenku \n\nVítězslav Mácha\, charismatický mladý muž s pověstí skvělého\, ale taky autoritářského sbormistra\, vede dívčí pěvecký sbor. Třináctiletá Karolína se v tomto extrémně soutěživém kolektivu snaží prosadit a vyrovnat se tak své starší sestře… \n\nTento tip na kulturní akci v Humpolec najdete v přehledu na Dnesnivylet.cz spolu s dalšími koncerty\, festivaly a divadelními představeními.Každý si vybere co se mu líbí. Nezapomeňte koupit vstupenky včas\, stačí kliknout a budete přesměrování na oficiálního prodejce vstupenek.
URL:https://dnesnivylet.cz/event/seniorkino-sbormistr/
LOCATION:Kino\, Humpolec\, Kino\, Humpolec\, Česká republika
CATEGORIES:Zábava
ATTACH;FMTTYPE=image/jpeg:https://dnesnivylet.cz/wp-content/uploads/2025/11/320-cc440bc764c043179425ac32f7a7d912.jpg
END:VEVENT
BEGIN:VEVENT
DTSTART;TZID=Europe/Prague:20251114T190000
DTEND;TZID=Europe/Prague:20251114T220000
DTSTAMP:20260420T015649
CREATED:20251105T190524Z
LAST-MODIFIED:20251105T190524Z
UID:12475-1763146800-1763157600@dnesnivylet.cz
SUMMARY:DÁMSKÁ JÍZDA: Na horách + delegace
DESCRIPTION:DÁMSKÁ JÍZDA: Na horách + delegace se uskuteční dne 2025-11-14 v 19:00 v Humpolec\, Kino. \n🎟️ Koupit vstupenku \n\nVyrazte s kamarádkami na večer plný smíchu\, emocí a překvapení. Čeká vás welcome drink\, tombola a předpremiéra nové romantické komedie o nečekaném setkání a sebepoznání v nádherné horské krajině – v hlavních rolích Aneta Krejčíková\, Igor Orozovič\, Veronika Khek Kubařová\, Saša Rašilov\, Adéla Gondíková a další. \nPo filmu bude následovat debata s tvůrci (režisér Rudolf Havlík a herec Ondřej Pavelka). \n\nTento tip na kulturní akci v Humpolec najdete v přehledu na Dnesnivylet.cz spolu s dalšími koncerty\, festivaly a divadelními představeními.Každý si vybere co se mu líbí. Nezapomeňte koupit vstupenky včas\, stačí kliknout a budete přesměrování na oficiálního prodejce vstupenek.
URL:https://dnesnivylet.cz/event/damska-jizda-na-horach-delegace/
LOCATION:Kino\, Humpolec\, Kino\, Humpolec\, Česká republika
CATEGORIES:Zábava
ATTACH;FMTTYPE=image/jpeg:https://dnesnivylet.cz/wp-content/uploads/2025/11/320-8fe1da50ca324564b7493543269f603c.jpg
END:VEVENT
BEGIN:VEVENT
DTSTART;TZID=Europe/Prague:20251109T190000
DTEND;TZID=Europe/Prague:20251109T220000
DTSTAMP:20260420T015649
CREATED:20251020T154957Z
LAST-MODIFIED:20251020T154957Z
UID:9278-1762714800-1762725600@dnesnivylet.cz
SUMMARY:Dokud nás milenky nerozdělí
DESCRIPTION:Dokud nás milenky nerozdělí se uskuteční dne 2025-11-09 v 19:00 v Humpolec\, Kino. \n🎟️ Koupit vstupenku \n\nKolik milenek je zapotřebí ke zkáze jednoho manželství? \nRosálie a Francis rekapitulují na svatbě dcery Diany svůj dosavadní manželský život.A určitě by se shodli\, že mají šťastné manželství\, kdyby se ale právě v tento den neprovalilo\, že Francis žije dvojí život. Má totiž milenku! A přes nenadálé snahy ukončit svůj románek a zachránit rodinu\, vybuchují kolem něj jako miny další milostné aférky. Celá rodina se ocitá v groteskním zmatku a příchod nových postav\, pro Francise nejméně žádoucích\, spustí kolotoč dalších bláznivých situací.  \nBrilantně napsaná komedie plná zvratů a záměn od úspěšného francouzského autora. \n  \nFrancis:                                       Vladimír KratinaRosalie:                                       Veronika FreimanováDiana\, jejich dcera:                    Jana Bernášková/ Karolína Vágnerová /                                                                            Týna PrůchováHélene\, Jennifér\, Eva\, milenky: Kateřina Lojdová/                                                     Štepánka KřesťanováTom:                                             Luděk Nešleha \n  \nuvádí Agentura Harlekýn \n\nTento tip na kulturní akci v Humpolec najdete v přehledu na Dnesnivylet.cz spolu s dalšími koncerty\, festivaly a divadelními představeními.Každý si vybere co se mu líbí. Nezapomeňte koupit vstupenky včas\, stačí kliknout a budete přesměrování na oficiálního prodejce vstupenek.
URL:https://dnesnivylet.cz/event/dokud-nas-milenky-nerozdeli/
LOCATION:Kino\, Humpolec\, Kino\, Humpolec\, Česká republika
CATEGORIES:Divadlo
ATTACH;FMTTYPE=image/jpeg:https://dnesnivylet.cz/wp-content/uploads/2025/10/320-2e028931d18243d29378e42155a57718.jpg
END:VEVENT
BEGIN:VEVENT
DTSTART;TZID=Europe/Prague:20251107T190000
DTEND;TZID=Europe/Prague:20251107T220000
DTSTAMP:20260420T015649
CREATED:20251105T192843Z
LAST-MODIFIED:20251105T192843Z
UID:12648-1762542000-1762552800@dnesnivylet.cz
SUMMARY:OPERA V KINĚ - Tosca
DESCRIPTION:OPERA V KINĚ – Tosca se uskuteční dne 2025-11-07 v 19:00 v Humpolec\, Kino. \n🎟️ Koupit vstupenku \n\nVe válkou zmítaném Římě žijí Floria Tosca a Mario Cavaradossi jeden pro druhého a pro své umění. Když však Cavaradossi pomůže uprchlému vězni\, dvojice si znepřátelí nebezpečného protivníka\, barona Scarpiu\, šéfa policie. Tosca je vydána napospas Scarpiovým zvráceným touhám a je nucena uzavřít strašlivou dohodu. Musí se podvolit muži\, kterého nenávidí\, aby zachránila muže\, kterého miluje. Existuje z toho úniku? \nJakub Hrůša diriguje svou první inscenaci v roli hudebního ředitele Královské opery. Nové nastudování Pucciniho klasiky zasazuje režisér a ředitel opery v Covent Garden Oliver Mears do prostředí moderního Říma. V hlavní roli září hvězdná sopranistka Anna Netrebko. \nPředstavení je uváděno v rámci cyklu Opera v kině 2025/2026 včetně možnosti předplatného. \nJedná se o záznam promítaný na plátno kina. \n\nTento tip na kulturní akci v Humpolec najdete v přehledu na Dnesnivylet.cz spolu s dalšími koncerty\, festivaly a divadelními představeními.Každý si vybere co se mu líbí. Nezapomeňte koupit vstupenky včas\, stačí kliknout a budete přesměrování na oficiálního prodejce vstupenek.
URL:https://dnesnivylet.cz/event/opera-v-kine-tosca/
LOCATION:Kino\, Humpolec\, Kino\, Humpolec\, Česká republika
CATEGORIES:Zábava
ATTACH;FMTTYPE=image/jpeg:https://dnesnivylet.cz/wp-content/uploads/2025/11/320-3857c84a2a4b4c6ab9262ea4845355df.jpg
END:VEVENT
BEGIN:VEVENT
DTSTART;TZID=Europe/Prague:20251107T000000
DTEND;TZID=Europe/Prague:20251107T030000
DTSTAMP:20260420T015649
CREATED:20251102T185018Z
LAST-MODIFIED:20251102T185018Z
UID:11294-1762473600-1762484400@dnesnivylet.cz
SUMMARY:OPERA V KINĚ 2025/2026
DESCRIPTION:OPERA V KINĚ 2025/2026 se uskuteční dne 2025-11-07 v 00:00 v Humpolec\, Kino. \n🎟️ Koupit vstupenku \n\nLondýnský Royal Ballet & Opera uvede v nové sezóně 2025/2026 do kin po celém světě výběr 4 inscenací Královské opery. V programu nechybí milované klasiky ani očekávané novinky. \nČtyřdílná operní část obsahuje dvě novinky a dvě dlouholeté klasiky z repertoáru. Sezonu zahájí očekávaná premiéra nové inscenace Pucciniho Toscy v režii ředitele opery v Covent Garden Olivera Mearse. Jde také o první inscenaci\, kterou bude z pozice hudebního ředitele dirigovat Jakub Hrůša. Další premiérou bude v jarní části sezony Siegfried\, třetí část Wagnerova velkolepého Prstenu Nibelungova\, kterou uvádí opět tvůrčí dvojice Barrie Kosky a Antonio Pappano. Sezonu dále doplní Verdiho La traviata v milované inscenaci Richarda Eyrea\, kterou vytvořil již v roce 1994\, a zakončí ji Mozartova Kouzelná flétna v inscenaci Davida McVicara. \nProgram \n\n7. 11. 2025 – 19:00 – Tosca\n27. 2. 2026 – 19:00 – La traviata\n15. 5. 2026 – 19:00 – Siegfried\n5. 6. 2026 – 19:00 – Kouzelná flétna \n\nPředplatné na všechny inscenace za zvýhodněnou cenu 800 Kč je možné zakoupit pouze do 7. 11. 2025 19:30. \nJedná se o záznam promítaný na plátno kina. \nVšechny opery jsou kompletně opatřeny českými titulky\, včetně úvodního slova\, rozhovorů a přestávkového programu. \n  \n\nTento tip na kulturní akci v Humpolec najdete v přehledu na Dnesnivylet.cz spolu s dalšími koncerty\, festivaly a divadelními představeními.Každý si vybere co se mu líbí. Nezapomeňte koupit vstupenky včas\, stačí kliknout a budete přesměrování na oficiálního prodejce vstupenek.
URL:https://dnesnivylet.cz/event/opera-v-kine-2025-2026/
LOCATION:Kino\, Humpolec\, Kino\, Humpolec\, Česká republika
CATEGORIES:Zábava
ATTACH;FMTTYPE=image/jpeg:https://dnesnivylet.cz/wp-content/uploads/2025/11/320-2fafef67272e493eafbe6f5d63e6305b.jpg
END:VEVENT
BEGIN:VEVENT
DTSTART;TZID=Europe/Prague:20251105T093000
DTEND;TZID=Europe/Prague:20251105T123000
DTSTAMP:20260420T015649
CREATED:20251102T123221Z
LAST-MODIFIED:20251102T123222Z
UID:11004-1762335000-1762345800@dnesnivylet.cz
SUMMARY:MIMIKINO - Pod parou
DESCRIPTION:MIMIKINO – Pod parou se uskuteční dne 2025-11-05 v 09:30 v Humpolec\, Malá scéna\, Mikádo. \n🎟️ Koupit vstupenku \n\nOpravdu je na tom lidský organismus nejlépe\, když si udržujeme hladinku 0\,5 promile alkoholu v krvi? Tuto teorii se pomocí bláznivého experimentu rozhodne ověřit čtveřice kamarádek a zároveň učitelek ze střední školy. \n\nTento tip na kulturní akci v Humpolec najdete v přehledu na Dnesnivylet.cz spolu s dalšími koncerty\, festivaly a divadelními představeními.Každý si vybere co se mu líbí. Nezapomeňte koupit vstupenky včas\, stačí kliknout a budete přesměrování na oficiálního prodejce vstupenek.
URL:https://dnesnivylet.cz/event/mimikino-pod-parou/
LOCATION:Malá scéna\, Mikádo\, Humpolec\, Malá scéna\, Mikádo\, Humpolec\, Česká republika
CATEGORIES:Zábava
ATTACH;FMTTYPE=image/jpeg:https://dnesnivylet.cz/wp-content/uploads/2025/11/320-dfcb3d8adc8841b28342ee93fd49ea1f.jpg
END:VEVENT
BEGIN:VEVENT
DTSTART;TZID=Europe/Prague:20251103T170000
DTEND;TZID=Europe/Prague:20251103T200000
DTSTAMP:20260420T015649
CREATED:20251020T073146Z
LAST-MODIFIED:20251020T073147Z
UID:8744-1762189200-1762200000@dnesnivylet.cz
SUMMARY:Přednáška č. 3: MUDr. Marek Dvořák
DESCRIPTION:Přednáška č. 3: MUDr. Marek Dvořák se uskuteční dne 2025-11-03 v 17:00 v Humpolec\, Návštěvnické centrum Bernard. \n🎟️ Koupit vstupenku \n\nCo dělat\, než dorazí záchranka… \nLékař letecké záchranné služby a urgentní medicíny\, mentor a influencer MUDr. Marek Dvořák přijede k nám do Návštěvnického centra Bernard\, aby pobesedoval o zkušenostech s první pomocí zaměřenou na největší priority před tím\, než dorazí profesionální pomoc. \nÚčastníci po setkání např. poznají\, kdy je třeba resuscitace\, jak zachránit někoho\, kdo se dusí nebo jak ochránit svůj vlastní život. \n\nTento tip na kulturní akci v Humpolec najdete v přehledu na Dnesnivylet.cz spolu s dalšími koncerty\, festivaly a divadelními představeními.Každý si vybere co se mu líbí. Nezapomeňte koupit vstupenky včas\, stačí kliknout a budete přesměrování na oficiálního prodejce vstupenek.
URL:https://dnesnivylet.cz/event/prednaska-c-3-mudr-marek-dvorak/
LOCATION:Návštěvnické centrum Bernard\, Humpolec\, Návštěvnické centrum Bernard\, Humpolec\, Česká republika
CATEGORIES:Zábava
ATTACH;FMTTYPE=image/jpeg:https://dnesnivylet.cz/wp-content/uploads/2025/10/320-51fc93dd523f4763a4e6cf6154891d70.jpg
END:VEVENT
END:VCALENDAR