BEGIN:VCALENDAR
VERSION:2.0
PRODID:-//www.dnesnivylet.cz                                                                                                                        Tip na výlet pro celou rodinu. - ECPv6.15.13.1//NONSGML v1.0//EN
CALSCALE:GREGORIAN
METHOD:PUBLISH
X-WR-CALNAME:www.dnesnivylet.cz                                                                                                                        Tip na výlet pro celou rodinu.
X-ORIGINAL-URL:https://dnesnivylet.cz
X-WR-CALDESC:Akce na www.dnesnivylet.cz                                                                                                                        Tip na výlet pro celou rodinu.
REFRESH-INTERVAL;VALUE=DURATION:PT1H
X-Robots-Tag:noindex
X-PUBLISHED-TTL:PT1H
BEGIN:VTIMEZONE
TZID:Europe/Prague
BEGIN:DAYLIGHT
TZOFFSETFROM:+0100
TZOFFSETTO:+0200
TZNAME:CEST
DTSTART:20240331T010000
END:DAYLIGHT
BEGIN:STANDARD
TZOFFSETFROM:+0200
TZOFFSETTO:+0100
TZNAME:CET
DTSTART:20241027T010000
END:STANDARD
BEGIN:DAYLIGHT
TZOFFSETFROM:+0100
TZOFFSETTO:+0200
TZNAME:CEST
DTSTART:20250330T010000
END:DAYLIGHT
BEGIN:STANDARD
TZOFFSETFROM:+0200
TZOFFSETTO:+0100
TZNAME:CET
DTSTART:20251026T010000
END:STANDARD
BEGIN:DAYLIGHT
TZOFFSETFROM:+0100
TZOFFSETTO:+0200
TZNAME:CEST
DTSTART:20260329T010000
END:DAYLIGHT
BEGIN:STANDARD
TZOFFSETFROM:+0200
TZOFFSETTO:+0100
TZNAME:CET
DTSTART:20261025T010000
END:STANDARD
END:VTIMEZONE
BEGIN:VEVENT
DTSTART;TZID=Europe/Prague:20251103T170000
DTEND;TZID=Europe/Prague:20251103T200000
DTSTAMP:20260419T233842
CREATED:20251020T073146Z
LAST-MODIFIED:20251020T073147Z
UID:8744-1762189200-1762200000@dnesnivylet.cz
SUMMARY:Přednáška č. 3: MUDr. Marek Dvořák
DESCRIPTION:Přednáška č. 3: MUDr. Marek Dvořák se uskuteční dne 2025-11-03 v 17:00 v Humpolec\, Návštěvnické centrum Bernard. \n🎟️ Koupit vstupenku \n\nCo dělat\, než dorazí záchranka… \nLékař letecké záchranné služby a urgentní medicíny\, mentor a influencer MUDr. Marek Dvořák přijede k nám do Návštěvnického centra Bernard\, aby pobesedoval o zkušenostech s první pomocí zaměřenou na největší priority před tím\, než dorazí profesionální pomoc. \nÚčastníci po setkání např. poznají\, kdy je třeba resuscitace\, jak zachránit někoho\, kdo se dusí nebo jak ochránit svůj vlastní život. \n\nTento tip na kulturní akci v Humpolec najdete v přehledu na Dnesnivylet.cz spolu s dalšími koncerty\, festivaly a divadelními představeními.Každý si vybere co se mu líbí. Nezapomeňte koupit vstupenky včas\, stačí kliknout a budete přesměrování na oficiálního prodejce vstupenek.
URL:https://dnesnivylet.cz/event/prednaska-c-3-mudr-marek-dvorak/
LOCATION:Návštěvnické centrum Bernard\, Humpolec\, Návštěvnické centrum Bernard\, Humpolec\, Česká republika
CATEGORIES:Zábava
ATTACH;FMTTYPE=image/jpeg:https://dnesnivylet.cz/wp-content/uploads/2025/10/320-51fc93dd523f4763a4e6cf6154891d70.jpg
END:VEVENT
END:VCALENDAR