BEGIN:VCALENDAR
VERSION:2.0
PRODID:-//www.dnesnivylet.cz                                                                                                                        Tip na výlet pro celou rodinu. - ECPv6.15.13.1//NONSGML v1.0//EN
CALSCALE:GREGORIAN
METHOD:PUBLISH
X-WR-CALNAME:www.dnesnivylet.cz                                                                                                                        Tip na výlet pro celou rodinu.
X-ORIGINAL-URL:https://dnesnivylet.cz
X-WR-CALDESC:Akce na www.dnesnivylet.cz                                                                                                                        Tip na výlet pro celou rodinu.
REFRESH-INTERVAL;VALUE=DURATION:PT1H
X-Robots-Tag:noindex
X-PUBLISHED-TTL:PT1H
BEGIN:VTIMEZONE
TZID:Europe/Prague
BEGIN:DAYLIGHT
TZOFFSETFROM:+0100
TZOFFSETTO:+0200
TZNAME:CEST
DTSTART:20240331T010000
END:DAYLIGHT
BEGIN:STANDARD
TZOFFSETFROM:+0200
TZOFFSETTO:+0100
TZNAME:CET
DTSTART:20241027T010000
END:STANDARD
BEGIN:DAYLIGHT
TZOFFSETFROM:+0100
TZOFFSETTO:+0200
TZNAME:CEST
DTSTART:20250330T010000
END:DAYLIGHT
BEGIN:STANDARD
TZOFFSETFROM:+0200
TZOFFSETTO:+0100
TZNAME:CET
DTSTART:20251026T010000
END:STANDARD
BEGIN:DAYLIGHT
TZOFFSETFROM:+0100
TZOFFSETTO:+0200
TZNAME:CEST
DTSTART:20260329T010000
END:DAYLIGHT
BEGIN:STANDARD
TZOFFSETFROM:+0200
TZOFFSETTO:+0100
TZNAME:CET
DTSTART:20261025T010000
END:STANDARD
END:VTIMEZONE
BEGIN:VEVENT
DTSTART;TZID=Europe/Prague:20251109T190000
DTEND;TZID=Europe/Prague:20251109T220000
DTSTAMP:20260420T010027
CREATED:20251020T154957Z
LAST-MODIFIED:20251020T154957Z
UID:9278-1762714800-1762725600@dnesnivylet.cz
SUMMARY:Dokud nás milenky nerozdělí
DESCRIPTION:Dokud nás milenky nerozdělí se uskuteční dne 2025-11-09 v 19:00 v Humpolec\, Kino. \n🎟️ Koupit vstupenku \n\nKolik milenek je zapotřebí ke zkáze jednoho manželství? \nRosálie a Francis rekapitulují na svatbě dcery Diany svůj dosavadní manželský život.A určitě by se shodli\, že mají šťastné manželství\, kdyby se ale právě v tento den neprovalilo\, že Francis žije dvojí život. Má totiž milenku! A přes nenadálé snahy ukončit svůj románek a zachránit rodinu\, vybuchují kolem něj jako miny další milostné aférky. Celá rodina se ocitá v groteskním zmatku a příchod nových postav\, pro Francise nejméně žádoucích\, spustí kolotoč dalších bláznivých situací.  \nBrilantně napsaná komedie plná zvratů a záměn od úspěšného francouzského autora. \n  \nFrancis:                                       Vladimír KratinaRosalie:                                       Veronika FreimanováDiana\, jejich dcera:                    Jana Bernášková/ Karolína Vágnerová /                                                                            Týna PrůchováHélene\, Jennifér\, Eva\, milenky: Kateřina Lojdová/                                                     Štepánka KřesťanováTom:                                             Luděk Nešleha \n  \nuvádí Agentura Harlekýn \n\nTento tip na kulturní akci v Humpolec najdete v přehledu na Dnesnivylet.cz spolu s dalšími koncerty\, festivaly a divadelními představeními.Každý si vybere co se mu líbí. Nezapomeňte koupit vstupenky včas\, stačí kliknout a budete přesměrování na oficiálního prodejce vstupenek.
URL:https://dnesnivylet.cz/event/dokud-nas-milenky-nerozdeli/
LOCATION:Kino\, Humpolec\, Kino\, Humpolec\, Česká republika
CATEGORIES:Divadlo
ATTACH;FMTTYPE=image/jpeg:https://dnesnivylet.cz/wp-content/uploads/2025/10/320-2e028931d18243d29378e42155a57718.jpg
END:VEVENT
BEGIN:VEVENT
DTSTART;TZID=Europe/Prague:20251107T190000
DTEND;TZID=Europe/Prague:20251107T220000
DTSTAMP:20260420T010027
CREATED:20251105T192843Z
LAST-MODIFIED:20251105T192843Z
UID:12648-1762542000-1762552800@dnesnivylet.cz
SUMMARY:OPERA V KINĚ - Tosca
DESCRIPTION:OPERA V KINĚ – Tosca se uskuteční dne 2025-11-07 v 19:00 v Humpolec\, Kino. \n🎟️ Koupit vstupenku \n\nVe válkou zmítaném Římě žijí Floria Tosca a Mario Cavaradossi jeden pro druhého a pro své umění. Když však Cavaradossi pomůže uprchlému vězni\, dvojice si znepřátelí nebezpečného protivníka\, barona Scarpiu\, šéfa policie. Tosca je vydána napospas Scarpiovým zvráceným touhám a je nucena uzavřít strašlivou dohodu. Musí se podvolit muži\, kterého nenávidí\, aby zachránila muže\, kterého miluje. Existuje z toho úniku? \nJakub Hrůša diriguje svou první inscenaci v roli hudebního ředitele Královské opery. Nové nastudování Pucciniho klasiky zasazuje režisér a ředitel opery v Covent Garden Oliver Mears do prostředí moderního Říma. V hlavní roli září hvězdná sopranistka Anna Netrebko. \nPředstavení je uváděno v rámci cyklu Opera v kině 2025/2026 včetně možnosti předplatného. \nJedná se o záznam promítaný na plátno kina. \n\nTento tip na kulturní akci v Humpolec najdete v přehledu na Dnesnivylet.cz spolu s dalšími koncerty\, festivaly a divadelními představeními.Každý si vybere co se mu líbí. Nezapomeňte koupit vstupenky včas\, stačí kliknout a budete přesměrování na oficiálního prodejce vstupenek.
URL:https://dnesnivylet.cz/event/opera-v-kine-tosca/
LOCATION:Kino\, Humpolec\, Kino\, Humpolec\, Česká republika
CATEGORIES:Zábava
ATTACH;FMTTYPE=image/jpeg:https://dnesnivylet.cz/wp-content/uploads/2025/11/320-3857c84a2a4b4c6ab9262ea4845355df.jpg
END:VEVENT
BEGIN:VEVENT
DTSTART;TZID=Europe/Prague:20251107T000000
DTEND;TZID=Europe/Prague:20251107T030000
DTSTAMP:20260420T010027
CREATED:20251102T185018Z
LAST-MODIFIED:20251102T185018Z
UID:11294-1762473600-1762484400@dnesnivylet.cz
SUMMARY:OPERA V KINĚ 2025/2026
DESCRIPTION:OPERA V KINĚ 2025/2026 se uskuteční dne 2025-11-07 v 00:00 v Humpolec\, Kino. \n🎟️ Koupit vstupenku \n\nLondýnský Royal Ballet & Opera uvede v nové sezóně 2025/2026 do kin po celém světě výběr 4 inscenací Královské opery. V programu nechybí milované klasiky ani očekávané novinky. \nČtyřdílná operní část obsahuje dvě novinky a dvě dlouholeté klasiky z repertoáru. Sezonu zahájí očekávaná premiéra nové inscenace Pucciniho Toscy v režii ředitele opery v Covent Garden Olivera Mearse. Jde také o první inscenaci\, kterou bude z pozice hudebního ředitele dirigovat Jakub Hrůša. Další premiérou bude v jarní části sezony Siegfried\, třetí část Wagnerova velkolepého Prstenu Nibelungova\, kterou uvádí opět tvůrčí dvojice Barrie Kosky a Antonio Pappano. Sezonu dále doplní Verdiho La traviata v milované inscenaci Richarda Eyrea\, kterou vytvořil již v roce 1994\, a zakončí ji Mozartova Kouzelná flétna v inscenaci Davida McVicara. \nProgram \n\n7. 11. 2025 – 19:00 – Tosca\n27. 2. 2026 – 19:00 – La traviata\n15. 5. 2026 – 19:00 – Siegfried\n5. 6. 2026 – 19:00 – Kouzelná flétna \n\nPředplatné na všechny inscenace za zvýhodněnou cenu 800 Kč je možné zakoupit pouze do 7. 11. 2025 19:30. \nJedná se o záznam promítaný na plátno kina. \nVšechny opery jsou kompletně opatřeny českými titulky\, včetně úvodního slova\, rozhovorů a přestávkového programu. \n  \n\nTento tip na kulturní akci v Humpolec najdete v přehledu na Dnesnivylet.cz spolu s dalšími koncerty\, festivaly a divadelními představeními.Každý si vybere co se mu líbí. Nezapomeňte koupit vstupenky včas\, stačí kliknout a budete přesměrování na oficiálního prodejce vstupenek.
URL:https://dnesnivylet.cz/event/opera-v-kine-2025-2026/
LOCATION:Kino\, Humpolec\, Kino\, Humpolec\, Česká republika
CATEGORIES:Zábava
ATTACH;FMTTYPE=image/jpeg:https://dnesnivylet.cz/wp-content/uploads/2025/11/320-2fafef67272e493eafbe6f5d63e6305b.jpg
END:VEVENT
BEGIN:VEVENT
DTSTART;TZID=Europe/Prague:20251105T093000
DTEND;TZID=Europe/Prague:20251105T123000
DTSTAMP:20260420T010027
CREATED:20251102T123221Z
LAST-MODIFIED:20251102T123222Z
UID:11004-1762335000-1762345800@dnesnivylet.cz
SUMMARY:MIMIKINO - Pod parou
DESCRIPTION:MIMIKINO – Pod parou se uskuteční dne 2025-11-05 v 09:30 v Humpolec\, Malá scéna\, Mikádo. \n🎟️ Koupit vstupenku \n\nOpravdu je na tom lidský organismus nejlépe\, když si udržujeme hladinku 0\,5 promile alkoholu v krvi? Tuto teorii se pomocí bláznivého experimentu rozhodne ověřit čtveřice kamarádek a zároveň učitelek ze střední školy. \n\nTento tip na kulturní akci v Humpolec najdete v přehledu na Dnesnivylet.cz spolu s dalšími koncerty\, festivaly a divadelními představeními.Každý si vybere co se mu líbí. Nezapomeňte koupit vstupenky včas\, stačí kliknout a budete přesměrování na oficiálního prodejce vstupenek.
URL:https://dnesnivylet.cz/event/mimikino-pod-parou/
LOCATION:Malá scéna\, Mikádo\, Humpolec\, Malá scéna\, Mikádo\, Humpolec\, Česká republika
CATEGORIES:Zábava
ATTACH;FMTTYPE=image/jpeg:https://dnesnivylet.cz/wp-content/uploads/2025/11/320-dfcb3d8adc8841b28342ee93fd49ea1f.jpg
END:VEVENT
BEGIN:VEVENT
DTSTART;TZID=Europe/Prague:20251103T170000
DTEND;TZID=Europe/Prague:20251103T200000
DTSTAMP:20260420T010027
CREATED:20251020T073146Z
LAST-MODIFIED:20251020T073147Z
UID:8744-1762189200-1762200000@dnesnivylet.cz
SUMMARY:Přednáška č. 3: MUDr. Marek Dvořák
DESCRIPTION:Přednáška č. 3: MUDr. Marek Dvořák se uskuteční dne 2025-11-03 v 17:00 v Humpolec\, Návštěvnické centrum Bernard. \n🎟️ Koupit vstupenku \n\nCo dělat\, než dorazí záchranka… \nLékař letecké záchranné služby a urgentní medicíny\, mentor a influencer MUDr. Marek Dvořák přijede k nám do Návštěvnického centra Bernard\, aby pobesedoval o zkušenostech s první pomocí zaměřenou na největší priority před tím\, než dorazí profesionální pomoc. \nÚčastníci po setkání např. poznají\, kdy je třeba resuscitace\, jak zachránit někoho\, kdo se dusí nebo jak ochránit svůj vlastní život. \n\nTento tip na kulturní akci v Humpolec najdete v přehledu na Dnesnivylet.cz spolu s dalšími koncerty\, festivaly a divadelními představeními.Každý si vybere co se mu líbí. Nezapomeňte koupit vstupenky včas\, stačí kliknout a budete přesměrování na oficiálního prodejce vstupenek.
URL:https://dnesnivylet.cz/event/prednaska-c-3-mudr-marek-dvorak/
LOCATION:Návštěvnické centrum Bernard\, Humpolec\, Návštěvnické centrum Bernard\, Humpolec\, Česká republika
CATEGORIES:Zábava
ATTACH;FMTTYPE=image/jpeg:https://dnesnivylet.cz/wp-content/uploads/2025/10/320-51fc93dd523f4763a4e6cf6154891d70.jpg
END:VEVENT
END:VCALENDAR