BEGIN:VCALENDAR
VERSION:2.0
PRODID:-//www.dnesnivylet.cz                                                                                                                        Tip na výlet pro celou rodinu. - ECPv6.15.13.1//NONSGML v1.0//EN
CALSCALE:GREGORIAN
METHOD:PUBLISH
X-ORIGINAL-URL:https://dnesnivylet.cz
X-WR-CALDESC:Akce na www.dnesnivylet.cz                                                                                                                        Tip na výlet pro celou rodinu.
REFRESH-INTERVAL;VALUE=DURATION:PT1H
X-Robots-Tag:noindex
X-PUBLISHED-TTL:PT1H
BEGIN:VTIMEZONE
TZID:Europe/Prague
BEGIN:DAYLIGHT
TZOFFSETFROM:+0100
TZOFFSETTO:+0200
TZNAME:CEST
DTSTART:20250330T010000
END:DAYLIGHT
BEGIN:STANDARD
TZOFFSETFROM:+0200
TZOFFSETTO:+0100
TZNAME:CET
DTSTART:20251026T010000
END:STANDARD
BEGIN:DAYLIGHT
TZOFFSETFROM:+0100
TZOFFSETTO:+0200
TZNAME:CEST
DTSTART:20260329T010000
END:DAYLIGHT
BEGIN:STANDARD
TZOFFSETFROM:+0200
TZOFFSETTO:+0100
TZNAME:CET
DTSTART:20261025T010000
END:STANDARD
BEGIN:DAYLIGHT
TZOFFSETFROM:+0100
TZOFFSETTO:+0200
TZNAME:CEST
DTSTART:20270328T010000
END:DAYLIGHT
BEGIN:STANDARD
TZOFFSETFROM:+0200
TZOFFSETTO:+0100
TZNAME:CET
DTSTART:20271031T010000
END:STANDARD
END:VTIMEZONE
BEGIN:VEVENT
DTSTART;TZID=Europe/Prague:20260311T170000
DTEND;TZID=Europe/Prague:20260311T200000
DTSTAMP:20260419T140653
CREATED:20251108T170123Z
LAST-MODIFIED:20251108T170123Z
UID:12905-1773248400-1773259200@dnesnivylet.cz
SUMMARY:Škola vaření s Romanem Paulusem - Asijská kuchyně
DESCRIPTION:Škola vaření s Romanem Paulusem – Asijská kuchyně se uskuteční dne 2026-03-11 v 17:00 v Olomouc\, Bistro Paulus. \n🎟️ Koupit vstupenku \n\nVítejte ve škole vaření s Romanem Paulusem! \nTentokrát se v kurzu vaření zaměříme na asijskou kuchyni.  \nMůžete se těšit na sushi maki\, polévka Tom Yum\, knedlíčky Gyoza\, indické kuřecí kari a nakonec si uvaříte černou rýži s mangem. \nKromě konkrétních receptů si odnesete také řadu cenných tipů od Romana Pauluse. \nV každém kurzu se pod vedením michelinského Romana Pauluse a šéfkuchaře Petra Stokláska naučíte připravit výtečné čtyřchodové menu. Kromě hodin strávených u plotny si odnesete i spoustu užitečných teoretických znalostí\, krásný zážitek\, sadu receptů a podepsaný certifikát.  \nO alko a nealko režim bude po celou dobu postaráno. \nKurzy probíhají od 17 do 21 hodin v malých skupinkách (max. 18 osob) a díky tomu budete mít plnou pozornost našich šéfů.  \nTěšíme se na vás v úžasných nových prostorách Bistro Paulus. \nPartnerem školy vaření s Romanem Paulusem je Tescoma. \n—- \n  \nNa každé akci bude pořizován obrazový záznam pro marketingové účely. Pořízené záznamy můžou být použity zejména na našem webu a sociálních sítích. \n\nTento tip na kulturní akci v Olomouc najdete v přehledu na Dnesnivylet.cz spolu s dalšími koncerty\, festivaly a divadelními představeními.Každý si vybere co se mu líbí. Nezapomeňte koupit vstupenky včas\, stačí kliknout a budete přesměrování na oficiálního prodejce vstupenek.
URL:https://dnesnivylet.cz/event/skola-vareni-s-romanem-paulusem-asijska-kuchyne/
LOCATION:Bistro Paulus\, Olomouc\, Bistro Paulus\, Olomouc\, Česká republika
CATEGORIES:Zábava
ATTACH;FMTTYPE=image/jpeg:https://dnesnivylet.cz/wp-content/uploads/2025/11/320-52d747aa63a44ee8aea48e63661b509f.jpg
END:VEVENT
BEGIN:VEVENT
DTSTART;TZID=Europe/Prague:20260312T170000
DTEND;TZID=Europe/Prague:20260312T200000
DTSTAMP:20260419T140653
CREATED:20251222T145913Z
LAST-MODIFIED:20251222T145914Z
UID:15906-1773334800-1773345600@dnesnivylet.cz
SUMMARY:Škola vaření s Romanem Paulusem - Asijská kuchyně
DESCRIPTION:Škola vaření s Romanem Paulusem – Asijská kuchyně se uskuteční dne 2026-03-12 v 17:00 v Olomouc\, Bistro Paulus. \n🎟️ Koupit vstupenku \n\nVítejte ve škole vaření s Romanem Paulusem! \nTentokrát se v kurzu vaření zaměříme na asijskou kuchyni.  \nMůžete se těšit na sushi maki\, polévka Tom Yum\, knedlíčky Gyoza\, indické kuřecí kari a nakonec si uvaříte černou rýži s mangem. \nKromě konkrétních receptů si odnesete také řadu cenných tipů od Romana Pauluse. \nV každém kurzu se pod vedením michelinského Romana Pauluse a šéfkuchaře Petra Stokláska naučíte připravit výtečné čtyřchodové menu. Kromě hodin strávených u plotny si odnesete i spoustu užitečných teoretických znalostí\, krásný zážitek\, sadu receptů a podepsaný certifikát.  \nO alko a nealko režim bude po celou dobu postaráno. \nKurzy probíhají od 17 do 21 hodin v malých skupinkách (max. 18 osob) a díky tomu budete mít plnou pozornost našich šéfů.  \nTěšíme se na vás v úžasných nových prostorách Bistro Paulus. \nPartnerem školy vaření s Romanem Paulusem je Tescoma. \n—- \n  \nNa každé akci bude pořizován obrazový záznam pro marketingové účely. Pořízené záznamy můžou být použity zejména na našem webu a sociálních sítích. \n\nTento tip na kulturní akci v Olomouc najdete v přehledu na Dnesnivylet.cz spolu s dalšími koncerty\, festivaly a divadelními představeními.Každý si vybere co se mu líbí. Nezapomeňte koupit vstupenky včas\, stačí kliknout a budete přesměrování na oficiálního prodejce vstupenek.
URL:https://dnesnivylet.cz/event/skola-vareni-s-romanem-paulusem-asijska-kuchyne-2/
LOCATION:Bistro Paulus\, Olomouc\, Bistro Paulus\, Olomouc\, Česká republika
CATEGORIES:Zábava
ATTACH;FMTTYPE=image/jpeg:https://dnesnivylet.cz/wp-content/uploads/2025/12/320-300e71b445e344ff8a6b530966b4f686.jpg
END:VEVENT
BEGIN:VEVENT
DTSTART;TZID=Europe/Prague:20260319T180000
DTEND;TZID=Europe/Prague:20260319T210000
DTSTAMP:20260419T140653
CREATED:20251212T185722Z
LAST-MODIFIED:20251212T185723Z
UID:14949-1773943200-1773954000@dnesnivylet.cz
SUMMARY:Asijská degustace s Romanem Paulusem a Lukášem Želechovským
DESCRIPTION:Asijská degustace s Romanem Paulusem a Lukášem Želechovským se uskuteční dne 2026-03-19 v 18:00 v Olomouc\, Bistro Paulus. \n🎟️ Koupit vstupenku \n\nVydejte se s námi na chuťovou cestu po Asii pod vedením Romana Pauluse a Lukáše Želechovského. \nČeká vás šest chodů inspirovaných asijskou kuchyní\, doplněných o pečlivě vybrané víno ke každému z nich. Večer plný vůní\, barev a chutí\, které propojují precizní kuchařské řemeslo s lehkostí a elegancí Asie. \n  \n6 CHODOVÉ DEGUSTAČNÍ MENU \nLososový tartar s avokádovým purée\, wasabi ponzu a rýžovými chipsyCote & Mer Blanc\, Château des Bormettes\, Provence\, Francie  \nAburi nigiri a san chan rolkaVerdicchio di Castelli di Jesi\, Garofoli\, Marche\, Itálie  \nKachní gyoza s lanýžovou teriyaki omáčkouRiesling Feinherb\, Liebieg\, Mosel\, Německo  \nChilský okoun marinovaný v pomerančovém miso se šafránovou rýžíGrüner Veltliner Schweren Zapfen Reserve\, Rudi Fritz\, Kremstal\, Rakousko  \nNízký hovězí roštěnec s červeným kari\, vodními kaštany a bok choyBarbera d’Asti L’Avvocata\, Coppo\, Piemonte\, Itálie \nČokoládovo–sezamové tyčinky s kokosovou zmrzlinou \nOzeki sake Karatanba Honjyozo \nTěšíme se na vás! \n— \nNa každé akci bude pořizován obrazový záznam pro marketingové účely. Pořízené záznamy můžou být použity zejména na našem webu a sociálních sítích. \n  \n\nTento tip na kulturní akci v Olomouc najdete v přehledu na Dnesnivylet.cz spolu s dalšími koncerty\, festivaly a divadelními představeními.Každý si vybere co se mu líbí. Nezapomeňte koupit vstupenky včas\, stačí kliknout a budete přesměrování na oficiálního prodejce vstupenek.
URL:https://dnesnivylet.cz/event/asijska-degustace-s-romanem-paulusem-a-lukasem-zelechovskym/
LOCATION:Bistro Paulus\, Olomouc\, Bistro Paulus\, Olomouc\, Česká republika
CATEGORIES:Festival
ATTACH;FMTTYPE=image/jpeg:https://dnesnivylet.cz/wp-content/uploads/2025/12/320-8fa462ad8b414e5d9863154379af7bb6.jpg
END:VEVENT
END:VCALENDAR