BEGIN:VCALENDAR
VERSION:2.0
PRODID:-//www.dnesnivylet.cz                                                                                                                        Tip na výlet pro celou rodinu. - ECPv6.15.13.1//NONSGML v1.0//EN
CALSCALE:GREGORIAN
METHOD:PUBLISH
X-WR-CALNAME:www.dnesnivylet.cz                                                                                                                        Tip na výlet pro celou rodinu.
X-ORIGINAL-URL:https://dnesnivylet.cz
X-WR-CALDESC:Akce na www.dnesnivylet.cz                                                                                                                        Tip na výlet pro celou rodinu.
REFRESH-INTERVAL;VALUE=DURATION:PT1H
X-Robots-Tag:noindex
X-PUBLISHED-TTL:PT1H
BEGIN:VTIMEZONE
TZID:Europe/Prague
BEGIN:DAYLIGHT
TZOFFSETFROM:+0100
TZOFFSETTO:+0200
TZNAME:CEST
DTSTART:20250330T010000
END:DAYLIGHT
BEGIN:STANDARD
TZOFFSETFROM:+0200
TZOFFSETTO:+0100
TZNAME:CET
DTSTART:20251026T010000
END:STANDARD
BEGIN:DAYLIGHT
TZOFFSETFROM:+0100
TZOFFSETTO:+0200
TZNAME:CEST
DTSTART:20260329T010000
END:DAYLIGHT
BEGIN:STANDARD
TZOFFSETFROM:+0200
TZOFFSETTO:+0100
TZNAME:CET
DTSTART:20261025T010000
END:STANDARD
BEGIN:DAYLIGHT
TZOFFSETFROM:+0100
TZOFFSETTO:+0200
TZNAME:CEST
DTSTART:20270328T010000
END:DAYLIGHT
BEGIN:STANDARD
TZOFFSETFROM:+0200
TZOFFSETTO:+0100
TZNAME:CET
DTSTART:20271031T010000
END:STANDARD
END:VTIMEZONE
BEGIN:VEVENT
DTSTART;TZID=Europe/Prague:20260225T170000
DTEND;TZID=Europe/Prague:20260225T200000
DTSTAMP:20260419T153243
CREATED:20251108T170123Z
LAST-MODIFIED:20251108T170124Z
UID:12908-1772038800-1772049600@dnesnivylet.cz
SUMMARY:Škola vaření s Romanem Paulusem - Italská kuchyně
DESCRIPTION:Škola vaření s Romanem Paulusem – Italská kuchyně se uskuteční dne 2026-02-25 v 17:00 v Olomouc\, Bistro Paulus. \n🎟️ Koupit vstupenku \n\nVítejte ve škole vaření s Romanem Paulusem! \nTentokrát se v kurzu vaření zaměříme na italskou kuchyni.  \nMůžete se těšit na telecí carpaccio vitello tonnato\, spaghetti Carbonara\, šafránové risotto s krevetami\, bramborové noky s kančím ragú a nakonec jablečný koláč s karamelem. \nVzpomínáte na letní dovolenou v Itálii a speciality\, které jste tam ochutnali? Přijďte na kurz italské gastronomie a naučte se postupy a vychytávky při přípravě jídel z Apeninského poloostrova od těch nejzkušenějších. Odnesete si zkušenosti a rady\, které vás posunou do nejvyšší italské ligy. \nV kurzu se pod vedením michelinského šéfa Romana Pauluse a šéfkuchaře Petra Stokláska naučíte připravit výtečné 5-chodové menu. Kromě příjemně strávených chvil u plotny si odnesete i spoustu užitečných praktických znalostí\, krásných zážitků\, sadu receptů a podepsaný certifikát.  \nO alko a nealko režim bude po celou dobu postaráno. \nKurzy probíhají od 17 do 21 hodin v malých skupinkách a díky tomu budete mít plnou pozornost našich šéfů.  \nTěšíme se na vás ve stylových prostorách Bistro Paulus. \nPartnerem školy vaření s Romanem Paulusem je Tescoma. \nVstupenka je platná pro jednu osobu. \n—- \n  \nNa každé akci bude pořizován obrazový záznam pro marketingové účely. Pořízené záznamy můžou být použity zejména na našem webu a sociálních sítích \n\nTento tip na kulturní akci v Olomouc najdete v přehledu na Dnesnivylet.cz spolu s dalšími koncerty\, festivaly a divadelními představeními.Každý si vybere co se mu líbí. Nezapomeňte koupit vstupenky včas\, stačí kliknout a budete přesměrování na oficiálního prodejce vstupenek.
URL:https://dnesnivylet.cz/event/skola-vareni-s-romanem-paulusem-italska-kuchyne/
LOCATION:Bistro Paulus\, Olomouc\, Bistro Paulus\, Olomouc\, Česká republika
CATEGORIES:Zábava
ATTACH;FMTTYPE=image/jpeg:https://dnesnivylet.cz/wp-content/uploads/2025/11/320-51120d807bdc418ba69bf3149b4f39ff.jpg
END:VEVENT
END:VCALENDAR