BEGIN:VCALENDAR
VERSION:2.0
PRODID:-//www.dnesnivylet.cz                                                                                                                        Tip na výlet pro celou rodinu. - ECPv6.15.13.1//NONSGML v1.0//EN
CALSCALE:GREGORIAN
METHOD:PUBLISH
X-WR-CALNAME:www.dnesnivylet.cz                                                                                                                        Tip na výlet pro celou rodinu.
X-ORIGINAL-URL:https://dnesnivylet.cz
X-WR-CALDESC:Akce na www.dnesnivylet.cz                                                                                                                        Tip na výlet pro celou rodinu.
REFRESH-INTERVAL;VALUE=DURATION:PT1H
X-Robots-Tag:noindex
X-PUBLISHED-TTL:PT1H
BEGIN:VTIMEZONE
TZID:Europe/Prague
BEGIN:DAYLIGHT
TZOFFSETFROM:+0100
TZOFFSETTO:+0200
TZNAME:CEST
DTSTART:20250330T010000
END:DAYLIGHT
BEGIN:STANDARD
TZOFFSETFROM:+0200
TZOFFSETTO:+0100
TZNAME:CET
DTSTART:20251026T010000
END:STANDARD
BEGIN:DAYLIGHT
TZOFFSETFROM:+0100
TZOFFSETTO:+0200
TZNAME:CEST
DTSTART:20260329T010000
END:DAYLIGHT
BEGIN:STANDARD
TZOFFSETFROM:+0200
TZOFFSETTO:+0100
TZNAME:CET
DTSTART:20261025T010000
END:STANDARD
BEGIN:DAYLIGHT
TZOFFSETFROM:+0100
TZOFFSETTO:+0200
TZNAME:CEST
DTSTART:20270328T010000
END:DAYLIGHT
BEGIN:STANDARD
TZOFFSETFROM:+0200
TZOFFSETTO:+0100
TZNAME:CET
DTSTART:20271031T010000
END:STANDARD
END:VTIMEZONE
BEGIN:VEVENT
DTSTART;TZID=Europe/Prague:20260228T093000
DTEND;TZID=Europe/Prague:20260228T123000
DTSTAMP:20260419T153243
CREATED:20251129T073740Z
LAST-MODIFIED:20251129T073741Z
UID:14217-1772271000-1772281800@dnesnivylet.cz
SUMMARY:Slavnosti moravského uzeného v Brně 2026
DESCRIPTION:Slavnosti moravského uzeného v Brně 2026 se uskuteční dne 2026-02-28 v 09:30 v Veverská Bítýška\, Státní Hrad Veveří. \n🎟️ Koupit vstupenku \n\nŽádné stání ve frontě\, se vstupenkou z předprodeje rovnou za uzeným. \nZakupte si vstupenku a využíjte ji v sobotu nebo v neděli. \nNejvětší uzenářsko-vinařská show (možná) na světě\, v Česku určitě.   \nV neděli speciální dětský program a rodinné vstupné! \n  \nSlavnosti moravského uzeného na hradě Veveří – 12. ročník!  \nPřijďte si užít jedinečný gurmánský zážitek s dlouholetou tradicí. V roce 2026 budeme slavit už 12. ročník této mimořádné akce\, která je jediná svého druhu v celé České republice\, možná dokonce na světě!  \nNa co se můžete těšit? Nejlepší uzenáři z celé Moravy vám představí své mistrovské uzené výrobky\, které budete moci ochutnat a zakoupit\, chystáme novou pivní zónu s vyhlášenými minipivovary. K tomu se připojí vinařský stan s těmi nejlepšími víny z jižní Moravy\, která dokonale doplní chuť našich uzených specialit.  \nNechybí ani řemeslný a food trh plný regionálních pochoutek\, a v naší food zóně se můžete těšit na vymazlená jídla z uzeného masa. Pivní nadšenci ocení ochutnávky od minipivovarů\, které přivezou to nejlepší z řemeslného piva.  \nV neděli speciální dětský program a rodinné vstupné! \n\nsoutěžní ochutnávka uzeného od předních moravských podniků – hlasování o Uzenářského krále roku\nrodinná vinařství nabízejí svá skvělá vína\nsoutěž neprofesionálů o nejlepší moravské uzené\nrozsáhlá nabídka klobás a dalších moravských uzenářských výrobků\nneděle pro rodiny s dětmi\njak se co dělá? moravská zabíjačka\, workshopy s mistry řezníky\npolévka zdarma pro každého\nsoutěže a program pro děti\n\nZakoupením vstupenky souhlasíte s návštěvním řádem akce \n\nTento tip na kulturní akci v Veverská Bítýška najdete v přehledu na Dnesnivylet.cz spolu s dalšími koncerty\, festivaly a divadelními představeními.Každý si vybere co se mu líbí. Nezapomeňte koupit vstupenky včas\, stačí kliknout a budete přesměrování na oficiálního prodejce vstupenek.
URL:https://dnesnivylet.cz/event/slavnosti-moravskeho-uzeneho-v-brne-2026/
LOCATION:Státní Hrad Veveří\, Veverská Bítýška\, Státní Hrad Veveří\, Veverská Bítýška\, Česká republika
CATEGORIES:Festival
ATTACH;FMTTYPE=image/jpeg:https://dnesnivylet.cz/wp-content/uploads/2025/11/320-95bbf45810fc48418d2dba6a3d3176ba.jpg
END:VEVENT
END:VCALENDAR