BEGIN:VCALENDAR
VERSION:2.0
PRODID:-//www.dnesnivylet.cz                                                                                                                        Tip na výlet pro celou rodinu. - ECPv6.15.13.1//NONSGML v1.0//EN
CALSCALE:GREGORIAN
METHOD:PUBLISH
X-WR-CALNAME:www.dnesnivylet.cz                                                                                                                        Tip na výlet pro celou rodinu.
X-ORIGINAL-URL:https://dnesnivylet.cz
X-WR-CALDESC:Akce na www.dnesnivylet.cz                                                                                                                        Tip na výlet pro celou rodinu.
REFRESH-INTERVAL;VALUE=DURATION:PT1H
X-Robots-Tag:noindex
X-PUBLISHED-TTL:PT1H
BEGIN:VTIMEZONE
TZID:Europe/Prague
BEGIN:DAYLIGHT
TZOFFSETFROM:+0100
TZOFFSETTO:+0200
TZNAME:CEST
DTSTART:20250330T010000
END:DAYLIGHT
BEGIN:STANDARD
TZOFFSETFROM:+0200
TZOFFSETTO:+0100
TZNAME:CET
DTSTART:20251026T010000
END:STANDARD
BEGIN:DAYLIGHT
TZOFFSETFROM:+0100
TZOFFSETTO:+0200
TZNAME:CEST
DTSTART:20260329T010000
END:DAYLIGHT
BEGIN:STANDARD
TZOFFSETFROM:+0200
TZOFFSETTO:+0100
TZNAME:CET
DTSTART:20261025T010000
END:STANDARD
BEGIN:DAYLIGHT
TZOFFSETFROM:+0100
TZOFFSETTO:+0200
TZNAME:CEST
DTSTART:20270328T010000
END:DAYLIGHT
BEGIN:STANDARD
TZOFFSETFROM:+0200
TZOFFSETTO:+0100
TZNAME:CET
DTSTART:20271031T010000
END:STANDARD
END:VTIMEZONE
BEGIN:VEVENT
DTSTART;TZID=Europe/Prague:20260311T170000
DTEND;TZID=Europe/Prague:20260311T200000
DTSTAMP:20260419T153002
CREATED:20251108T170123Z
LAST-MODIFIED:20251108T170123Z
UID:12905-1773248400-1773259200@dnesnivylet.cz
SUMMARY:Škola vaření s Romanem Paulusem - Asijská kuchyně
DESCRIPTION:Škola vaření s Romanem Paulusem – Asijská kuchyně se uskuteční dne 2026-03-11 v 17:00 v Olomouc\, Bistro Paulus. \n🎟️ Koupit vstupenku \n\nVítejte ve škole vaření s Romanem Paulusem! \nTentokrát se v kurzu vaření zaměříme na asijskou kuchyni.  \nMůžete se těšit na sushi maki\, polévka Tom Yum\, knedlíčky Gyoza\, indické kuřecí kari a nakonec si uvaříte černou rýži s mangem. \nKromě konkrétních receptů si odnesete také řadu cenných tipů od Romana Pauluse. \nV každém kurzu se pod vedením michelinského Romana Pauluse a šéfkuchaře Petra Stokláska naučíte připravit výtečné čtyřchodové menu. Kromě hodin strávených u plotny si odnesete i spoustu užitečných teoretických znalostí\, krásný zážitek\, sadu receptů a podepsaný certifikát.  \nO alko a nealko režim bude po celou dobu postaráno. \nKurzy probíhají od 17 do 21 hodin v malých skupinkách (max. 18 osob) a díky tomu budete mít plnou pozornost našich šéfů.  \nTěšíme se na vás v úžasných nových prostorách Bistro Paulus. \nPartnerem školy vaření s Romanem Paulusem je Tescoma. \n—- \n  \nNa každé akci bude pořizován obrazový záznam pro marketingové účely. Pořízené záznamy můžou být použity zejména na našem webu a sociálních sítích. \n\nTento tip na kulturní akci v Olomouc najdete v přehledu na Dnesnivylet.cz spolu s dalšími koncerty\, festivaly a divadelními představeními.Každý si vybere co se mu líbí. Nezapomeňte koupit vstupenky včas\, stačí kliknout a budete přesměrování na oficiálního prodejce vstupenek.
URL:https://dnesnivylet.cz/event/skola-vareni-s-romanem-paulusem-asijska-kuchyne/
LOCATION:Bistro Paulus\, Olomouc\, Bistro Paulus\, Olomouc\, Česká republika
CATEGORIES:Zábava
ATTACH;FMTTYPE=image/jpeg:https://dnesnivylet.cz/wp-content/uploads/2025/11/320-52d747aa63a44ee8aea48e63661b509f.jpg
END:VEVENT
END:VCALENDAR