BEGIN:VCALENDAR
VERSION:2.0
PRODID:-//www.dnesnivylet.cz                                                                                                                        Tip na výlet pro celou rodinu. - ECPv6.15.13.1//NONSGML v1.0//EN
CALSCALE:GREGORIAN
METHOD:PUBLISH
X-ORIGINAL-URL:https://dnesnivylet.cz
X-WR-CALDESC:Akce na www.dnesnivylet.cz                                                                                                                        Tip na výlet pro celou rodinu.
REFRESH-INTERVAL;VALUE=DURATION:PT1H
X-Robots-Tag:noindex
X-PUBLISHED-TTL:PT1H
BEGIN:VTIMEZONE
TZID:Europe/Prague
BEGIN:DAYLIGHT
TZOFFSETFROM:+0100
TZOFFSETTO:+0200
TZNAME:CEST
DTSTART:20250330T010000
END:DAYLIGHT
BEGIN:STANDARD
TZOFFSETFROM:+0200
TZOFFSETTO:+0100
TZNAME:CET
DTSTART:20251026T010000
END:STANDARD
BEGIN:DAYLIGHT
TZOFFSETFROM:+0100
TZOFFSETTO:+0200
TZNAME:CEST
DTSTART:20260329T010000
END:DAYLIGHT
BEGIN:STANDARD
TZOFFSETFROM:+0200
TZOFFSETTO:+0100
TZNAME:CET
DTSTART:20261025T010000
END:STANDARD
BEGIN:DAYLIGHT
TZOFFSETFROM:+0100
TZOFFSETTO:+0200
TZNAME:CEST
DTSTART:20270328T010000
END:DAYLIGHT
BEGIN:STANDARD
TZOFFSETFROM:+0200
TZOFFSETTO:+0100
TZNAME:CET
DTSTART:20271031T010000
END:STANDARD
END:VTIMEZONE
BEGIN:VEVENT
DTSTART;TZID=Europe/Prague:20260425T100000
DTEND;TZID=Europe/Prague:20260425T130000
DTSTAMP:20260419T140720
CREATED:20260321T200050Z
LAST-MODIFIED:20260321T200051Z
UID:19805-1777111200-1777122000@dnesnivylet.cz
SUMMARY:Den otevřených sklepů v Pavlově - jarní termín 2026
DESCRIPTION:Den otevřených sklepů v Pavlově – jarní termín 2026 se uskuteční dne 2026-04-25 v 10:00 v Pavlov\, Pavlov – vinné sklepy. \n🎟️ Koupit vstupenku \n\nZveme milovníky pálavských vín na tradiční „Den otevřených sklepů v Pavlově“ – sobota\, 25. dubna 2026. \nCena obsahuje: \n\n400 Kč vstupné na akci (sklenička\, kontrolní páska\, katalog\, volná degustace ve sklepích účastnících se akce); plus\n600 Kč – víceúčelové poukazy na nákup vín aj. – pouze ve sklepích\, účastnících se akce\,\n\ncelkem tedy 1000 Kč. \nKontrola on-line vstupenek a výdej identifikačních pásek\, skleniček\, katalogů a dalších bude probíhat v sobotu\, 25. dubna 2026\, od 9:30 do 15:00 a také v pátek\, 24. dubna 2026\, od 18.00 do 20.00. Páteční termín registrace platí zejména pro ubytované v Pavlově\, kteří si mohou v pátek večer v klidu registrovat vstupenku a v sobotu ráno již nemusí na registrační místo a mohou jít přímo do sklepů. \nOn-line vstupenka se elektronicky odbaví a na základě toho obdrží návštěvník skleničku\, kontrolní pásku\, katalog a viceúčelové poukazy. \nRegistrace bude probíhat na registračním místě – dům „Na kině“ – vinařství Zatloukal\, Na Návsi 74\, Pavlov. Pozor – změna oproti  minulým rokům. Zde bude k dispozici také WC a občerstvení. Je možný také průchod přes zahradu na ulici Klentnická. \nSklepy budou otevřeny v rámci této akce v sobotu\, 25. dubna 2026\, od 10:00 do 19:00. \nSeznam sklepů a další informace naleznete našem webu www.vinaripavlov.cz. \n\nTento tip na kulturní akci v Pavlov najdete v přehledu na Dnesnivylet.cz spolu s dalšími koncerty\, festivaly a divadelními představeními.Každý si vybere co se mu líbí. Nezapomeňte koupit vstupenky včas\, stačí kliknout a budete přesměrování na oficiálního prodejce vstupenek.
URL:https://dnesnivylet.cz/event/den-otevrenych-sklepu-v-pavlove-jarni-termin-2026/
LOCATION:Pavlov – vinné sklepy\, Pavlov\, Pavlov - vinné sklepy\, Pavlov\, Česká republika
CATEGORIES:Festival
ATTACH;FMTTYPE=image/jpeg:https://dnesnivylet.cz/wp-content/uploads/2026/03/320-f888c892c76d495a94f2043d7ac562c7.jpg
END:VEVENT
END:VCALENDAR