BEGIN:VCALENDAR
VERSION:2.0
PRODID:-//www.dnesnivylet.cz                                                                                                                        Tip na výlet pro celou rodinu. - ECPv6.15.13.1//NONSGML v1.0//EN
CALSCALE:GREGORIAN
METHOD:PUBLISH
X-WR-CALNAME:www.dnesnivylet.cz                                                                                                                        Tip na výlet pro celou rodinu.
X-ORIGINAL-URL:https://dnesnivylet.cz
X-WR-CALDESC:Akce na www.dnesnivylet.cz                                                                                                                        Tip na výlet pro celou rodinu.
REFRESH-INTERVAL;VALUE=DURATION:PT1H
X-Robots-Tag:noindex
X-PUBLISHED-TTL:PT1H
BEGIN:VTIMEZONE
TZID:Europe/Prague
BEGIN:DAYLIGHT
TZOFFSETFROM:+0100
TZOFFSETTO:+0200
TZNAME:CEST
DTSTART:20240331T010000
END:DAYLIGHT
BEGIN:STANDARD
TZOFFSETFROM:+0200
TZOFFSETTO:+0100
TZNAME:CET
DTSTART:20241027T010000
END:STANDARD
BEGIN:DAYLIGHT
TZOFFSETFROM:+0100
TZOFFSETTO:+0200
TZNAME:CEST
DTSTART:20250330T010000
END:DAYLIGHT
BEGIN:STANDARD
TZOFFSETFROM:+0200
TZOFFSETTO:+0100
TZNAME:CET
DTSTART:20251026T010000
END:STANDARD
BEGIN:DAYLIGHT
TZOFFSETFROM:+0100
TZOFFSETTO:+0200
TZNAME:CEST
DTSTART:20260329T010000
END:DAYLIGHT
BEGIN:STANDARD
TZOFFSETFROM:+0200
TZOFFSETTO:+0100
TZNAME:CET
DTSTART:20261025T010000
END:STANDARD
END:VTIMEZONE
BEGIN:VEVENT
DTSTART;TZID=Europe/Prague:20251203T170000
DTEND;TZID=Europe/Prague:20251203T200000
DTSTAMP:20260420T020443
CREATED:20251020T090504Z
LAST-MODIFIED:20251020T090504Z
UID:8981-1764781200-1764792000@dnesnivylet.cz
SUMMARY:Škola vaření s Romanem Paulusem - Vánoční menu
DESCRIPTION:Škola vaření s Romanem Paulusem – Vánoční menu se uskuteční dne 2025-12-03 v 17:00 v Olomouc\, Bistro Paulus. \n🎟️ Koupit vstupenku \n\nVítejte ve škole vaření s Romanem Paulusem! \nTentokrát se v kurzu vaření zaměříme na tradiční vánoční menu. \nNaučíte se připravovat houbového kubu s kapřími hranolky\, rybí polévku\, kohouta na víně a jako sladkou tečku čokoládovo-ořechový nákyp. \nVánoční svátky a dobré jídlo jdou v našich krajích od pradávna ruku v ruce. Po absolvování tohoto speciálního kurzu si lehce poradíte s tradičním vánočním kaprem a dalšími jídly\, které zvednou váš kredit u široké rodiny. Odnesete si zkušenosti a rady\, které vás posunou do vyšší kuchařské ligy. \nV každém kurzu se pod vedením michelinského Romana Pauluse a šéfkuchaře Petra Stokláska naučíte připravit výtečné 4chodové menu. Kromě hodin strávených u plotny si odnesete i spoustu užitečných teoretických znalostí\, krásný zážitek\, sadu receptů a podepsaný certifikát.  \nO alko a nealko režim bude po celou dobu postaráno. \nKurzy probíhají od 17 do 21 hodin v malých skupinkách a díky tomu budete mít plnou pozornost našich šéfů.  \nTěšíme se na vás ve stylových prostorách Bistro Paulus. \nPartnerem školy vaření s Romanem Paulusem je Tescoma. \n—- \nNa každé akci bude pořizován obrazový záznam pro marketingové účely. Pořízené záznamy můžou být použity zejména na našem webu a sociálních sítích. \n\nTento tip na kulturní akci v Olomouc najdete v přehledu na Dnesnivylet.cz spolu s dalšími koncerty\, festivaly a divadelními představeními.Každý si vybere co se mu líbí. Nezapomeňte koupit vstupenky včas\, stačí kliknout a budete přesměrování na oficiálního prodejce vstupenek.
URL:https://dnesnivylet.cz/event/skola-vareni-s-romanem-paulusem-vanocni-menu/
LOCATION:Bistro Paulus\, Olomouc\, Bistro Paulus\, Olomouc\, Česká republika
CATEGORIES:Zábava
ATTACH;FMTTYPE=image/jpeg:https://dnesnivylet.cz/wp-content/uploads/2025/10/320-2cf3b920ea824c9d8185406a8319fb0c.jpg
END:VEVENT
BEGIN:VEVENT
DTSTART;TZID=Europe/Prague:20251129T110000
DTEND;TZID=Europe/Prague:20251129T140000
DTSTAMP:20260420T020443
CREATED:20251027T090747Z
LAST-MODIFIED:20251027T090747Z
UID:10254-1764414000-1764424800@dnesnivylet.cz
SUMMARY:Den otevřených sklepů v Pavlově - listopad 2025
DESCRIPTION:Den otevřených sklepů v Pavlově – listopad 2025 se uskuteční dne 2025-11-29 v 11:00 v Pavlov\, Pavlov – vinné sklepy. \n🎟️ Koupit vstupenku \n\nZveme milovníky pálavských vín na tradiční „Den otevřených sklepů v Pavlově“ – sobota\, 29. listopadu 2025. \nK dispozici jsou 2 varianty vstupenek: \n1) bez večerní zábavy  \n\n400 Kč vstupné na otevřené sklepy (sklenička\, kontrolní páska\, katalog\, taška\, tužka\, volná degustace ve sklepích účastnících se akce); plus\n600 Kč – víceúčelové poukazy na nákup vín atd. – pouze ve sklepích\, účastnících se akce\,\n\ncelkem tedy 1000 Kč. \n2) včetně večerní zábavy v Kulturním domě (ul. Klentnická 120) se skupinou DenWer \n\n600 Kč vstupné na otevřené sklepy (sklenička\, kontrolní páska\, katalog\, taška\, tužka\, volná degustace ve sklepích účastnících se akce)\, včetně vstupu na večerní zábavu v Kulturním domě; plus\n600 Kč – víceúčelové poukazy na nákup vín atd. – pouze ve sklepích\, účastnících se akce\n\ncelkem tedy 1200 Kč. \nUpozorňujeme\, že na var. 2 je omezený počet vstupenek a vstup na večerní zábavu nebude možno zakoupit samostatně. \nKontrola on-line vstupenek a výdej identifikačních pásek\, skleniček\, katalogů a dalších bude probíhat ve Vinařském domě Zatloukal „Na Kině“\, ul. Na návsi 74\, v sobotu\, 29. listopadu 2025\, od 10:00 do 15:00 a také v pátek\, 28. listopadu 2024\, od 18.00 do 20.00. Páteční termín registrace platí zejména pro ubytované v Pavlově\, kteří si mohou v pátek večer v klidu registrovat vstupenku a v sobotu ráno již nemusí na registrační místo a mohou jít přímo do sklepů. \nOn-line vstupenka se elektronicky odbaví a na základě toho obdrží návštěvník skleničku\, kontrolní pásku\, katalog a viceúčelové poukazy. \nSklepy budou otevřeny v rámci této akce v sobotu\, 29. listopadu 2025\, od 11:00 do 18:00. \nSeznam sklepů a další informace naleznete na našem webu. \n\nTento tip na kulturní akci v Pavlov najdete v přehledu na Dnesnivylet.cz spolu s dalšími koncerty\, festivaly a divadelními představeními.Každý si vybere co se mu líbí. Nezapomeňte koupit vstupenky včas\, stačí kliknout a budete přesměrování na oficiálního prodejce vstupenek.
URL:https://dnesnivylet.cz/event/den-otevrenych-sklepu-v-pavlove-listopad-2025/
LOCATION:Pavlov – vinné sklepy\, Pavlov\, Pavlov - vinné sklepy\, Pavlov\, Česká republika
CATEGORIES:Festival
ATTACH;FMTTYPE=image/jpeg:https://dnesnivylet.cz/wp-content/uploads/2025/10/320-22ec53f30cfb4fee8158ba17875267ff.jpg
END:VEVENT
BEGIN:VEVENT
DTSTART;TZID=Europe/Prague:20251115T110000
DTEND;TZID=Europe/Prague:20251115T140000
DTSTAMP:20260420T020443
CREATED:20251102T202328Z
LAST-MODIFIED:20251102T202328Z
UID:11401-1763204400-1763215200@dnesnivylet.cz
SUMMARY:Sv. Martin na Hovoransku 2025 – den otevřených sklepů
DESCRIPTION:Sv. Martin na Hovoransku 2025 – den otevřených sklepů se uskuteční dne 2025-11-15 v 11:00 v Hovorany\, Obecní sklep. \n🎟️ Koupit vstupenku \n\nAkce se koná 15. listopadu od 11.00 hod. Na již 11. ročníku můžete ochutnat jak mladá a Svatomartinská vína od našich vinařů\, tak výběr minulých ročníků. Večer se můžete těšit na zábavu s cimbálovou muzikou. \nProdej vína je i v neděli 16. listopadu 2025 od 9.00 do 12.00 hod \n\nTento tip na kulturní akci v Hovorany najdete v přehledu na Dnesnivylet.cz spolu s dalšími koncerty\, festivaly a divadelními představeními.Každý si vybere co se mu líbí. Nezapomeňte koupit vstupenky včas\, stačí kliknout a budete přesměrování na oficiálního prodejce vstupenek.
URL:https://dnesnivylet.cz/event/sv-martin-na-hovoransku-2025-den-otevrenych-sklepu/
LOCATION:Obecní sklep\, Hovorany\, Obecní sklep\, Hovorany\, Česká republika
CATEGORIES:Koncert
ATTACH;FMTTYPE=image/jpeg:https://dnesnivylet.cz/wp-content/uploads/2025/11/320-09951fe5adca49ca911f7164c01ebe50.jpg
END:VEVENT
BEGIN:VEVENT
DTSTART;TZID=Europe/Prague:20251114T173000
DTEND;TZID=Europe/Prague:20251114T203000
DTSTAMP:20260420T020443
CREATED:20251103T194134Z
LAST-MODIFIED:20251103T194134Z
UID:12173-1763141400-1763152200@dnesnivylet.cz
SUMMARY:Bzenecké sklepy při svíčkách
DESCRIPTION:Bzenecké sklepy při svíčkách se uskuteční dne 2025-11-14 v 17:30 v Bzenec\, Vinné sklepy. \n🎟️ Koupit vstupenku \n\nPojďte zažít nevšední putování za vínem a vinaři do bzeneckých sklípků\, které jsou osvíceny svícemi a lampami. Dvacítka vinařství pro Vás bude mít k ochutnávce širokou nabídku od Svatomartinských a mladých\, přes ročníková až k perlivým vínům. \n  \nTěšit se můžete také na bohatou nabídku občerstvení – svatomartinskou husu\, zabíjačkové pochoutky\, škvarkovou pomazánku\, pagáčky\, speciality z udírny a určitě v nabídce najdete i něco sladkého. \n  \nKyvadlová doprava do vzdálenějších vinařství je zajištěna. \n\nTento tip na kulturní akci v Bzenec najdete v přehledu na Dnesnivylet.cz spolu s dalšími koncerty\, festivaly a divadelními představeními.Každý si vybere co se mu líbí. Nezapomeňte koupit vstupenky včas\, stačí kliknout a budete přesměrování na oficiálního prodejce vstupenek.
URL:https://dnesnivylet.cz/event/bzenecke-sklepy-pri-svickach/
LOCATION:Vinné sklepy\, Bzenec\, Vinné sklepy\, Bzenec\, Česká republika
CATEGORIES:Festival
ATTACH;FMTTYPE=image/jpeg:https://dnesnivylet.cz/wp-content/uploads/2025/11/320-6cb84ea0b9b54e71892229e468774414.jpg
END:VEVENT
BEGIN:VEVENT
DTSTART;TZID=Europe/Prague:20251113T170000
DTEND;TZID=Europe/Prague:20251113T200000
DTSTAMP:20260420T020443
CREATED:20251031T193729Z
LAST-MODIFIED:20251031T193734Z
UID:10780-1763053200-1763064000@dnesnivylet.cz
SUMMARY:Škola vaření s Romanem Paulusem - Zvěřina a drůbež
DESCRIPTION:Škola vaření s Romanem Paulusem – Zvěřina a drůbež se uskuteční dne 2025-11-13 v 17:00 v Olomouc\, Bistro Paulus. \n🎟️ Koupit vstupenku \n\nVítejte ve škole vaření s Romanem Paulusem! \nTentokrát se v kurzu vaření zaměříme na českou zvěřinu a drůbež. \nMůžete se těšit na přípravu kachního kaldounu\, paštiky z drůbežích jater\, kančí krkovice na černo a na závěr si uděláme borůvkovou krémovou tyčinku s čokoládou. \nZvěřina a drůbež provázely tuzemskou kuchyni už od starých časů. Naši předkové ji chovali na dvorcích i lovili v lesích. Vyzkoušejte si s námi osvědčené recepty\, které patří k oblíbeným jídlům týmu Bistra Paulus. \nV každém kurzu se pod vedením michelinského Romana Pauluse a šéfkuchaře Petra Stokláska naučíte připravit výtečné 4chodové menu. Kromě hodin strávených u plotny si odnesete i spoustu užitečných teoretických znalostí\, krásný zážitek\, sadu receptů a podepsaný certifikát.  \nO alko a nealko režim bude po celou dobu postaráno. \nKurzy probíhají od 17 do 21 hodin v malých skupinkách a díky tomu budete mít plnou pozornost našich šéfů.  \nTěšíme se na vás ve stylových prostorách Bistro Paulus. \nPartnerem školy vaření s Romanem Paulusem je Tescoma. \n—- \nNa každé akci bude pořizován obrazový záznam pro marketingové účely. Pořízené záznamy můžou být použity zejména na našem webu a sociálních sítích. \n\nTento tip na kulturní akci v Olomouc najdete v přehledu na Dnesnivylet.cz spolu s dalšími koncerty\, festivaly a divadelními představeními.Každý si vybere co se mu líbí. Nezapomeňte koupit vstupenky včas\, stačí kliknout a budete přesměrování na oficiálního prodejce vstupenek.
URL:https://dnesnivylet.cz/event/skola-vareni-s-romanem-paulusem-zverina-a-drubez-2/
LOCATION:Bistro Paulus\, Olomouc\, Bistro Paulus\, Olomouc\, Česká republika
CATEGORIES:Zábava
ATTACH;FMTTYPE=image/jpeg:https://dnesnivylet.cz/wp-content/uploads/2025/10/320-fe1e9e161c194faea2f809f9488aacc7.jpg
END:VEVENT
BEGIN:VEVENT
DTSTART;TZID=Europe/Prague:20251112T170000
DTEND;TZID=Europe/Prague:20251112T200000
DTSTAMP:20260420T020444
CREATED:20251020T090503Z
LAST-MODIFIED:20251020T090503Z
UID:8974-1762966800-1762977600@dnesnivylet.cz
SUMMARY:Škola vaření s Romanem Paulusem - Zvěřina a drůbež
DESCRIPTION:Škola vaření s Romanem Paulusem – Zvěřina a drůbež se uskuteční dne 2025-11-12 v 17:00 v Olomouc\, Bistro Paulus. \n🎟️ Koupit vstupenku \n\nVítejte ve škole vaření s Romanem Paulusem! \nTentokrát se v kurzu vaření zaměříme na českou zvěřinu a drůbež. \nMůžete se těšit na přípravu kachního kaldounu\, paštiky z drůbežích jater\, kančí krkovice na černo a na závěr si uděláme borůvkovou krémovou tyčinku s čokoládou. \nZvěřina a drůbež provázely tuzemskou kuchyni už od starých časů. Naši předkové ji chovali na dvorcích i lovili v lesích. Vyzkoušejte si s námi osvědčené recepty\, které patří k oblíbeným jídlům týmu Bistra Paulus. \nV každém kurzu se pod vedením michelinského Romana Pauluse a šéfkuchaře Petra Stokláska naučíte připravit výtečné 4chodové menu. Kromě hodin strávených u plotny si odnesete i spoustu užitečných teoretických znalostí\, krásný zážitek\, sadu receptů a podepsaný certifikát.  \nO alko a nealko režim bude po celou dobu postaráno. \nKurzy probíhají od 17 do 21 hodin v malých skupinkách a díky tomu budete mít plnou pozornost našich šéfů.  \nTěšíme se na vás ve stylových prostorách Bistro Paulus. \nPartnerem školy vaření s Romanem Paulusem je Tescoma. \n—- \nNa každé akci bude pořizován obrazový záznam pro marketingové účely. Pořízené záznamy můžou být použity zejména na našem webu a sociálních sítích. \n\nTento tip na kulturní akci v Olomouc najdete v přehledu na Dnesnivylet.cz spolu s dalšími koncerty\, festivaly a divadelními představeními.Každý si vybere co se mu líbí. Nezapomeňte koupit vstupenky včas\, stačí kliknout a budete přesměrování na oficiálního prodejce vstupenek.
URL:https://dnesnivylet.cz/event/skola-vareni-s-romanem-paulusem-zverina-a-drubez/
LOCATION:Bistro Paulus\, Olomouc\, Bistro Paulus\, Olomouc\, Česká republika
CATEGORIES:Zábava
ATTACH;FMTTYPE=image/jpeg:https://dnesnivylet.cz/wp-content/uploads/2025/10/320-6b0ea8f1e3bc42e2a3fdc7162694282e.jpg
END:VEVENT
BEGIN:VEVENT
DTSTART;TZID=Europe/Prague:20251022T170000
DTEND;TZID=Europe/Prague:20251022T200000
DTSTAMP:20260420T020444
CREATED:20251020T090503Z
LAST-MODIFIED:20251020T090503Z
UID:8978-1761152400-1761163200@dnesnivylet.cz
SUMMARY:Škola vaření s Romanem Paulusem - Mexiko
DESCRIPTION:Škola vaření s Romanem Paulusem – Mexiko se uskuteční dne 2025-10-22 v 17:00 v Olomouc\, Bistro Paulus. \n🎟️ Koupit vstupenku \n\nVítejte ve škole vaření s Romanem Paulusem! \nTentokrát se v kurzu vaření zaměříme na kuchyně zemí střední Ameriky a zejména Mexika. \nNaučíte se vařit největší klasiku – chilli con carne\, proniknete do tajů přípravy ryb a darů moře\, uděláte si guacamole a zapečenou tortillu a jako sladkou tečku si oflambujete banány s vanilkovou zmrzlinou. \nMexická kuchyně je známa různorodými chutěmi\, barevností jídel a množstvím koření a přísad. Hlavními surovinami v celé oblasti jsou kukuřice\, fazole a chilli. Víte\, že v roce 2010 byla tradiční mexická kuchyně zařazena na seznam nehmotných památek lidstva UNESCO?  \nV každém kurzu se pod vedením michelinského Romana Pauluse a šéfkuchaře Petra Stokláska naučíte připravit výtečné 4chodové menu. Kromě hodin strávených u plotny si odnesete i spoustu užitečných teoretických znalostí\, krásný zážitek\, sadu receptů a podepsaný certifikát.  \nO alko a nealko režim bude po celou dobu postaráno. \nKurzy probíhají od 17 do 21 hodin v malých skupinkách a díky tomu budete mít plnou pozornost našich šéfů.  \nTěšíme se na vás ve stylových prostorách Bistro Paulus. \nPartnerem školy vaření s Romanem Paulusem je Tescoma. \n—- \nNa každé akci bude pořizován obrazový záznam pro marketingové účely. Pořízené záznamy můžou být použity zejména na našem webu a sociálních sítích. \n\nTento tip na kulturní akci v Olomouc najdete v přehledu na Dnesnivylet.cz spolu s dalšími koncerty\, festivaly a divadelními představeními.Každý si vybere co se mu líbí. Nezapomeňte koupit vstupenky včas\, stačí kliknout a budete přesměrování na oficiálního prodejce vstupenek.
URL:https://dnesnivylet.cz/event/skola-vareni-s-romanem-paulusem-mexiko/
LOCATION:Bistro Paulus\, Olomouc\, Bistro Paulus\, Olomouc\, Česká republika
CATEGORIES:Zábava
ATTACH;FMTTYPE=image/jpeg:https://dnesnivylet.cz/wp-content/uploads/2025/10/320-258fd9d218bc4ae39e7605a3b2ebfb78.jpg
END:VEVENT
END:VCALENDAR