BEGIN:VCALENDAR
VERSION:2.0
PRODID:-//www.dnesnivylet.cz                                                                                                                        Tip na výlet pro celou rodinu. - ECPv6.15.13.1//NONSGML v1.0//EN
CALSCALE:GREGORIAN
METHOD:PUBLISH
X-WR-CALNAME:www.dnesnivylet.cz                                                                                                                        Tip na výlet pro celou rodinu.
X-ORIGINAL-URL:https://dnesnivylet.cz
X-WR-CALDESC:Akce na www.dnesnivylet.cz                                                                                                                        Tip na výlet pro celou rodinu.
REFRESH-INTERVAL;VALUE=DURATION:PT1H
X-Robots-Tag:noindex
X-PUBLISHED-TTL:PT1H
BEGIN:VTIMEZONE
TZID:Europe/Prague
BEGIN:DAYLIGHT
TZOFFSETFROM:+0100
TZOFFSETTO:+0200
TZNAME:CEST
DTSTART:20250330T010000
END:DAYLIGHT
BEGIN:STANDARD
TZOFFSETFROM:+0200
TZOFFSETTO:+0100
TZNAME:CET
DTSTART:20251026T010000
END:STANDARD
BEGIN:DAYLIGHT
TZOFFSETFROM:+0100
TZOFFSETTO:+0200
TZNAME:CEST
DTSTART:20260329T010000
END:DAYLIGHT
BEGIN:STANDARD
TZOFFSETFROM:+0200
TZOFFSETTO:+0100
TZNAME:CET
DTSTART:20261025T010000
END:STANDARD
BEGIN:DAYLIGHT
TZOFFSETFROM:+0100
TZOFFSETTO:+0200
TZNAME:CEST
DTSTART:20270328T010000
END:DAYLIGHT
BEGIN:STANDARD
TZOFFSETFROM:+0200
TZOFFSETTO:+0100
TZNAME:CET
DTSTART:20271031T010000
END:STANDARD
END:VTIMEZONE
BEGIN:VEVENT
DTSTART;TZID=Europe/Prague:20261008T170000
DTEND;TZID=Europe/Prague:20261008T200000
DTSTAMP:20260419T222406
CREATED:20260419T120706Z
LAST-MODIFIED:20260419T120706Z
UID:20684-1791478800-1791489600@dnesnivylet.cz
SUMMARY:World Wine Show 2026 - Degustace (bez menu)
DESCRIPTION:World Wine Show 2026 – Degustace (bez menu) se uskuteční dne 2026-10-08 v 17:00 v Praha\, Kaiserštejnský palác. \n🎟️ Koupit vstupenku \n\nXIV.ročník světové výstavy vín\, kde budou prezentovat své produkty nejlepší vinaři a dovozci z vinařských velmocí jako jsou Francie\, Itálie\, Španělsko\, Slovinsko\, Portugalsko\, Rakousko\, Německo\, Argentina\, Austrálie\, Nový Zéland\, Chile a také několik špičkových producentů z České republiky.Neomezená degustace celkem okolo sto šedesáti vzorků exklusivních vín od čyřicetipěti vinařů. \nDegustace se koná dne 8. října 2026 od 17:00 do 23:30 hodin v Kaiserštejnském paláci\, Malostranské náměstí 23/37. \n  \n\nTento tip na kulturní akci v Praha najdete v přehledu na Dnesnivylet.cz spolu s dalšími koncerty\, festivaly a divadelními představeními.Každý si vybere co se mu líbí. Nezapomeňte koupit vstupenky včas\, stačí kliknout a budete přesměrování na oficiálního prodejce vstupenek.
URL:https://dnesnivylet.cz/event/world-wine-show-2026-degustace-bez-menu/
LOCATION:Kaiserštejnský palác\, Praha\, Kaiserštejnský palác\, Praha\, Česká republika
CATEGORIES:Zábava
ATTACH;FMTTYPE=image/jpeg:https://dnesnivylet.cz/wp-content/uploads/2026/04/320-d21a53b912804c9a8f41e2c80c364a8b.jpg
END:VEVENT
BEGIN:VEVENT
DTSTART;TZID=Europe/Prague:20261008T171500
DTEND;TZID=Europe/Prague:20261008T201500
DTSTAMP:20260419T222406
CREATED:20260419T120951Z
LAST-MODIFIED:20260419T120951Z
UID:20733-1791479700-1791490500@dnesnivylet.cz
SUMMARY:World Wine Show 2026 - Degustace + Menu
DESCRIPTION:World Wine Show 2026 – Degustace + Menu se uskuteční dne 2026-10-08 v 17:15 v Praha\, Kaiserštejnský palác. \n🎟️ Koupit vstupenku \n\nXIV. ročník světové výstavy vín\, kde budou prezentovat své produkty nejlepší vinaři a dovozci z vinařských velmocí jako jsou Francie\, Itálie\, Španělsko\, Slovinsko\, Portugalsko\, Rakousko\, Německo\, Argentina\, Austrálie\, Nový Zéland\, Chile a také několik špičkových producentů z České republiky.Neomezená degustace celkem okolo sto šedesáti vzorků exklusivních vín od čtyřicetipěti vinařů. \nDegustace se koná dne 8. října 2026 od 17:00 do 24:00 hodin v Kaiserštejnském paláci\, Malostranské náměstí 23/37. \nNa akci bude podáváno exklusivní pětichodové degustační menušéfkuchaře Jana Punčocháře v harmonii s víny. \n\nTento tip na kulturní akci v Praha najdete v přehledu na Dnesnivylet.cz spolu s dalšími koncerty\, festivaly a divadelními představeními.Každý si vybere co se mu líbí. Nezapomeňte koupit vstupenky včas\, stačí kliknout a budete přesměrování na oficiálního prodejce vstupenek.
URL:https://dnesnivylet.cz/event/world-wine-show-2026-degustace-menu/
LOCATION:Kaiserštejnský palác\, Praha\, Kaiserštejnský palác\, Praha\, Česká republika
CATEGORIES:Zábava
ATTACH;FMTTYPE=image/jpeg:https://dnesnivylet.cz/wp-content/uploads/2026/04/320-62397c93c1e04367a0dd9081ac956a3e.jpg
END:VEVENT
BEGIN:VEVENT
DTSTART;TZID=Europe/Prague:20261008T211500
DTEND;TZID=Europe/Prague:20261009T001500
DTSTAMP:20260419T222406
CREATED:20260419T120951Z
LAST-MODIFIED:20260419T120951Z
UID:20736-1791494100-1791504900@dnesnivylet.cz
SUMMARY:World Wine Show 2026 - Degustace + Menu
DESCRIPTION:World Wine Show 2026 – Degustace + Menu se uskuteční dne 2026-10-08 v 21:15 v Praha\, Kaiserštejnský palác. \n🎟️ Koupit vstupenku \n\nXIV. ročník světové výstavy vín\, kde budou prezentovat své produkty nejlepší vinaři a dovozci z vinařských velmocí jako jsou Francie\, Itálie\, Španělsko\, Slovinsko\, Portugalsko\, Rakousko\, Německo\, Argentina\, Austrálie\, Nový Zéland\, Chile a také několik špičkových producentů z České republiky.Neomezená degustace celkem okolo sto šedesáti vzorků exklusivních vín od čtyřicetipěti vinařů. \nDegustace se koná dne 8. října 2026 od 17:00 do 23:30 hodin v Kaiserštejnském paláci\, Malostranské náměstí 23/37. \nNa akci bude podáváno exklusivní pětichodové degustační menušéfkuchaře Jana Punčocháře v harmonii s víny. \n\nTento tip na kulturní akci v Praha najdete v přehledu na Dnesnivylet.cz spolu s dalšími koncerty\, festivaly a divadelními představeními.Každý si vybere co se mu líbí. Nezapomeňte koupit vstupenky včas\, stačí kliknout a budete přesměrování na oficiálního prodejce vstupenek.
URL:https://dnesnivylet.cz/event/world-wine-show-2026-degustace-menu-2/
LOCATION:Kaiserštejnský palác\, Praha\, Kaiserštejnský palác\, Praha\, Česká republika
CATEGORIES:Zábava
ATTACH;FMTTYPE=image/jpeg:https://dnesnivylet.cz/wp-content/uploads/2026/04/320-106a0bd61c7e43a7a373b3912b1520db.jpg
END:VEVENT
END:VCALENDAR