BEGIN:VCALENDAR
VERSION:2.0
PRODID:-//www.dnesnivylet.cz                                                                                                                        Tip na výlet pro celou rodinu. - ECPv6.15.13.1//NONSGML v1.0//EN
CALSCALE:GREGORIAN
METHOD:PUBLISH
X-WR-CALNAME:www.dnesnivylet.cz                                                                                                                        Tip na výlet pro celou rodinu.
X-ORIGINAL-URL:https://dnesnivylet.cz
X-WR-CALDESC:Akce na www.dnesnivylet.cz                                                                                                                        Tip na výlet pro celou rodinu.
REFRESH-INTERVAL;VALUE=DURATION:PT1H
X-Robots-Tag:noindex
X-PUBLISHED-TTL:PT1H
BEGIN:VTIMEZONE
TZID:Europe/Prague
BEGIN:DAYLIGHT
TZOFFSETFROM:+0100
TZOFFSETTO:+0200
TZNAME:CEST
DTSTART:20240331T010000
END:DAYLIGHT
BEGIN:STANDARD
TZOFFSETFROM:+0200
TZOFFSETTO:+0100
TZNAME:CET
DTSTART:20241027T010000
END:STANDARD
BEGIN:DAYLIGHT
TZOFFSETFROM:+0100
TZOFFSETTO:+0200
TZNAME:CEST
DTSTART:20250330T010000
END:DAYLIGHT
BEGIN:STANDARD
TZOFFSETFROM:+0200
TZOFFSETTO:+0100
TZNAME:CET
DTSTART:20251026T010000
END:STANDARD
BEGIN:DAYLIGHT
TZOFFSETFROM:+0100
TZOFFSETTO:+0200
TZNAME:CEST
DTSTART:20260329T010000
END:DAYLIGHT
BEGIN:STANDARD
TZOFFSETFROM:+0200
TZOFFSETTO:+0100
TZNAME:CET
DTSTART:20261025T010000
END:STANDARD
END:VTIMEZONE
BEGIN:VEVENT
DTSTART;TZID=Europe/Prague:20251022T170000
DTEND;TZID=Europe/Prague:20251022T200000
DTSTAMP:20260420T041557
CREATED:20251020T090503Z
LAST-MODIFIED:20251020T090503Z
UID:8978-1761152400-1761163200@dnesnivylet.cz
SUMMARY:Škola vaření s Romanem Paulusem - Mexiko
DESCRIPTION:Škola vaření s Romanem Paulusem – Mexiko se uskuteční dne 2025-10-22 v 17:00 v Olomouc\, Bistro Paulus. \n🎟️ Koupit vstupenku \n\nVítejte ve škole vaření s Romanem Paulusem! \nTentokrát se v kurzu vaření zaměříme na kuchyně zemí střední Ameriky a zejména Mexika. \nNaučíte se vařit největší klasiku – chilli con carne\, proniknete do tajů přípravy ryb a darů moře\, uděláte si guacamole a zapečenou tortillu a jako sladkou tečku si oflambujete banány s vanilkovou zmrzlinou. \nMexická kuchyně je známa různorodými chutěmi\, barevností jídel a množstvím koření a přísad. Hlavními surovinami v celé oblasti jsou kukuřice\, fazole a chilli. Víte\, že v roce 2010 byla tradiční mexická kuchyně zařazena na seznam nehmotných památek lidstva UNESCO?  \nV každém kurzu se pod vedením michelinského Romana Pauluse a šéfkuchaře Petra Stokláska naučíte připravit výtečné 4chodové menu. Kromě hodin strávených u plotny si odnesete i spoustu užitečných teoretických znalostí\, krásný zážitek\, sadu receptů a podepsaný certifikát.  \nO alko a nealko režim bude po celou dobu postaráno. \nKurzy probíhají od 17 do 21 hodin v malých skupinkách a díky tomu budete mít plnou pozornost našich šéfů.  \nTěšíme se na vás ve stylových prostorách Bistro Paulus. \nPartnerem školy vaření s Romanem Paulusem je Tescoma. \n—- \nNa každé akci bude pořizován obrazový záznam pro marketingové účely. Pořízené záznamy můžou být použity zejména na našem webu a sociálních sítích. \n\nTento tip na kulturní akci v Olomouc najdete v přehledu na Dnesnivylet.cz spolu s dalšími koncerty\, festivaly a divadelními představeními.Každý si vybere co se mu líbí. Nezapomeňte koupit vstupenky včas\, stačí kliknout a budete přesměrování na oficiálního prodejce vstupenek.
URL:https://dnesnivylet.cz/event/skola-vareni-s-romanem-paulusem-mexiko/
LOCATION:Bistro Paulus\, Olomouc\, Bistro Paulus\, Olomouc\, Česká republika
CATEGORIES:Zábava
ATTACH;FMTTYPE=image/jpeg:https://dnesnivylet.cz/wp-content/uploads/2025/10/320-258fd9d218bc4ae39e7605a3b2ebfb78.jpg
END:VEVENT
END:VCALENDAR