BEGIN:VCALENDAR
VERSION:2.0
PRODID:-//www.dnesnivylet.cz                                                                                                                        Tip na výlet pro celou rodinu. - ECPv6.15.13.1//NONSGML v1.0//EN
CALSCALE:GREGORIAN
METHOD:PUBLISH
X-WR-CALNAME:www.dnesnivylet.cz                                                                                                                        Tip na výlet pro celou rodinu.
X-ORIGINAL-URL:https://dnesnivylet.cz
X-WR-CALDESC:Akce na www.dnesnivylet.cz                                                                                                                        Tip na výlet pro celou rodinu.
REFRESH-INTERVAL;VALUE=DURATION:PT1H
X-Robots-Tag:noindex
X-PUBLISHED-TTL:PT1H
BEGIN:VTIMEZONE
TZID:Europe/Prague
BEGIN:DAYLIGHT
TZOFFSETFROM:+0100
TZOFFSETTO:+0200
TZNAME:CEST
DTSTART:20250330T010000
END:DAYLIGHT
BEGIN:STANDARD
TZOFFSETFROM:+0200
TZOFFSETTO:+0100
TZNAME:CET
DTSTART:20251026T010000
END:STANDARD
BEGIN:DAYLIGHT
TZOFFSETFROM:+0100
TZOFFSETTO:+0200
TZNAME:CEST
DTSTART:20260329T010000
END:DAYLIGHT
BEGIN:STANDARD
TZOFFSETFROM:+0200
TZOFFSETTO:+0100
TZNAME:CET
DTSTART:20261025T010000
END:STANDARD
BEGIN:DAYLIGHT
TZOFFSETFROM:+0100
TZOFFSETTO:+0200
TZNAME:CEST
DTSTART:20270328T010000
END:DAYLIGHT
BEGIN:STANDARD
TZOFFSETFROM:+0200
TZOFFSETTO:+0100
TZNAME:CET
DTSTART:20271031T010000
END:STANDARD
END:VTIMEZONE
BEGIN:VEVENT
DTSTART;TZID=Europe/Prague:20261211T190000
DTEND;TZID=Europe/Prague:20261211T220000
DTSTAMP:20260420T021050
CREATED:20260405T130126Z
LAST-MODIFIED:20260405T130126Z
UID:20184-1797015600-1797026400@dnesnivylet.cz
SUMMARY:QUEENSHOW Karlovy Vary
DESCRIPTION:QUEENSHOW Karlovy Vary se uskuteční dne 2026-12-11 v 19:00 v Karlovy Vary\, Hotel Thermal. \n🎟️ Koupit vstupenku \n\nQueenshow patří k nejvěrnějším tribute projektům legendární skupiny Queen na světě. \nJejich koncerty přinášejí autentický návrat do zlaté éry 80. let – od precizně zpracovaného zvuku\, přes dobovou pódiovou techniku\, až po ikonickou vizuální show. Díky použití originálních nástrojů a aparatury zní hudba Queen přesně tak\, jak si ji pamatují fanoušci z legendárních stadionových koncertů. \nVystoupení Queenshow umožňuje znovu pocítit přítomnost Freddieho Mercuryho a jedinečnou energii jedné z největších kapel hudební historie. Tento koncert je výjimečným zážitkem pro všechny milovníky rockové dokonalosti.  \n\nTento tip na kulturní akci v Karlovy Vary najdete v přehledu na Dnesnivylet.cz spolu s dalšími koncerty\, festivaly a divadelními představeními.Každý si vybere co se mu líbí. Nezapomeňte koupit vstupenky včas\, stačí kliknout a budete přesměrování na oficiálního prodejce vstupenek.
URL:https://dnesnivylet.cz/event/queenshow-karlovy-vary-2/
LOCATION:Hotel Thermal\, Karlovy Vary\, Hotel Thermal\, Karlovy Vary\, Česká republika
CATEGORIES:Koncert
ATTACH;FMTTYPE=image/jpeg:https://dnesnivylet.cz/wp-content/uploads/2026/04/320-690eb0c4b3914515bf7d823c059e0eea.jpg
END:VEVENT
END:VCALENDAR