BEGIN:VCALENDAR
VERSION:2.0
PRODID:-//www.dnesnivylet.cz                                                                                                                        Tip na výlet pro celou rodinu. - ECPv6.15.13.1//NONSGML v1.0//EN
CALSCALE:GREGORIAN
METHOD:PUBLISH
X-WR-CALNAME:www.dnesnivylet.cz                                                                                                                        Tip na výlet pro celou rodinu.
X-ORIGINAL-URL:https://dnesnivylet.cz
X-WR-CALDESC:Akce na www.dnesnivylet.cz                                                                                                                        Tip na výlet pro celou rodinu.
REFRESH-INTERVAL;VALUE=DURATION:PT1H
X-Robots-Tag:noindex
X-PUBLISHED-TTL:PT1H
BEGIN:VTIMEZONE
TZID:Europe/Prague
BEGIN:DAYLIGHT
TZOFFSETFROM:+0100
TZOFFSETTO:+0200
TZNAME:CEST
DTSTART:20250330T010000
END:DAYLIGHT
BEGIN:STANDARD
TZOFFSETFROM:+0200
TZOFFSETTO:+0100
TZNAME:CET
DTSTART:20251026T010000
END:STANDARD
BEGIN:DAYLIGHT
TZOFFSETFROM:+0100
TZOFFSETTO:+0200
TZNAME:CEST
DTSTART:20260329T010000
END:DAYLIGHT
BEGIN:STANDARD
TZOFFSETFROM:+0200
TZOFFSETTO:+0100
TZNAME:CET
DTSTART:20261025T010000
END:STANDARD
BEGIN:DAYLIGHT
TZOFFSETFROM:+0100
TZOFFSETTO:+0200
TZNAME:CEST
DTSTART:20270328T010000
END:DAYLIGHT
BEGIN:STANDARD
TZOFFSETFROM:+0200
TZOFFSETTO:+0100
TZNAME:CET
DTSTART:20271031T010000
END:STANDARD
BEGIN:DAYLIGHT
TZOFFSETFROM:+0100
TZOFFSETTO:+0200
TZNAME:CEST
DTSTART:20280326T010000
END:DAYLIGHT
BEGIN:STANDARD
TZOFFSETFROM:+0200
TZOFFSETTO:+0100
TZNAME:CET
DTSTART:20281029T010000
END:STANDARD
END:VTIMEZONE
BEGIN:VEVENT
DTSTART;TZID=Europe/Prague:20260305T190000
DTEND;TZID=Europe/Prague:20260305T220000
DTSTAMP:20260419T202339
CREATED:20251031T081130Z
LAST-MODIFIED:20251031T081131Z
UID:10754-1772737200-1772748000@dnesnivylet.cz
SUMMARY:Ludovico Einaudi Music | Karlovy Vary
DESCRIPTION:Ludovico Einaudi Music | Karlovy Vary se uskuteční dne 2026-03-05 v 19:00 v Karlovy Vary\, Hotel Thermal. \n🎟️ Koupit vstupenku \n\nNenechte si ujít nezapomenutelný večer krásné hudby\, kde zazní melodie jednoho z nejlepších pianistů a skladatelů na světe\, Ludovica Einaudiho v podání předního českého klavíristy Františka Panáčka. \nEinaudi je známý svými jednoduchými\, ale strašidelně krásnými minimalistickými díly pro klavír a ohromující filmovou hudbou. Za téměř třicet let své činnosti vydal řadu alb\, která se dostala na přední příčky poslechovosti\, vyprodává nejprestižnější koncertní sály po celém světě a jeho hudba zazněla v mnoha slavných filmech (Nedotknutelní\, Doktor Živago\, To je Anglie\, Nomadland a další). \nTento jedinečný koncert nabídne více než jen hudbu. Symfonie třpytivých svíček rozsvítí celý prostor a přidá na mystičnu a kouzlu večera. Každá svíčka přispěje k vytvoření kouzelného prostředí\, které dokonale doplní hudební zážitek. \nV rámci Evropské tour alternují také: Alexandr Starý a Lucie Kubátová.  \nAkce je přístupná od 12 let. Každý účastník musí předložit platnou vstupenku  zakoupenou výhradně v síti SMS ticket. \n\nTento tip na kulturní akci v Karlovy Vary najdete v přehledu na Dnesnivylet.cz spolu s dalšími koncerty\, festivaly a divadelními představeními.Každý si vybere co se mu líbí. Nezapomeňte koupit vstupenky včas\, stačí kliknout a budete přesměrování na oficiálního prodejce vstupenek.
URL:https://dnesnivylet.cz/event/ludovico-einaudi-music-karlovy-vary/
LOCATION:Hotel Thermal\, Karlovy Vary\, Hotel Thermal\, Karlovy Vary\, Česká republika
CATEGORIES:Koncert
ATTACH;FMTTYPE=image/jpeg:https://dnesnivylet.cz/wp-content/uploads/2025/10/320-f701782b494a44a4bbd24078ef4c2e95.jpg
END:VEVENT
BEGIN:VEVENT
DTSTART;TZID=Europe/Prague:20260321T180000
DTEND;TZID=Europe/Prague:20260321T210000
DTSTAMP:20260419T202339
CREATED:20260321T195840Z
LAST-MODIFIED:20260321T195841Z
UID:19776-1774116000-1774126800@dnesnivylet.cz
SUMMARY:Venom & Velvet tour
DESCRIPTION:Venom & Velvet tour se uskuteční dne 2026-03-21 v 18:00 v Karlovy Vary\, Slash bar. \n🎟️ Koupit vstupenku \nTento tip na kulturní akci v Karlovy Vary najdete v přehledu na Dnesnivylet.cz spolu s dalšími koncerty\, festivaly a divadelními představeními.Každý si vybere co se mu líbí. Nezapomeňte koupit vstupenky včas\, stačí kliknout a budete přesměrování na oficiálního prodejce vstupenek.
URL:https://dnesnivylet.cz/event/venom-velvet-tour/
LOCATION:Slash bar\, Karlovy Vary\, Slash bar\, Karlovy Vary\, Česká republika
CATEGORIES:Koncert
ATTACH;FMTTYPE=image/jpeg:https://dnesnivylet.cz/wp-content/uploads/2026/03/320-6d08b5b3b7b347999648b92d94635009.jpg
END:VEVENT
BEGIN:VEVENT
DTSTART;TZID=Europe/Prague:20260321T190000
DTEND;TZID=Europe/Prague:20260321T220000
DTSTAMP:20260419T202339
CREATED:20260211T111013Z
LAST-MODIFIED:20260211T111013Z
UID:17948-1774119600-1774130400@dnesnivylet.cz
SUMMARY:Mistr filmové hudby Hans Zimmer
DESCRIPTION:Mistr filmové hudby Hans Zimmer se uskuteční dne 2026-03-21 v 19:00 v Karlovy Vary\, Císařské lázně. \n🎟️ Koupit vstupenku \n\nKoncert při svíčkách: Mistr filmové hudby Hans Zimmer \nBěhem 65 minut zazní ikonická hudba z velkofilmů a seriálů\, které uchvátily diváky po celém světě! Těšit se můžete na emotivní\, dramatické i dobrodružné skladby – od hrdinských tónů Piráti z Karibiku či Top Gun\, přes hluboké emoce z Gladiátora a Pearl Harbor\, až po magické melodie z Interstellar\, Da Vinciho kódu nebo Koruny. \nNechte se unést výjimečnou atmosférou večera\, kdy světlo tisíce svíček rozzáří prostory a smyčcové kvarteto Karlsbad Quartet vás provede těmi nejpůsobivějšími filmovými melodiemi. \nProgram večera zahrnuje mimo jiné: \n\n\nPiráti z Karibiku – On je pirát \n\n\nGladiátor – Teď jsme svobodní \n\n\nTop Gun – Maverick Anthem \n\n\nŠifra mistra Leonarda – Dies Mercurii I Martius \n\n\nInterstellar – Cornfield Chase \n\n\nStallion – Nothing I’ve Ever Known \n\n\nBatman vs. Superman – Let \n\n\nPrázdniny – Maestro \n\n\nThe Pacific – Hlavní téma \n\n\nOnce Upon a Time in Africa \n\n\nLví Král – Král smečky \n\n\nPiráti z Karibiku – Davy Jones \n\n\nPearl Harbor – And Then I Kissed Him \n\n\nAndělé a Démoni – 503 \n\n\nKoruna – Hlavní téma \n\n\nPearl Harbor – Tennessee \n\n\nA další! \nPřijďte si užít jedinečný večer\, kde se spojí síla filmové hudby\, živý výkon smyčcového kvarteta a nezaměnitelná atmosféra koncertního sálu osvětleného tisíci svíček. \n\nTento tip na kulturní akci v Karlovy Vary najdete v přehledu na Dnesnivylet.cz spolu s dalšími koncerty\, festivaly a divadelními představeními.Každý si vybere co se mu líbí. Nezapomeňte koupit vstupenky včas\, stačí kliknout a budete přesměrování na oficiálního prodejce vstupenek.
URL:https://dnesnivylet.cz/event/mistr-filmove-hudby-hans-zimmer-4/
LOCATION:Císařské lázně\, Karlovy Vary\, Císařské lázně\, Karlovy Vary\, Česká republika
CATEGORIES:Koncert
ATTACH;FMTTYPE=image/jpeg:https://dnesnivylet.cz/wp-content/uploads/2026/02/320-137fc47d05ec4ed4a2b996415385c501.jpg
END:VEVENT
BEGIN:VEVENT
DTSTART;TZID=Europe/Prague:20260330T193000
DTEND;TZID=Europe/Prague:20260330T223000
DTSTAMP:20260419T202339
CREATED:20260314T190536Z
LAST-MODIFIED:20260314T190537Z
UID:19542-1774899000-1774909800@dnesnivylet.cz
SUMMARY:Xavier Baumaxa
DESCRIPTION:Xavier Baumaxa se uskuteční dne 2026-03-30 v 19:30 v Karlovy Vary\, Klub Paderewski. \n🎟️ Koupit vstupenku \n\nXavier Baumaxa \nje severočeský crossoverový buránek regionálního charakteru\, svou zamrzlou parodií na tvorbu připomíná zapšklé nýmandy z undergroundu\, kteří se vzájemně utvrzují ve svém odporu vůči všemu populárnímu a novému skrzevá svůj společný\, kontinuální\, historický neúspěch. Svou image staví na tom\, že mu naoko nevadí\, že nikdy nezískal žádné ocenění\, což v očích spřízněných lůzrů jenom potvrzuje jeho postavení solitéra a výjimečného generačního pravdomluvce. Jak jinak si vysvětlit\, že ještě stále někdo dobrovolně navštěvuje koncerty zoufalce\, který se zkouší chytat stébla v neznámých polovodách elektroniky a obnažen kritiky na dřeň se klidně schová i za kapelu či smyčcový sextet. Sex tet je ostatně to jediné\, co lze při jeho přízemní muzice provozovat… \nxavierbaumaxa.cz \n\nTento tip na kulturní akci v Karlovy Vary najdete v přehledu na Dnesnivylet.cz spolu s dalšími koncerty\, festivaly a divadelními představeními.Každý si vybere co se mu líbí. Nezapomeňte koupit vstupenky včas\, stačí kliknout a budete přesměrování na oficiálního prodejce vstupenek.
URL:https://dnesnivylet.cz/event/xavier-baumaxa/
LOCATION:Klub Paderewski\, Karlovy Vary\, Klub Paderewski\, Karlovy Vary\, Česká republika
CATEGORIES:Koncert
ATTACH;FMTTYPE=image/jpeg:https://dnesnivylet.cz/wp-content/uploads/2026/03/320-135ed1be30da41d7ab2856867e02ddac.jpg
END:VEVENT
BEGIN:VEVENT
DTSTART;TZID=Europe/Prague:20260402T193000
DTEND;TZID=Europe/Prague:20260402T223000
DTSTAMP:20260419T202339
CREATED:20260306T172827Z
LAST-MODIFIED:20260306T172827Z
UID:19090-1775158200-1775169000@dnesnivylet.cz
SUMMARY:Robert Křesťan a Druhá tráva
DESCRIPTION:Robert Křesťan a Druhá tráva se uskuteční dne 2026-04-02 v 19:30 v Karlovy Vary\, Klub Paderewski. \n🎟️ Koupit vstupenku \n\nROBERT KŘESŤAN A DRUHÁ TRÁVAKoncert legendy folk\, country a bluegrassové scény zaměřený na průřez tvorby Roberta Křesťana z celé doby existence skupiny\, nyní s důrazem na skladby z posledních studiových alb Díl první a Díl druhý.  \nZa obě tato alba získala Druhá tráva Ceny Anděl v kategorii folk\, Robert Křesťan byl navíc uveden do Síně slávy. \nDruhá tráva – přední česká kapela\, která se během let odchýlila od původního moderního bluegrassu k nadžánrovému výrazu a řadí se mezi špičku na české scéně v roce 2026 oslaví již 35 let od svého vzniku! \n Skupina Druhá tráva hraje v současné době ve složení:Robert Křesťan – sólový zpěv\, mandolína\, kytara Luboš Malina – banjo\, irské píšťaly\, tenor saxofon\, vokály Luboš Novotný – dobro\, lap steel\, vokály Radek Hlávka – kytara\, vokály Tomáš Liška – kontrabas\, basová kytara Martin Novák – bicí\, perkuse\, cajon  \n\nTento tip na kulturní akci v Karlovy Vary najdete v přehledu na Dnesnivylet.cz spolu s dalšími koncerty\, festivaly a divadelními představeními.Každý si vybere co se mu líbí. Nezapomeňte koupit vstupenky včas\, stačí kliknout a budete přesměrování na oficiálního prodejce vstupenek.
URL:https://dnesnivylet.cz/event/robert-krestan-a-druha-trava-3/
LOCATION:Klub Paderewski\, Karlovy Vary\, Klub Paderewski\, Karlovy Vary\, Česká republika
CATEGORIES:Koncert
ATTACH;FMTTYPE=image/jpeg:https://dnesnivylet.cz/wp-content/uploads/2026/03/320-84a8001644114cc7b1765a388751e54f.jpg
END:VEVENT
BEGIN:VEVENT
DTSTART;TZID=Europe/Prague:20260417T200000
DTEND;TZID=Europe/Prague:20260417T230000
DTSTAMP:20260419T202339
CREATED:20260222T142721Z
LAST-MODIFIED:20260222T142721Z
UID:18500-1776456000-1776466800@dnesnivylet.cz
SUMMARY:PUNKROCK ON THE ROAD – TOUR 2026
DESCRIPTION:PUNKROCK ON THE ROAD – TOUR 2026 se uskuteční dne 2026-04-17 v 20:00 v Karlovy Vary\, Lidový Dům. \n🎟️ Koupit vstupenku \n\nTOTÁLNÍ NASAZENÍ / THE FIALKY / NEŽFALEŠ – PUNKROCK ON THE ROAD – TOUR 2026 \nSpolečné turné spřízněných punkrockových kapel\, které navazuje na divácky úspěšnou koncertní šňůru z roku 2024. Pro velký zájem je tentokrát celé turné koncipováno jako série vystoupení po kulturních domech a velkých klubech. \nCelé turné odstartuje už 14. 2. 2026 v Plzni v hale Depo 2015.V roli supportu koncertů se střídavě představí kapely Dilemma in Cinema nebo ska-folk-punkoví Deratizéři. \nTotální nasazení a Nežfaleš navíc přivezou i zbrusu nová alba. \nPUNKROCK ON THE ROAD – TOUR 2026 proběhne od února do dubna v jedenácti městech v Čechách na Moravě a na Slovensku. \n14.2. PLZEŇ – Hala Depo 201527.2. VOLYNĚ – KD13.3 TEPLICE – KD14.3. BRATISLAVA – MMC20.3. ČESKÉ BUDĚJOVICE – KD Vltava21.3. PRAHA – MeetFactory27.3. ZLÍN – MoR28.3. BRNO – První Patro10.4 PARDUBICE – ABC11.4. LIBEREC – KD17.4. KARLOVY VARY – Lidový dům \nPředprodej na celé turné:https://www.smsticket.cz/skupiny/743-punkrock-on-the-road-tour-2026 \nDěti do čtrnácti let v doprovodu rodičů a držitelé průkazů TP\, ZTP nebo ZTP/P mají VSTUP ZDARMA  u ZTP/P má pochopitelně VSTUP ZDARMA i PRŮVODCE.  \n \n\nTento tip na kulturní akci v Karlovy Vary najdete v přehledu na Dnesnivylet.cz spolu s dalšími koncerty\, festivaly a divadelními představeními.Každý si vybere co se mu líbí. Nezapomeňte koupit vstupenky včas\, stačí kliknout a budete přesměrování na oficiálního prodejce vstupenek.
URL:https://dnesnivylet.cz/event/punkrock-on-the-road-tour-2026-6/
LOCATION:Lidový Dům\, Karlovy Vary\, Lidový Dům\, Karlovy Vary\, Česká republika
CATEGORIES:Koncert
ATTACH;FMTTYPE=image/jpeg:https://dnesnivylet.cz/wp-content/uploads/2026/02/320-076ac44be0604533bb663191980ced62.jpg
END:VEVENT
BEGIN:VEVENT
DTSTART;TZID=Europe/Prague:20260429T200000
DTEND;TZID=Europe/Prague:20260429T230000
DTSTAMP:20260419T202339
CREATED:20251026T124410Z
LAST-MODIFIED:20251026T124410Z
UID:10193-1777492800-1777503600@dnesnivylet.cz
SUMMARY:Souboj Klavírů v Karlových Varech
DESCRIPTION:Souboj Klavírů v Karlových Varech se uskuteční dne 2026-04-29 v 20:00 v Karlovy Vary\, Grandhotel AMBASSADOR Národní Dům. \n🎟️ Koupit vstupenku \n\nZveme vás na jedinečný koncert dvou výjimečných klavíristů a hudebních skladatelů – Ondřeje Brzobohatého a Ondřeje Brouska! Tito celoživotní přátelé spojí své hudební mistrovství na pódiu v Karlových Varech ! Přijďte si užít večer plný virtuózní klavírní hry a nezapomenutelných melodií! \nJak by zněla „Osudová“\, kdyby byl Beethoven optimista? Proč pláčeme při banálním filmovém dialogu? Co je to „nevhodná“ hudba? Že se u klasické hudby nedá pořádně zasmát? Může mít „Souboj klavírů“ vítěze? \nNa tyto otázky vám stylově odpoví duo Brousek – Brzobohatý\, které připravilo nezapomenutelný večer plný hudebních vtipů s dvěma klavíry. \n\nTento tip na kulturní akci v Karlovy Vary najdete v přehledu na Dnesnivylet.cz spolu s dalšími koncerty\, festivaly a divadelními představeními.Každý si vybere co se mu líbí. Nezapomeňte koupit vstupenky včas\, stačí kliknout a budete přesměrování na oficiálního prodejce vstupenek.
URL:https://dnesnivylet.cz/event/souboj-klaviru-v-karlovych-varech/
LOCATION:Grandhotel AMBASSADOR Národní Dům\, Karlovy Vary\, Grandhotel AMBASSADOR Národní Dům\, Karlovy Vary\, Česká republika
CATEGORIES:Koncert
ATTACH;FMTTYPE=image/jpeg:https://dnesnivylet.cz/wp-content/uploads/2025/10/320-0f5d971b5c404954ad9ad10881f54ad8.jpg
END:VEVENT
BEGIN:VEVENT
DTSTART;TZID=Europe/Prague:20260927T180000
DTEND;TZID=Europe/Prague:20260927T210000
DTSTAMP:20260419T202339
CREATED:20260209T194107Z
LAST-MODIFIED:20260209T194107Z
UID:17868-1790532000-1790542800@dnesnivylet.cz
SUMMARY:Pocta Haně Hegerové v hotelu Thermal
DESCRIPTION:Pocta Haně Hegerové v hotelu Thermal se uskuteční dne 2026-09-27 v 18:00 v Karlovy Vary\, Hotel Thermal. \n🎟️ Koupit vstupenku \n\nHudební zážitek\, na který jen tak nezapomenete. Budete plakat\, smát se\, a mít husí kůži po těle. \nLegendární dílo Hany Hegerové v podání Zuzany Němcové Šmejkalové. Zpěvačka s hlubokým\, sametovým hlasem a intenzivním hereckým projevem přináší osobitou interpretaci ikonických písní první dámy československého šansonu. \nVečer plný mistrovské klavírní hry Doubravky Linhartové a rafinovaných bubenických rytmů Jakuba Němce slibuje výjimečný umělecký zážitek\, který s úctou nahlédne do díla Hany Hegerové a zasáhne i ty nejcitlivější struny vaší duše. \nPřijďte vzdát hold legendě a prožít znovu její písně. \n„Ať žije Hegerová!“ \n\nTento tip na kulturní akci v Karlovy Vary najdete v přehledu na Dnesnivylet.cz spolu s dalšími koncerty\, festivaly a divadelními představeními.Každý si vybere co se mu líbí. Nezapomeňte koupit vstupenky včas\, stačí kliknout a budete přesměrování na oficiálního prodejce vstupenek.
URL:https://dnesnivylet.cz/event/pocta-hane-hegerove-v-hotelu-thermal-2/
LOCATION:Hotel Thermal\, Karlovy Vary\, Hotel Thermal\, Karlovy Vary\, Česká republika
CATEGORIES:Koncert
ATTACH;FMTTYPE=image/jpeg:https://dnesnivylet.cz/wp-content/uploads/2026/02/320-bcc4b23186c7492d83f98c142fa86cc7-1.jpg
END:VEVENT
BEGIN:VEVENT
DTSTART;TZID=Europe/Prague:20260927T180000
DTEND;TZID=Europe/Prague:20260927T210000
DTSTAMP:20260419T202339
CREATED:20260209T194107Z
LAST-MODIFIED:20260209T194107Z
UID:17867-1790532000-1790542800@dnesnivylet.cz
SUMMARY:Pocta Haně Hegerové v hotelu Thermal
DESCRIPTION:Pocta Haně Hegerové v hotelu Thermal se uskuteční dne 2026-09-27 v 18:00 v Karlovy Vary\, Hotel Thermal. \n🎟️ Koupit vstupenku \n\nHudební zážitek\, na který jen tak nezapomenete. Budete plakat\, smát se\, a mít husí kůži po těle. \nLegendární dílo Hany Hegerové v podání Zuzany Němcové Šmejkalové. Zpěvačka s hlubokým\, sametovým hlasem a intenzivním hereckým projevem přináší osobitou interpretaci ikonických písní první dámy československého šansonu. \nVečer plný mistrovské klavírní hry Doubravky Linhartové a rafinovaných bubenických rytmů Jakuba Němce slibuje výjimečný umělecký zážitek\, který s úctou nahlédne do díla Hany Hegerové a zasáhne i ty nejcitlivější struny vaší duše. \nPřijďte vzdát hold legendě a prožít znovu její písně. \n„Ať žije Hegerová!“ \n\nTento tip na kulturní akci v Karlovy Vary najdete v přehledu na Dnesnivylet.cz spolu s dalšími koncerty\, festivaly a divadelními představeními.Každý si vybere co se mu líbí. Nezapomeňte koupit vstupenky včas\, stačí kliknout a budete přesměrování na oficiálního prodejce vstupenek.
URL:https://dnesnivylet.cz/event/pocta-hane-hegerove-v-hotelu-thermal/
LOCATION:Hotel Thermal\, Karlovy Vary\, Hotel Thermal\, Karlovy Vary\, Česká republika
CATEGORIES:Koncert
ATTACH;FMTTYPE=image/jpeg:https://dnesnivylet.cz/wp-content/uploads/2026/02/320-bcc4b23186c7492d83f98c142fa86cc7.jpg
END:VEVENT
BEGIN:VEVENT
DTSTART;TZID=Europe/Prague:20261211T190000
DTEND;TZID=Europe/Prague:20261211T220000
DTSTAMP:20260419T202339
CREATED:20260405T130126Z
LAST-MODIFIED:20260405T130126Z
UID:20184-1797015600-1797026400@dnesnivylet.cz
SUMMARY:QUEENSHOW Karlovy Vary
DESCRIPTION:QUEENSHOW Karlovy Vary se uskuteční dne 2026-12-11 v 19:00 v Karlovy Vary\, Hotel Thermal. \n🎟️ Koupit vstupenku \n\nQueenshow patří k nejvěrnějším tribute projektům legendární skupiny Queen na světě. \nJejich koncerty přinášejí autentický návrat do zlaté éry 80. let – od precizně zpracovaného zvuku\, přes dobovou pódiovou techniku\, až po ikonickou vizuální show. Díky použití originálních nástrojů a aparatury zní hudba Queen přesně tak\, jak si ji pamatují fanoušci z legendárních stadionových koncertů. \nVystoupení Queenshow umožňuje znovu pocítit přítomnost Freddieho Mercuryho a jedinečnou energii jedné z největších kapel hudební historie. Tento koncert je výjimečným zážitkem pro všechny milovníky rockové dokonalosti.  \n\nTento tip na kulturní akci v Karlovy Vary najdete v přehledu na Dnesnivylet.cz spolu s dalšími koncerty\, festivaly a divadelními představeními.Každý si vybere co se mu líbí. Nezapomeňte koupit vstupenky včas\, stačí kliknout a budete přesměrování na oficiálního prodejce vstupenek.
URL:https://dnesnivylet.cz/event/queenshow-karlovy-vary-2/
LOCATION:Hotel Thermal\, Karlovy Vary\, Hotel Thermal\, Karlovy Vary\, Česká republika
CATEGORIES:Koncert
ATTACH;FMTTYPE=image/jpeg:https://dnesnivylet.cz/wp-content/uploads/2026/04/320-690eb0c4b3914515bf7d823c059e0eea.jpg
END:VEVENT
BEGIN:VEVENT
DTSTART;TZID=Europe/Prague:20261215T190000
DTEND;TZID=Europe/Prague:20261215T220000
DTSTAMP:20260419T202339
CREATED:20260419T123602Z
LAST-MODIFIED:20260419T123602Z
UID:21051-1797361200-1797372000@dnesnivylet.cz
SUMMARY:Petr Tomeček / Vánoce 2026 v Karlových Varech
DESCRIPTION:Petr Tomeček / Vánoce 2026 v Karlových Varech se uskuteční dne 2026-12-15 v 19:00 v Karlovy Vary\, Císařské lázně. \n🎟️ Koupit vstupenku \n\nDovolujeme si Vás pozvat na výjimečný vánoční večer\, který se odehraje v jednom z nejkrásnějších a nejreprezentativnějších měst Evropy. \nPetr Tomeček / Vánoce 2026 v Karlových Varech je slavnostní koncert\, jenž propojí kouzlo Vánoc s noblesou světoznámého lázeňského města\, jehož elegance\, klid a nadčasová krása vytvářejí dokonalou kulisu pro mimořádný kulturní zážitek. \nKarlovy Vary – město tradic\, umění a vytříbeného vkusu – se stanou dějištěm exkluzivní vánoční show\, která dalece přesahuje rámec běžného koncertu. Večer bude oslavou hudby\, emocí a sváteční atmosféry v té nejvyšší kvalitě. \nHlavním hudebním nástrojem koncertu bude Panova flétna – výjimečný a podmanivý nástroj s jemným\, hřejivým tónem\, který v sobě nese klid\, hloubku a duchovní rozměr. Její zvuk se v tomto programu stává symbolem Vánoc – čistým\, meditativním a zároveň silně emotivním. \nPetr Tomeček vystoupí za doprovodu živého orchestru a kapely\, čímž vznikne bohatý a slavnostní hudební celek. Program dále obohatí dětský pěvecký sbor\, jehož hlasy vnesou do večera nevinnost a kouzlo svátečních tradic\, spolu s moderními tanečníky a baletem\, kteří dodají koncertu eleganci\, lehkost a vizuální působivost. \nZazní světové i české vánoční melodie a hity\, sváteční skladby v moderních\, originálních aranžmá\, vytvořených speciálně pro tento projekt. Hudba se zde propojí s pohybem\, prostorem a atmosférou lázeňského města v harmonický celek\, který osloví všechny smysly. \nTento koncert je určen publiku\, které vyhledává výjimečné kulturní události\, vysokou uměleckou úroveň a neopakovatelný zážitek. Vyšší cena vstupenky tak reflektuje rozsah účinkujících\, špičkovou produkci i jedinečnost večera\, jenž se stane důstojnou součástí vánoční tradice Karlových Varů. \nProžijte Vánoce 2026 v duchu klidu\, elegance a hudby\, která hladí duši.V prostředí\, kde se čas zpomaluje a sváteční okamžiky získávají skutečnou hloubku. \n\nTento tip na kulturní akci v Karlovy Vary najdete v přehledu na Dnesnivylet.cz spolu s dalšími koncerty\, festivaly a divadelními představeními.Každý si vybere co se mu líbí. Nezapomeňte koupit vstupenky včas\, stačí kliknout a budete přesměrování na oficiálního prodejce vstupenek.
URL:https://dnesnivylet.cz/event/petr-tomecek-vanoce-2026-v-karlovych-varech/
LOCATION:Císařské lázně\, Karlovy Vary\, Císařské lázně\, Karlovy Vary\, Česká republika
CATEGORIES:Koncert
ATTACH;FMTTYPE=image/jpeg:https://dnesnivylet.cz/wp-content/uploads/2026/04/320-e6c24311ce804b1db5534a73ba857fcb.jpg
END:VEVENT
BEGIN:VEVENT
DTSTART;TZID=Europe/Prague:20270315T190000
DTEND;TZID=Europe/Prague:20270315T220000
DTSTAMP:20260419T202339
CREATED:20260110T165543Z
LAST-MODIFIED:20260110T165543Z
UID:16666-1805137200-1805148000@dnesnivylet.cz
SUMMARY:Osmany Show
DESCRIPTION:Osmany Show se uskuteční dne 2027-03-15 v 19:00 v Karlovy Vary\, Lidový Dům. \n🎟️ Koupit vstupenku \n\nOriginální zábavný pořad populárního módního návrháře kubánského původu Osmanyho Laffity se zbrusu novými historkami a příběhy. \nDevadesát minut nekorektního humoru a zábavy\, která Vás bezesporu pobaví. Osmany Vám dá nahlédnout do svého soukromí a ukáže\, že je také člověk z masa a kostí. I mnohdy smutnou historku dovede podat neodolatelným způsobem\, který pobaví. \nShow\, která polechtá Vaši bránici! \nModeruje: Eva DECASTELO \nÚčinkuje: Osmany LAFFITA \nDélka představení 90 až 120 minut (obvykle + přestávka) \nPředstavení nedoporučujeme divákům mladším 15 let. \n\nTento tip na kulturní akci v Karlovy Vary najdete v přehledu na Dnesnivylet.cz spolu s dalšími koncerty\, festivaly a divadelními představeními.Každý si vybere co se mu líbí. Nezapomeňte koupit vstupenky včas\, stačí kliknout a budete přesměrování na oficiálního prodejce vstupenek.
URL:https://dnesnivylet.cz/event/osmany-show-20/
LOCATION:Lidový Dům\, Karlovy Vary\, Lidový Dům\, Karlovy Vary\, Česká republika
CATEGORIES:Zábava
ATTACH;FMTTYPE=image/jpeg:https://dnesnivylet.cz/wp-content/uploads/2026/01/320-1ad44b55194943c28f7d23c5142e883e.jpg
END:VEVENT
END:VCALENDAR