BEGIN:VCALENDAR
VERSION:2.0
PRODID:-//www.dnesnivylet.cz                                                                                                                        Tip na výlet pro celou rodinu. - ECPv6.15.13.1//NONSGML v1.0//EN
CALSCALE:GREGORIAN
METHOD:PUBLISH
X-WR-CALNAME:www.dnesnivylet.cz                                                                                                                        Tip na výlet pro celou rodinu.
X-ORIGINAL-URL:https://dnesnivylet.cz
X-WR-CALDESC:Akce na www.dnesnivylet.cz                                                                                                                        Tip na výlet pro celou rodinu.
REFRESH-INTERVAL;VALUE=DURATION:PT1H
X-Robots-Tag:noindex
X-PUBLISHED-TTL:PT1H
BEGIN:VTIMEZONE
TZID:Europe/Prague
BEGIN:DAYLIGHT
TZOFFSETFROM:+0100
TZOFFSETTO:+0200
TZNAME:CEST
DTSTART:20240331T010000
END:DAYLIGHT
BEGIN:STANDARD
TZOFFSETFROM:+0200
TZOFFSETTO:+0100
TZNAME:CET
DTSTART:20241027T010000
END:STANDARD
BEGIN:DAYLIGHT
TZOFFSETFROM:+0100
TZOFFSETTO:+0200
TZNAME:CEST
DTSTART:20250330T010000
END:DAYLIGHT
BEGIN:STANDARD
TZOFFSETFROM:+0200
TZOFFSETTO:+0100
TZNAME:CET
DTSTART:20251026T010000
END:STANDARD
BEGIN:DAYLIGHT
TZOFFSETFROM:+0100
TZOFFSETTO:+0200
TZNAME:CEST
DTSTART:20260329T010000
END:DAYLIGHT
BEGIN:STANDARD
TZOFFSETFROM:+0200
TZOFFSETTO:+0100
TZNAME:CET
DTSTART:20261025T010000
END:STANDARD
END:VTIMEZONE
BEGIN:VEVENT
DTSTART;TZID=Europe/Prague:20251104T193000
DTEND;TZID=Europe/Prague:20251104T223000
DTSTAMP:20260420T010743
CREATED:20251025T142806Z
LAST-MODIFIED:20251025T142806Z
UID:9981-1762284600-1762295400@dnesnivylet.cz
SUMMARY:Epydemye
DESCRIPTION:Epydemye se uskuteční dne 2025-11-04 v 19:30 v Karlovy Vary\, Klub Paderewski. \n🎟️ Koupit vstupenku \n\nEPYDEMYE \nEnergická vystoupení\, písně s českými texty\, ocenění Anděl…Jihočeská skupina Epydemye je známá svými energickými vystoupeními\, písněmi s výraznými českými texty i oceněním Anděl. Posluchače napříč generacemi získává svou pozitivní a živelnou koncertní energií i písněmi\, jejichž texty otevírají zajímavá témata. Tato pohodová parta muzikantů je považována za jedno z nejosobitějších hudebních uskupení na současné folkové scéně. Epydemye letos slaví dvacet let existence\, jejich koncert nabídne průřez starší tvorbou i novinky z posledního autorského alba Dosebe\, které vyšlo na jaře 2025.Za desku Kotlina kapela získala žánrovou cenu Anděl 2015. Na tomto monotematickém albu zpracovala životní příběhy osobností československých dějin 20. století. Deska Milé děti (2019) byla nominovaná na žánrového Anděla. V roce 2021 kapela vydala album Prosklený nebe.Složení: Lucie Vlasáková (zpěv\, kontrabas)\, Mirek Vlasák (zpěv\, kytary)\, Honza Přeslička (zpěv\, kytary) a Tomáš Hobzek (bicí) \nhttps://www.epydemye.cz/ \n\nTento tip na kulturní akci v Karlovy Vary najdete v přehledu na Dnesnivylet.cz spolu s dalšími koncerty\, festivaly a divadelními představeními.Každý si vybere co se mu líbí. Nezapomeňte koupit vstupenky včas\, stačí kliknout a budete přesměrování na oficiálního prodejce vstupenek.
URL:https://dnesnivylet.cz/event/epydemye-2/
LOCATION:Klub Paderewski\, Karlovy Vary\, Klub Paderewski\, Karlovy Vary\, Česká republika
CATEGORIES:Koncert
ATTACH;FMTTYPE=image/jpeg:https://dnesnivylet.cz/wp-content/uploads/2025/10/320-a8003c0fd77c41399dd8c79fefe12a17.jpg
END:VEVENT
BEGIN:VEVENT
DTSTART;TZID=Europe/Prague:20251102T173000
DTEND;TZID=Europe/Prague:20251102T203000
DTSTAMP:20260420T010743
CREATED:20251102T182102Z
LAST-MODIFIED:20251102T182102Z
UID:11178-1762104600-1762115400@dnesnivylet.cz
SUMMARY:Dan Bárta - Vážky jako předsunutá hlídka\, Caminos festival
DESCRIPTION:Dan Bárta – Vážky jako předsunutá hlídka\, Caminos festival se uskuteční dne 2025-11-02 v 17:30 v Karlovy Vary\, Kino Drahomíra. \n🎟️ Koupit vstupenku \n\nVážky jako předsunutá hlídka  \nDAN BÁRTA \nzpěvák\, fotograf a milovník přírody \nna festivalu Caminos \nneděle 2. listopadu v 17:30 hod. \nkarlovarské kino DRAHOMÍRA \nČeský zpěvák a textař Dan Bárta má slabost pro přírodu. Se svým dlouholetým spolupracovníkem\, biologem Alešem Dolným\, navštívil řadu kontinentů\, aby zkoumal a fotografoval vážky. V rámci přednášky přiblíží jejich výzkum\, vysvětlí\, co nám výskyt vážek říká o kvalitě prostředí\, a provede souvislostmi mezi životem vážek a krajinou kolem nás. \n\nTento tip na kulturní akci v Karlovy Vary najdete v přehledu na Dnesnivylet.cz spolu s dalšími koncerty\, festivaly a divadelními představeními.Každý si vybere co se mu líbí. Nezapomeňte koupit vstupenky včas\, stačí kliknout a budete přesměrování na oficiálního prodejce vstupenek.
URL:https://dnesnivylet.cz/event/dan-barta-vazky-jako-predsunuta-hlidka-caminos-festival/
LOCATION:Kino Drahomíra\, Karlovy Vary\, Kino Drahomíra\, Karlovy Vary\, Česká republika
CATEGORIES:Festival
ATTACH;FMTTYPE=image/jpeg:https://dnesnivylet.cz/wp-content/uploads/2025/11/320-cdb8da29e82e4922b50f026864665b25.jpg
END:VEVENT
BEGIN:VEVENT
DTSTART;TZID=Europe/Prague:20251023T190000
DTEND;TZID=Europe/Prague:20251023T220000
DTSTAMP:20260420T010743
CREATED:20251020T182553Z
LAST-MODIFIED:20251020T182554Z
UID:9402-1761246000-1761256800@dnesnivylet.cz
SUMMARY:ŠVANCI SHOW - JÁ SU JÁ - Karlovy Vary
DESCRIPTION:ŠVANCI SHOW – JÁ SU JÁ – Karlovy Vary se uskuteční dne 2025-10-23 v 19:00 v Karlovy Vary\, Lidový Dům. \n🎟️ Koupit vstupenku \n\nNová zábavná show „JÁ SU JÁ“ vyráží na TOUR po celé České republice. \nČekají vás vtipné historky\, od kariéry fotbalisty\, velkolepé rozlučky za Lužánkami\, návštěv různých zábavních pořadů\, až po účast v reality show Survivor. Dále se těšte na prostor pro otázky na tělo\, autogramiádu\, focení a mnoho dalšího. \nJak moc dobře mě znáš? Jak vypadá můj život po kariéře fotbalisty? Chceš znát více informací o reality show Surviror? \nNejen to se dozvíš ve zbrusu nové zábavné show „JÁ SU JÁ“. \nPřijď se podívat a užít si legraci\, popovídat si s legendou fotbalu\, moderátorem\, bavičem a dát si třeba fotku\, nebo si nechat cokoliv podepsat. \nPořad není vhodný mladším 15 let! \n\nTento tip na kulturní akci v Karlovy Vary najdete v přehledu na Dnesnivylet.cz spolu s dalšími koncerty\, festivaly a divadelními představeními.Každý si vybere co se mu líbí. Nezapomeňte koupit vstupenky včas\, stačí kliknout a budete přesměrování na oficiálního prodejce vstupenek.
URL:https://dnesnivylet.cz/event/svanci-show-ja-su-ja-karlovy-vary/
LOCATION:Lidový Dům\, Karlovy Vary\, Lidový Dům\, Karlovy Vary\, Česká republika
CATEGORIES:Zábava
ATTACH;FMTTYPE=image/jpeg:https://dnesnivylet.cz/wp-content/uploads/2025/10/320-a2a2fd896d554f3092fe0c1aa91767d0.jpg
END:VEVENT
END:VCALENDAR