BEGIN:VCALENDAR
VERSION:2.0
PRODID:-//www.dnesnivylet.cz                                                                                                                        Tip na výlet pro celou rodinu. - ECPv6.15.13.1//NONSGML v1.0//EN
CALSCALE:GREGORIAN
METHOD:PUBLISH
X-ORIGINAL-URL:https://dnesnivylet.cz
X-WR-CALDESC:Akce na www.dnesnivylet.cz                                                                                                                        Tip na výlet pro celou rodinu.
REFRESH-INTERVAL;VALUE=DURATION:PT1H
X-Robots-Tag:noindex
X-PUBLISHED-TTL:PT1H
BEGIN:VTIMEZONE
TZID:Europe/Prague
BEGIN:DAYLIGHT
TZOFFSETFROM:+0100
TZOFFSETTO:+0200
TZNAME:CEST
DTSTART:20250330T010000
END:DAYLIGHT
BEGIN:STANDARD
TZOFFSETFROM:+0200
TZOFFSETTO:+0100
TZNAME:CET
DTSTART:20251026T010000
END:STANDARD
BEGIN:DAYLIGHT
TZOFFSETFROM:+0100
TZOFFSETTO:+0200
TZNAME:CEST
DTSTART:20260329T010000
END:DAYLIGHT
BEGIN:STANDARD
TZOFFSETFROM:+0200
TZOFFSETTO:+0100
TZNAME:CET
DTSTART:20261025T010000
END:STANDARD
BEGIN:DAYLIGHT
TZOFFSETFROM:+0100
TZOFFSETTO:+0200
TZNAME:CEST
DTSTART:20270328T010000
END:DAYLIGHT
BEGIN:STANDARD
TZOFFSETFROM:+0200
TZOFFSETTO:+0100
TZNAME:CET
DTSTART:20271031T010000
END:STANDARD
END:VTIMEZONE
BEGIN:VEVENT
DTSTART;TZID=Europe/Prague:20260402T193000
DTEND;TZID=Europe/Prague:20260402T223000
DTSTAMP:20260419T131407
CREATED:20260306T172827Z
LAST-MODIFIED:20260306T172827Z
UID:19090-1775158200-1775169000@dnesnivylet.cz
SUMMARY:Robert Křesťan a Druhá tráva
DESCRIPTION:Robert Křesťan a Druhá tráva se uskuteční dne 2026-04-02 v 19:30 v Karlovy Vary\, Klub Paderewski. \n🎟️ Koupit vstupenku \n\nROBERT KŘESŤAN A DRUHÁ TRÁVAKoncert legendy folk\, country a bluegrassové scény zaměřený na průřez tvorby Roberta Křesťana z celé doby existence skupiny\, nyní s důrazem na skladby z posledních studiových alb Díl první a Díl druhý.  \nZa obě tato alba získala Druhá tráva Ceny Anděl v kategorii folk\, Robert Křesťan byl navíc uveden do Síně slávy. \nDruhá tráva – přední česká kapela\, která se během let odchýlila od původního moderního bluegrassu k nadžánrovému výrazu a řadí se mezi špičku na české scéně v roce 2026 oslaví již 35 let od svého vzniku! \n Skupina Druhá tráva hraje v současné době ve složení:Robert Křesťan – sólový zpěv\, mandolína\, kytara Luboš Malina – banjo\, irské píšťaly\, tenor saxofon\, vokály Luboš Novotný – dobro\, lap steel\, vokály Radek Hlávka – kytara\, vokály Tomáš Liška – kontrabas\, basová kytara Martin Novák – bicí\, perkuse\, cajon  \n\nTento tip na kulturní akci v Karlovy Vary najdete v přehledu na Dnesnivylet.cz spolu s dalšími koncerty\, festivaly a divadelními představeními.Každý si vybere co se mu líbí. Nezapomeňte koupit vstupenky včas\, stačí kliknout a budete přesměrování na oficiálního prodejce vstupenek.
URL:https://dnesnivylet.cz/event/robert-krestan-a-druha-trava-3/
LOCATION:Klub Paderewski\, Karlovy Vary\, Klub Paderewski\, Karlovy Vary\, Česká republika
CATEGORIES:Koncert
ATTACH;FMTTYPE=image/jpeg:https://dnesnivylet.cz/wp-content/uploads/2026/03/320-84a8001644114cc7b1765a388751e54f.jpg
END:VEVENT
END:VCALENDAR