BEGIN:VCALENDAR
VERSION:2.0
PRODID:-//www.dnesnivylet.cz                                                                                                                        Tip na výlet pro celou rodinu. - ECPv6.15.13.1//NONSGML v1.0//EN
CALSCALE:GREGORIAN
METHOD:PUBLISH
X-WR-CALNAME:www.dnesnivylet.cz                                                                                                                        Tip na výlet pro celou rodinu.
X-ORIGINAL-URL:https://dnesnivylet.cz
X-WR-CALDESC:Akce na www.dnesnivylet.cz                                                                                                                        Tip na výlet pro celou rodinu.
REFRESH-INTERVAL;VALUE=DURATION:PT1H
X-Robots-Tag:noindex
X-PUBLISHED-TTL:PT1H
BEGIN:VTIMEZONE
TZID:Europe/Prague
BEGIN:DAYLIGHT
TZOFFSETFROM:+0100
TZOFFSETTO:+0200
TZNAME:CEST
DTSTART:20250330T010000
END:DAYLIGHT
BEGIN:STANDARD
TZOFFSETFROM:+0200
TZOFFSETTO:+0100
TZNAME:CET
DTSTART:20251026T010000
END:STANDARD
BEGIN:DAYLIGHT
TZOFFSETFROM:+0100
TZOFFSETTO:+0200
TZNAME:CEST
DTSTART:20260329T010000
END:DAYLIGHT
BEGIN:STANDARD
TZOFFSETFROM:+0200
TZOFFSETTO:+0100
TZNAME:CET
DTSTART:20261025T010000
END:STANDARD
BEGIN:DAYLIGHT
TZOFFSETFROM:+0100
TZOFFSETTO:+0200
TZNAME:CEST
DTSTART:20270328T010000
END:DAYLIGHT
BEGIN:STANDARD
TZOFFSETFROM:+0200
TZOFFSETTO:+0100
TZNAME:CET
DTSTART:20271031T010000
END:STANDARD
END:VTIMEZONE
BEGIN:VEVENT
DTSTART;TZID=Europe/Prague:20260408T180000
DTEND;TZID=Europe/Prague:20260408T210000
DTSTAMP:20260419T134508
CREATED:20260113T175728Z
LAST-MODIFIED:20260113T175728Z
UID:16719-1775671200-1775682000@dnesnivylet.cz
SUMMARY:Jan Hnízdil - Jak být zdravý v nemocné společnosti
DESCRIPTION:Jan Hnízdil – Jak být zdravý v nemocné společnosti se uskuteční dne 2026-04-08 v 18:00 v Hradec Králové\, Adalbertinum\, Velký sál. \n🎟️ Koupit vstupenku \n\nJak být zdravý v nemocné společnosti. O zdraví a nemocech člověka i celé společnosti\, volné povídání s navazující besedou. \n  \nMUDr. Jan Hnízdil\, internista a rehabilitační lékař (*1958)\, autor publikací: Mým marodům\, Zaříkávač nemocí\, Příběhy obyčejného uzdravení\, Ako sa nestať pacientom\, O bolesti zad: Všechno\, co jste kdy chtěli vědět\, ale báli jste se zeptat\, Všichni jsou psychopati jenom já jsem letadlo\, Kronika doby covidové a dalších. V roce 2013 založil pracoviště komplexní psychosomatické medicíny Hnízdo zdraví\, které bylo v roce 2024 představitelem medicínského mainstreamu nepřátelsky převzato a zničeno. Je držitelem Zlatého bludného balvanu Klubu českých skeptiků Sisyfos za rok 2015. Pro hrubé porušení lékařské odbornosti a etiky v době covidizmu vyloučil v roce 2024 Českou lékařskou komoru ze svojí společnosti a přešel na pozici zdravotního poradce. \n  \ncena 390 Kč / na místě 450 Kč \n  \n– – –  \nDŮLEŽITÉ UPOZORNĚNÍ: \nVstupenka je po nákupu nevratná. Pokud ji nemůžete využít\, je možné ji předat jiné osobě.  \nNa akci mohou být pořizovány fotografie nebo audiovizuální záznamy. Zakoupením vstupenky dáváte najevo svůj souhlas s focením a nahráváním vaší osoby.  \n  \n\nTento tip na kulturní akci v Hradec Králové najdete v přehledu na Dnesnivylet.cz spolu s dalšími koncerty\, festivaly a divadelními představeními.Každý si vybere co se mu líbí. Nezapomeňte koupit vstupenky včas\, stačí kliknout a budete přesměrování na oficiálního prodejce vstupenek.
URL:https://dnesnivylet.cz/event/jan-hnizdil-jak-byt-zdravy-v-nemocne-spolecnosti/
LOCATION:Adalbertinum\, Velký sál\, Hradec Králové\, Adalbertinum\, Velký sál\, Hradec Králové\, Česká republika
CATEGORIES:Zábava
ATTACH;FMTTYPE=image/jpeg:https://dnesnivylet.cz/wp-content/uploads/2026/01/320-df7d0b00c5a9409e989c16e814e9ee32.jpg
END:VEVENT
END:VCALENDAR