BEGIN:VCALENDAR
VERSION:2.0
PRODID:-//www.dnesnivylet.cz                                                                                                                        Tip na výlet pro celou rodinu. - ECPv6.15.13.1//NONSGML v1.0//EN
CALSCALE:GREGORIAN
METHOD:PUBLISH
X-ORIGINAL-URL:https://dnesnivylet.cz
X-WR-CALDESC:Akce na www.dnesnivylet.cz                                                                                                                        Tip na výlet pro celou rodinu.
REFRESH-INTERVAL;VALUE=DURATION:PT1H
X-Robots-Tag:noindex
X-PUBLISHED-TTL:PT1H
BEGIN:VTIMEZONE
TZID:Europe/Prague
BEGIN:DAYLIGHT
TZOFFSETFROM:+0100
TZOFFSETTO:+0200
TZNAME:CEST
DTSTART:20250330T010000
END:DAYLIGHT
BEGIN:STANDARD
TZOFFSETFROM:+0200
TZOFFSETTO:+0100
TZNAME:CET
DTSTART:20251026T010000
END:STANDARD
BEGIN:DAYLIGHT
TZOFFSETFROM:+0100
TZOFFSETTO:+0200
TZNAME:CEST
DTSTART:20260329T010000
END:DAYLIGHT
BEGIN:STANDARD
TZOFFSETFROM:+0200
TZOFFSETTO:+0100
TZNAME:CET
DTSTART:20261025T010000
END:STANDARD
BEGIN:DAYLIGHT
TZOFFSETFROM:+0100
TZOFFSETTO:+0200
TZNAME:CEST
DTSTART:20270328T010000
END:DAYLIGHT
BEGIN:STANDARD
TZOFFSETFROM:+0200
TZOFFSETTO:+0100
TZNAME:CET
DTSTART:20271031T010000
END:STANDARD
END:VTIMEZONE
BEGIN:VEVENT
DTSTART;TZID=Europe/Prague:20260627T193000
DTEND;TZID=Europe/Prague:20260627T223000
DTSTAMP:20260419T163039
CREATED:20260121T194004Z
LAST-MODIFIED:20260121T194004Z
UID:16918-1782588600-1782599400@dnesnivylet.cz
SUMMARY:Tomáš Linka " 80 "
DESCRIPTION:Tomáš Linka “ 80 „ se uskuteční dne 2026-06-27 v 19:30 v Hradec Králové\, Letní areál U Letců. \n🎟️ Koupit vstupenku \n\n\nTomáš Linka vskutku vitálně směřuje k únorovým osmdesátinám\, což dokazuje toto 3CD nabízející několik desítek hitů z minulých dekád\, ale také šest nových písní\, včetně jeho verze songu Když milenky pláčou.\nJe právem populární zpěvák a výtečný hráč na foukací harmoniku\, který je téměř „posledním kovbojem“ ze skvělé generace muzikantů\, začínajících natáčet již na sklonku šedesátých let.\nOd amerických tradicionálů typu Jesseho Jamese\, Roku 1849\, Lojzy a Lízy nebo Červené řeky a klasických kousků od Hanka Williamse či Johnnyho Cashe se přes písničkářství ve stopách Gordona Lightfoota nebo Johna Denvera úspěšně posunul až k aktuálnímu elektrifikovanému country rocku.\nVedle převzatých skladeb proslulosti Paní má se má\, Je mi líto\, Chci být vodou na tvůj mlýn\, Hraj fér\, Tisíc mílí nikam nebo Půlnoční kovboj nikdy nezapomínal na stylově funkční domácí repertoár.\nČastým spoluautorem textaře Linky je Antonín Kny\, komponista\, kytarista\, vokalista\, aranžér\, kapelník\, producent etc. – a také mimořádně kompetentní sestavovatel této kompilace.\n\n\nTento tip na kulturní akci v Hradec Králové najdete v přehledu na Dnesnivylet.cz spolu s dalšími koncerty\, festivaly a divadelními představeními.Každý si vybere co se mu líbí. Nezapomeňte koupit vstupenky včas\, stačí kliknout a budete přesměrování na oficiálního prodejce vstupenek.
URL:https://dnesnivylet.cz/event/tomas-linka-80/
LOCATION:Letní areál U Letců\, Hradec Králové\, Letní areál U Letců\, Hradec Králové\, Česká republika
CATEGORIES:Koncert
ATTACH;FMTTYPE=image/jpeg:https://dnesnivylet.cz/wp-content/uploads/2026/01/320-e904c9c953b346398008d45a16956bdd.jpg
END:VEVENT
END:VCALENDAR