BEGIN:VCALENDAR
VERSION:2.0
PRODID:-//www.dnesnivylet.cz                                                                                                                        Tip na výlet pro celou rodinu. - ECPv6.15.13.1//NONSGML v1.0//EN
CALSCALE:GREGORIAN
METHOD:PUBLISH
X-ORIGINAL-URL:https://dnesnivylet.cz
X-WR-CALDESC:Akce na www.dnesnivylet.cz                                                                                                                        Tip na výlet pro celou rodinu.
REFRESH-INTERVAL;VALUE=DURATION:PT1H
X-Robots-Tag:noindex
X-PUBLISHED-TTL:PT1H
BEGIN:VTIMEZONE
TZID:Europe/Prague
BEGIN:DAYLIGHT
TZOFFSETFROM:+0100
TZOFFSETTO:+0200
TZNAME:CEST
DTSTART:20250330T010000
END:DAYLIGHT
BEGIN:STANDARD
TZOFFSETFROM:+0200
TZOFFSETTO:+0100
TZNAME:CET
DTSTART:20251026T010000
END:STANDARD
BEGIN:DAYLIGHT
TZOFFSETFROM:+0100
TZOFFSETTO:+0200
TZNAME:CEST
DTSTART:20260329T010000
END:DAYLIGHT
BEGIN:STANDARD
TZOFFSETFROM:+0200
TZOFFSETTO:+0100
TZNAME:CET
DTSTART:20261025T010000
END:STANDARD
BEGIN:DAYLIGHT
TZOFFSETFROM:+0100
TZOFFSETTO:+0200
TZNAME:CEST
DTSTART:20270328T010000
END:DAYLIGHT
BEGIN:STANDARD
TZOFFSETFROM:+0200
TZOFFSETTO:+0100
TZNAME:CET
DTSTART:20271031T010000
END:STANDARD
END:VTIMEZONE
BEGIN:VEVENT
DTSTART;TZID=Europe/Prague:20261023T193000
DTEND;TZID=Europe/Prague:20261023T223000
DTSTAMP:20260420T030737
CREATED:20260405T131154Z
LAST-MODIFIED:20260405T131154Z
UID:20338-1792783800-1792794600@dnesnivylet.cz
SUMMARY:Kateřina Marie Tichá a Bandjeez
DESCRIPTION:Kateřina Marie Tichá a Bandjeez se uskuteční dne 2026-10-23 v 19:30 v Hradec Králové\, Petrof Gallery. \n🎟️ Koupit vstupenku \n\nAgentura Brnokoncert s potěšením oznamuje koncerty žádané české písničkářky Kateřiny Marie Tiché s doprovodnou skupinou Bandjeez na podzim 2026. \n  \nKateřina Marie Tichá a BandjeezPátek 23.10. 2026 od 19:30 h – Hradec Králové\, PETROF GallerySobota 24.10. 2026 od 19:30 h – Liberec\, Dům kultury \n  \nRodačka z Vlašimi Kateřina Marie Tichá byla v roce 2013 nominována na Českého Slavíka v kategorii Objev roku\, ve stejném roce také zahájila dosud trvající spolupráci s tehdy právě vznikající kapelou Jelen. V roce 2015 vydala pěti písňové EP Otazníky a v roce 2020 potom debutové album Sami\, které patřilo k nejpříjemnějším překvapením české hudební scény. Na Andělem oceněnou prvotinu zpěvačka navázala očekávanou druhou řadovou deskou Plamen – první nahranou ve spolupráci s kapelou Bandjeez\, kterou převzala po Davidu Stypkovi. Novinku opět produkoval multitalentovaný Ondřej Turták a podle všech indicií jde o jednu z hudebních událostí tohoto roku. \n  \nRok 2024 byl pro charismatickou zpěvačku přelomovým. Její deska Plamen\, která vyšla začátkem února\, patřila k hudebním událostem roku. Album se zařadilo mezi nejprodávanější alba v ČR\, singl dosáhl 3. pozice mezi vůbec nejhranějšími skladbami (včetně zahraniční konkurence) v českých rádiích. Stejnojmenné turné se 13 zastávkami bylo vyprodané\, a to včetně dvou koncertů v pražském Lucerna Music Baru a v brněnském Sono Music Club. Vzhledem k nevídanému úspěchu turné bylo přidáno dalších 18 koncertů po celé ČR. \n  \nNávštěvníci se shodují v tom\, že koncerty Kateřiny Marie Tiché v doprovodu kapely Bandjeez a dechové sekce jsou povznášejícím a emotivním zážitkem. Už není pochyb: českému popu se zrodila hvězda. \n  \nNenechte si ujít! \n\nTento tip na kulturní akci v Hradec Králové najdete v přehledu na Dnesnivylet.cz spolu s dalšími koncerty\, festivaly a divadelními představeními.Každý si vybere co se mu líbí. Nezapomeňte koupit vstupenky včas\, stačí kliknout a budete přesměrování na oficiálního prodejce vstupenek.
URL:https://dnesnivylet.cz/event/katerina-marie-ticha-a-bandjeez/
LOCATION:Petrof Gallery\, Hradec Králové\, Petrof Gallery\, Hradec Králové\, Česká republika
CATEGORIES:Koncert
ATTACH;FMTTYPE=image/jpeg:https://dnesnivylet.cz/wp-content/uploads/2026/04/320-27d03778f09342ffb9a6ec844389e688.jpg
END:VEVENT
BEGIN:VEVENT
DTSTART;TZID=Europe/Prague:20261103T190000
DTEND;TZID=Europe/Prague:20261103T220000
DTSTAMP:20260420T030737
CREATED:20251212T190054Z
LAST-MODIFIED:20251212T190054Z
UID:15015-1793732400-1793743200@dnesnivylet.cz
SUMMARY:Osmany Show
DESCRIPTION:Osmany Show se uskuteční dne 2026-11-03 v 19:00 v Hradec Králové\, Kongresové centrum ALDIS. \n🎟️ Koupit vstupenku \n\nOriginální zábavný pořad populárního módního návrháře kubánského původu Osmanyho Laffity se zbrusu novými historkami a příběhy. \nDevadesát minut nekorektního humoru a zábavy\, která Vás bezesporu pobaví. Osmany Vám dá nahlédnout do svého soukromí a ukáže\, že je také člověk z masa a kostí. I mnohdy smutnou historku dovede podat neodolatelným způsobem\, který pobaví. \nShow\, která polechtá Vaši bránici! \nModeruje: Eva DECASTELO \nÚčinkuje: Osmany LAFFITA \nDélka představení 90 až 120 minut (obvykle + přestávka) \nPředstavení nedoporučujeme divákům mladším 15 let. \n  \n\nTento tip na kulturní akci v Hradec Králové najdete v přehledu na Dnesnivylet.cz spolu s dalšími koncerty\, festivaly a divadelními představeními.Každý si vybere co se mu líbí. Nezapomeňte koupit vstupenky včas\, stačí kliknout a budete přesměrování na oficiálního prodejce vstupenek.
URL:https://dnesnivylet.cz/event/osmany-show-18/
LOCATION:Kongresové centrum ALDIS\, Hradec Králové\, Kongresové centrum ALDIS\, Hradec Králové\, Česká republika
CATEGORIES:Zábava
ATTACH;FMTTYPE=image/jpeg:https://dnesnivylet.cz/wp-content/uploads/2025/12/320-04fb4b1f3242424cac6fd5a8645c3c28.jpg
END:VEVENT
BEGIN:VEVENT
DTSTART;TZID=Europe/Prague:20261126T190000
DTEND;TZID=Europe/Prague:20261126T220000
DTSTAMP:20260420T030737
CREATED:20260306T173208Z
LAST-MODIFIED:20260306T173208Z
UID:19137-1795719600-1795730400@dnesnivylet.cz
SUMMARY:7 pádů Honzy Dědka
DESCRIPTION:7 pádů Honzy Dědka se uskuteční dne 2026-11-26 v 19:00 v Hradec Králové\, Kongresové centrum ALDIS. \n🎟️ Koupit vstupenku \n\nPopulární talk show poprvé zamíří do Hradec Králové. Zažijte na vlastní kůži atmosféru 7 pádů a nahlédněte pod pokličku toho\, jak vzniká tento zábavný pořad. \nMůžete se těšit na 90 minut příjemné zábavy a zajímavých rozhovorů „o všem a pro všechny” s dvěma hvězdnými hosty. O 7 pádech Honzy Dědka. Pořad vznikl počátkem roku 2011 a do dnešního dne se v něm již vystřídalo na 600 hvězdných hostů. Rozhovory vedené publicistou Honzou Dědkem se ještě před uvedením na televizní obrazovky staly doslova fenoménem na YouTube\, kde mají dnes k 77 miliónům zhlédnutí a 129 000 diváků pořad pravidelně odebírá! K televizním divákům talkshow poprvé promluvila v závěru jara 2020\, kdy ji do svého pravidelného programu zařadila televize Prima. A úspěch nenechal na sebe dlouho čekat ani zde – během jediné sezóny se z ní na této stanici stal jeden z nejsledovanějších pořadů domácí tvorby\, který každý týden přiláká k televizním obrazovkách kolem půl miliónu diváků. Jako jediný televizní nováček pak pořad získal prostor i v hlavním vysílacím čase na Silvestra 2020\, kdy jej sledovalo přes 700 000 lidí a letošních 7 silvestrovských pádů Honzy Dědka s Třemi tygry se stalo nejsledovanějším pořadem Prima TV daného večera. Za moderaci talkshow i jeho předchozí novinářskou kariéru\, během které udělal na tři a půl tisíce rozhovorů\, byl Honza Dědek letos redakcí iDnes vyhlášen osobností roku („Zpovědníkem“) \nMůžete se těšit na 90 minut příjemné zábavy a zajímavých rozhovorů „o všem a pro všechny. \n\nTento tip na kulturní akci v Hradec Králové najdete v přehledu na Dnesnivylet.cz spolu s dalšími koncerty\, festivaly a divadelními představeními.Každý si vybere co se mu líbí. Nezapomeňte koupit vstupenky včas\, stačí kliknout a budete přesměrování na oficiálního prodejce vstupenek.
URL:https://dnesnivylet.cz/event/7-padu-honzy-dedka/
LOCATION:Kongresové centrum ALDIS\, Hradec Králové\, Kongresové centrum ALDIS\, Hradec Králové\, Česká republika
CATEGORIES:Zábava
ATTACH;FMTTYPE=image/jpeg:https://dnesnivylet.cz/wp-content/uploads/2026/03/320-f9355991c54a445b86675a9faa73a43f.jpg
END:VEVENT
BEGIN:VEVENT
DTSTART;TZID=Europe/Prague:20261128T200000
DTEND;TZID=Europe/Prague:20261128T230000
DTSTAMP:20260420T030737
CREATED:20260209T181601Z
LAST-MODIFIED:20260209T181601Z
UID:17731-1795896000-1795906800@dnesnivylet.cz
SUMMARY:Aiko - Hradec Králové - AC klub
DESCRIPTION:Aiko – Hradec Králové – AC klub se uskuteční dne 2026-11-28 v 20:00 v Hradec Králové\, AC klub. \n🎟️ Koupit vstupenku \n\nAiko je zpěvačka a autorka známá z Eurovision Song CZ 2024. Aiko se vrací do Česka v rámci svého projektu The Bonbonniere a druhého evropského turné The Sweet Buffet. Je první českou interpretkou na Times Square v kampani Spotify EQUAL\, vystoupila na prestižních festivalech Sziget\, Rock for People či The Great Escape\, reprezentovala Českou republiku na Národním dni ČR na výstavě EXPO v Osace\, a její živá vystoupení dokáží vyprodat sály po celé Evropě. \n\nTento tip na kulturní akci v Hradec Králové najdete v přehledu na Dnesnivylet.cz spolu s dalšími koncerty\, festivaly a divadelními představeními.Každý si vybere co se mu líbí. Nezapomeňte koupit vstupenky včas\, stačí kliknout a budete přesměrování na oficiálního prodejce vstupenek.
URL:https://dnesnivylet.cz/event/aiko-hradec-kralove-ac-klub/
LOCATION:AC klub\, Hradec Králové\, AC klub\, Hradec Králové\, Česká republika
CATEGORIES:Koncert
ATTACH;FMTTYPE=image/jpeg:https://dnesnivylet.cz/wp-content/uploads/2026/02/320-fac024bc4d9a4bcea0eaa9e3da263936.jpg
END:VEVENT
BEGIN:VEVENT
DTSTART;TZID=Europe/Prague:20261204T190000
DTEND;TZID=Europe/Prague:20261204T220000
DTSTAMP:20260420T030737
CREATED:20260419T120412Z
LAST-MODIFIED:20260419T120412Z
UID:20642-1796410800-1796421600@dnesnivylet.cz
SUMMARY:ŠVANCI SHOW - JÁ SU JÁ - Hradec Králové
DESCRIPTION:ŠVANCI SHOW – JÁ SU JÁ – Hradec Králové se uskuteční dne 2026-12-04 v 19:00 v Hradec Králové\, Adalbertinum\, Velký sál. \n🎟️ Koupit vstupenku \n\nPetr Švancara alias ŠVANCI – JÁ SU JÁ – Nová COMEDY SHOW na TOUR po celé ČR! \nPřijďte se pobavit na unikátní show plnou humoru\, zážitků a nečekaných příběhů! Od prvních fotbalových krůčků\, přes legendární rozlučku za Lužánkami\, účasti v oblíbených TV pořadech\, až po drsnou reality show SURVIVOR – to vše a mnohem víc vás čeká v nové zábavné show JÁ SU JÁ. \nNeotřelé historky z fotbalového i osobního života. Pohled do zákulisí známých televizních show. Prostor pro vaše otázky „na tělo. Autogramiáda\, focení a přátelská atmosféra. \nZajímá tě\, jak to doopravdy bylo na ostrově? Jaký je život po kariéře profesionálního sportovce? A znáš mě tak dobře\, jak si myslíš? \nTohle všechno (a ještě víc) se dozvíš v show\, která je stejně autentická jako její hlavní protagonista. Přijď si užít večer plný smíchu\, příběhů a osobního setkání s fotbalistou\, moderátorem a bavičem v jednom. \nPořad není vhodný mladším 15 let! \n\nTento tip na kulturní akci v Hradec Králové najdete v přehledu na Dnesnivylet.cz spolu s dalšími koncerty\, festivaly a divadelními představeními.Každý si vybere co se mu líbí. Nezapomeňte koupit vstupenky včas\, stačí kliknout a budete přesměrování na oficiálního prodejce vstupenek.
URL:https://dnesnivylet.cz/event/svanci-show-ja-su-ja-hradec-kralove/
LOCATION:Adalbertinum\, Velký sál\, Hradec Králové\, Adalbertinum\, Velký sál\, Hradec Králové\, Česká republika
CATEGORIES:Zábava
ATTACH;FMTTYPE=image/jpeg:https://dnesnivylet.cz/wp-content/uploads/2026/04/320-b3cad0984c5b4e469b49945ee7e1b409.jpg
END:VEVENT
BEGIN:VEVENT
DTSTART;TZID=Europe/Prague:20261210T190000
DTEND;TZID=Europe/Prague:20261210T220000
DTSTAMP:20260420T030737
CREATED:20260405T130125Z
LAST-MODIFIED:20260405T130125Z
UID:20181-1796929200-1796940000@dnesnivylet.cz
SUMMARY:QUEENSHOW Hradec Králové
DESCRIPTION:QUEENSHOW Hradec Králové se uskuteční dne 2026-12-10 v 19:00 v Hradec Králové\, Kongresové centrum ALDIS. \n🎟️ Koupit vstupenku \n\nQueenshow patří k nejvěrnějším tribute projektům legendární skupiny Queen na světě. \nJejich koncerty přinášejí autentický návrat do zlaté éry 80. let – od precizně zpracovaného zvuku\, přes dobovou pódiovou techniku\, až po ikonickou vizuální show. Díky použití originálních nástrojů a aparatury zní hudba Queen přesně tak\, jak si ji pamatují fanoušci z legendárních stadionových koncertů. \nVystoupení Queenshow umožňuje znovu pocítit přítomnost Freddieho Mercuryho a jedinečnou energii jedné z největších kapel hudební historie. Tento koncert je výjimečným zážitkem pro všechny milovníky rockové dokonalosti.  \n\nTento tip na kulturní akci v Hradec Králové najdete v přehledu na Dnesnivylet.cz spolu s dalšími koncerty\, festivaly a divadelními představeními.Každý si vybere co se mu líbí. Nezapomeňte koupit vstupenky včas\, stačí kliknout a budete přesměrování na oficiálního prodejce vstupenek.
URL:https://dnesnivylet.cz/event/queenshow-hradec-kralove-2/
LOCATION:Kongresové centrum ALDIS\, Hradec Králové\, Kongresové centrum ALDIS\, Hradec Králové\, Česká republika
CATEGORIES:Koncert
ATTACH;FMTTYPE=image/jpeg:https://dnesnivylet.cz/wp-content/uploads/2026/04/320-74b344b87e8b4f54acb4d0c60d0b1430.jpg
END:VEVENT
BEGIN:VEVENT
DTSTART;TZID=Europe/Prague:20261212T190000
DTEND;TZID=Europe/Prague:20261212T220000
DTSTAMP:20260420T030737
CREATED:20260419T123603Z
LAST-MODIFIED:20260419T123603Z
UID:21054-1797102000-1797112800@dnesnivylet.cz
SUMMARY:Petr Tomeček / Vánoce 2026 v PETROF Gallery
DESCRIPTION:Petr Tomeček / Vánoce 2026 v PETROF Gallery se uskuteční dne 2026-12-12 v 19:00 v Hradec Králové\, Petrof Gallery. \n🎟️ Koupit vstupenku \n\nDovolujeme si Vás pozvat na mimořádný hudební večer\, který překračuje hranice tradičního vánočního koncertu a stává se skutečnou sváteční událostí roku. \nPetr Tomeček / Vánoce 2026 – exkluzivní vánoční koncert se uskuteční v jedinečných moderních prostorách PETROF Gallery\, místě\, kde se snoubí současná architektura s více než stoletou tradicí výroby špičkových klavírů značky PETROF\, uznávaných po celém světě jako symbol preciznosti\, řemeslné dokonalosti a ušlechtilého zvuku. \nHlavním hudebním hlasem večera bude Panova flétna – výjimečný nástroj s podmanivým\, sametovým tónem\, který v sobě nese dávnou historii\, mystiku i hluboké emoce. Právě její zvuk se v tomto koncertu stane nositelem vánoční atmosféry v té nejčistší a nejpůsobivější podobě. \nPetr Tomeček vystoupí za doprovodu živého orchestru a kapely\, čímž vznikne bohatá\, dynamická a současně slavnostní hudební krajina. Program doplní dětský pěvecký sbor\, jehož hlasy přinesou křehkost a čistotu Vánoc\, moderní tanečníci a balet\, kteří dodají koncertu vizuální eleganci\, lehkost a pohybovou poezii. Výsledkem bude komplexní vánoční show\, kde se hudba\, tanec a prostor propojí v jeden silný umělecký zážitek. \nZazní světové i české vánoční melodie a hity\, sváteční skladby i známé písně v moderních\, originálních aranžmá\, vytvořených speciálně pro tento projekt. Každý detail večera je koncipován s důrazem na kvalitu\, emoce a výjimečnost okamžiku. \nTento koncert není běžnou hudební produkcí – je exkluzivním setkáním s hudbou na nejvyšší úrovni\, určeným pro publikum\, které hledá výjimečný kulturní zážitek\, noblesu a sváteční atmosféru bez kompromisů.  \nDovolte si prožít Vánoce 2026 jinak.S elegancí. S emocí. S hudbou\, která zůstává. \n\nTento tip na kulturní akci v Hradec Králové najdete v přehledu na Dnesnivylet.cz spolu s dalšími koncerty\, festivaly a divadelními představeními.Každý si vybere co se mu líbí. Nezapomeňte koupit vstupenky včas\, stačí kliknout a budete přesměrování na oficiálního prodejce vstupenek.
URL:https://dnesnivylet.cz/event/petr-tomecek-vanoce-2026-v-petrof-gallery/
LOCATION:Petrof Gallery\, Hradec Králové\, Petrof Gallery\, Hradec Králové\, Česká republika
CATEGORIES:Koncert
ATTACH;FMTTYPE=image/jpeg:https://dnesnivylet.cz/wp-content/uploads/2026/04/320-4a979fa677a54017a703378a600f6161.jpg
END:VEVENT
END:VCALENDAR