BEGIN:VCALENDAR
VERSION:2.0
PRODID:-//www.dnesnivylet.cz                                                                                                                        Tip na výlet pro celou rodinu. - ECPv6.15.13.1//NONSGML v1.0//EN
CALSCALE:GREGORIAN
METHOD:PUBLISH
X-WR-CALNAME:www.dnesnivylet.cz                                                                                                                        Tip na výlet pro celou rodinu.
X-ORIGINAL-URL:https://dnesnivylet.cz
X-WR-CALDESC:Akce na www.dnesnivylet.cz                                                                                                                        Tip na výlet pro celou rodinu.
REFRESH-INTERVAL;VALUE=DURATION:PT1H
X-Robots-Tag:noindex
X-PUBLISHED-TTL:PT1H
BEGIN:VTIMEZONE
TZID:Europe/Prague
BEGIN:DAYLIGHT
TZOFFSETFROM:+0100
TZOFFSETTO:+0200
TZNAME:CEST
DTSTART:20250330T010000
END:DAYLIGHT
BEGIN:STANDARD
TZOFFSETFROM:+0200
TZOFFSETTO:+0100
TZNAME:CET
DTSTART:20251026T010000
END:STANDARD
BEGIN:DAYLIGHT
TZOFFSETFROM:+0100
TZOFFSETTO:+0200
TZNAME:CEST
DTSTART:20260329T010000
END:DAYLIGHT
BEGIN:STANDARD
TZOFFSETFROM:+0200
TZOFFSETTO:+0100
TZNAME:CET
DTSTART:20261025T010000
END:STANDARD
BEGIN:DAYLIGHT
TZOFFSETFROM:+0100
TZOFFSETTO:+0200
TZNAME:CEST
DTSTART:20270328T010000
END:DAYLIGHT
BEGIN:STANDARD
TZOFFSETFROM:+0200
TZOFFSETTO:+0100
TZNAME:CET
DTSTART:20271031T010000
END:STANDARD
END:VTIMEZONE
BEGIN:VEVENT
DTSTART;TZID=Europe/Prague:20260323T190000
DTEND;TZID=Europe/Prague:20260323T220000
DTSTAMP:20260420T031145
CREATED:20251108T171145Z
LAST-MODIFIED:20251108T171146Z
UID:13006-1774292400-1774303200@dnesnivylet.cz
SUMMARY:ŠVANCI SHOW - JÁ SU JÁ - Krnov
DESCRIPTION:ŠVANCI SHOW – JÁ SU JÁ – Krnov se uskuteční dne 2026-03-23 v 19:00 v Krnov\, Kino Mír 70. \n🎟️ Koupit vstupenku \n\nNová zábavná show „JÁ SU JÁ“ vyráží na TOUR po celé České republice. \nČekají vás vtipné historky\, od kariéry fotbalisty\, velkolepé rozlučky za Lužánkami\, návštěv různých zábavních pořadů\, až po účast v reality show Survivor. Dále se těšte na prostor pro otázky na tělo\, autogramiádu\, focení a mnoho dalšího. \nJak moc dobře mě znáš? Jak vypadá můj život po kariéře fotbalisty? Chceš znát více informací o reality show Surviror? \nNejen to se dozvíš ve zbrusu nové zábavné show „JÁ SU JÁ“. \nPřijď se podívat a užít si legraci\, popovídat si s legendou fotbalu\, moderátorem\, bavičem a dát si třeba fotku\, nebo si nechat cokoliv podepsat. \nPořad není vhodný mladším 15 let! \n\nTento tip na kulturní akci v Krnov najdete v přehledu na Dnesnivylet.cz spolu s dalšími koncerty\, festivaly a divadelními představeními.Každý si vybere co se mu líbí. Nezapomeňte koupit vstupenky včas\, stačí kliknout a budete přesměrování na oficiálního prodejce vstupenek.
URL:https://dnesnivylet.cz/event/svanci-show-ja-su-ja-krnov/
LOCATION:Kino Mír 70\, Krnov\, Kino Mír 70\, Krnov\, Česká republika
CATEGORIES:Zábava
ATTACH;FMTTYPE=image/jpeg:https://dnesnivylet.cz/wp-content/uploads/2025/11/320-b69866df30cb4af8b633eaa123990954.jpg
END:VEVENT
BEGIN:VEVENT
DTSTART;TZID=Europe/Prague:20260307T200000
DTEND;TZID=Europe/Prague:20260307T230000
DTSTAMP:20260420T031145
CREATED:20260306T173615Z
LAST-MODIFIED:20260306T173616Z
UID:19169-1772913600-1772924400@dnesnivylet.cz
SUMMARY:Slavíček - Zimní šňůra
DESCRIPTION:Slavíček – Zimní šňůra se uskuteční dne 2026-03-07 v 20:00 v Krnov\, Kofola Music Club. \n🎟️ Koupit vstupenku \n\nZpěvák a skladatel s výrazným rukopisem na pomezí indie popu a alternativy. \nSlavíček přináší osobitou kombinaci civilnosti a energie. Ve svých skladbách propojuje křehkost s ironií\, hravost s hlubokým obsahem. Jeho hudba působí nenuceně\, ale nese jasný rukopis a postoj. Na české scéně působí jako čerstvý vítr – mladý\, přirozený\, přesvědčivý a uvěřitelný. \n  \nSupport: Beira \n\nTento tip na kulturní akci v Krnov najdete v přehledu na Dnesnivylet.cz spolu s dalšími koncerty\, festivaly a divadelními představeními.Každý si vybere co se mu líbí. Nezapomeňte koupit vstupenky včas\, stačí kliknout a budete přesměrování na oficiálního prodejce vstupenek.
URL:https://dnesnivylet.cz/event/slavicek-zimni-snura-3/
LOCATION:Kofola Music Club\, Krnov\, Kofola Music Club\, Krnov\, Česká republika
CATEGORIES:Koncert
ATTACH;FMTTYPE=image/jpeg:https://dnesnivylet.cz/wp-content/uploads/2026/03/320-bb08f26df6d54f6696acd87ec0ce879a.jpg
END:VEVENT
END:VCALENDAR