BEGIN:VCALENDAR
VERSION:2.0
PRODID:-//www.dnesnivylet.cz                                                                                                                        Tip na výlet pro celou rodinu. - ECPv6.15.13.1//NONSGML v1.0//EN
CALSCALE:GREGORIAN
METHOD:PUBLISH
X-WR-CALNAME:www.dnesnivylet.cz                                                                                                                        Tip na výlet pro celou rodinu.
X-ORIGINAL-URL:https://dnesnivylet.cz
X-WR-CALDESC:Akce na www.dnesnivylet.cz                                                                                                                        Tip na výlet pro celou rodinu.
REFRESH-INTERVAL;VALUE=DURATION:PT1H
X-Robots-Tag:noindex
X-PUBLISHED-TTL:PT1H
BEGIN:VTIMEZONE
TZID:Europe/Prague
BEGIN:DAYLIGHT
TZOFFSETFROM:+0100
TZOFFSETTO:+0200
TZNAME:CEST
DTSTART:20250330T010000
END:DAYLIGHT
BEGIN:STANDARD
TZOFFSETFROM:+0200
TZOFFSETTO:+0100
TZNAME:CET
DTSTART:20251026T010000
END:STANDARD
BEGIN:DAYLIGHT
TZOFFSETFROM:+0100
TZOFFSETTO:+0200
TZNAME:CEST
DTSTART:20260329T010000
END:DAYLIGHT
BEGIN:STANDARD
TZOFFSETFROM:+0200
TZOFFSETTO:+0100
TZNAME:CET
DTSTART:20261025T010000
END:STANDARD
BEGIN:DAYLIGHT
TZOFFSETFROM:+0100
TZOFFSETTO:+0200
TZNAME:CEST
DTSTART:20270328T010000
END:DAYLIGHT
BEGIN:STANDARD
TZOFFSETFROM:+0200
TZOFFSETTO:+0100
TZNAME:CET
DTSTART:20271031T010000
END:STANDARD
END:VTIMEZONE
BEGIN:VEVENT
DTSTART;TZID=Europe/Prague:20260613T090000
DTEND;TZID=Europe/Prague:20260613T120000
DTSTAMP:20260420T041452
CREATED:20260419T123210Z
LAST-MODIFIED:20260419T123211Z
UID:21003-1781341200-1781352000@dnesnivylet.cz
SUMMARY:Svátky řemesel a krásy ušlechtilých koní
DESCRIPTION:Svátky řemesel a krásy ušlechtilých koní  se uskuteční dne 2026-06-13 v 09:00 v Kunštát\, Panská zahrada. \n🎟️ Koupit vstupenku \n\nZveme vás na XVII. ročník Svátků řemesel a krásy ušlechtilých koní 2026. \nTradiční ukázky lidských i uměleckých řemesel a přehlídka krásy ušlechtilých koní pod širým nebem v areálu Panské zahrady v Kunštátě. Akce je obohacena prodejními řemeslnými stánky. \n\nTento tip na kulturní akci v Kunštát najdete v přehledu na Dnesnivylet.cz spolu s dalšími koncerty\, festivaly a divadelními představeními.Každý si vybere co se mu líbí. Nezapomeňte koupit vstupenky včas\, stačí kliknout a budete přesměrování na oficiálního prodejce vstupenek.
URL:https://dnesnivylet.cz/event/svatky-remesel-a-krasy-uslechtilych-koni/
LOCATION:Panská zahrada\, Kunštát\, Panská zahrada\, Kunštát\, Česká republika
CATEGORIES:Festival
ATTACH;FMTTYPE=image/jpeg:https://dnesnivylet.cz/wp-content/uploads/2026/04/320-9f33167822a944d0b8d7336f46e3502a.jpg
END:VEVENT
BEGIN:VEVENT
DTSTART;TZID=Europe/Prague:20260410T190000
DTEND;TZID=Europe/Prague:20260410T220000
DTSTAMP:20260420T041452
CREATED:20260110T165035Z
LAST-MODIFIED:20260110T165036Z
UID:16644-1775847600-1775858400@dnesnivylet.cz
SUMMARY:Volant 30 Let\, Punk Floid a Dukla vozovna
DESCRIPTION:Volant 30 Let\, Punk Floid a Dukla vozovna se uskuteční dne 2026-04-10 v 19:00 v Kunštát\, Kulturní dům. \n🎟️ Koupit vstupenku \n\nSpolečný koncert kamarádů a velikánů punkrockové scény:Volant – oslaví 30 letPunk Floid – oslaví 25 letDukla vozovna – připije malým panáčkemKrásná trojka tour\, akce roku v Kunštátě na Moravě! \n\nTento tip na kulturní akci v Kunštát najdete v přehledu na Dnesnivylet.cz spolu s dalšími koncerty\, festivaly a divadelními představeními.Každý si vybere co se mu líbí. Nezapomeňte koupit vstupenky včas\, stačí kliknout a budete přesměrování na oficiálního prodejce vstupenek.
URL:https://dnesnivylet.cz/event/volant-30-let-punk-floid-a-dukla-vozovna/
LOCATION:Kulturní dům\, Kunštát\, Kulturní dům\, Kunštát\, Česká republika
CATEGORIES:Koncert
ATTACH;FMTTYPE=image/jpeg:https://dnesnivylet.cz/wp-content/uploads/2026/01/320-63ced21b984d4876902370f59750279e.jpg
END:VEVENT
BEGIN:VEVENT
DTSTART;TZID=Europe/Prague:20260226T193000
DTEND;TZID=Europe/Prague:20260226T223000
DTSTAMP:20260420T041452
CREATED:20251226T111223Z
LAST-MODIFIED:20251226T111224Z
UID:15982-1772134200-1772145000@dnesnivylet.cz
SUMMARY:Na Stojáka Kunštát
DESCRIPTION:Na Stojáka Kunštát se uskuteční dne 2026-02-26 v 19:30 v Kunštát\, Kulturní dům. \n🎟️ Koupit vstupenku \n\nStand-up večer v Kunštátu: Smích\, který rozvibruje kulturní dům \nVe čtvrtek 26. února od 19:30 se Kulturní dům Kunštát promění v epicentrum humoru\, kde nebude nouze o ostré postřehy\, absurdní historky ani salvy smíchu. \nNa scénu nastoupí:🔸 Tigran Hovakimyan – mistr situací\, které byste sami nezažili\, ale budete rádi\, že o nich slyšíte.🔸 Daniel Čech – suchý humor? Možná. Sucho v hledišti? Nikdy.🔸 Petr Vydra – analytik života\, který vám i běžný den v trafice dokáže rozebrat na filozofický epos. \nPřijďte si odpočinout\, zasmát se a na chvíli zapomenout\, že únor je nejkratší měsíc v roce. \nBar bude otevřen\, pointy připraveny\, mikrofony nabité. Jediné\, co chybí\, jste vy. \n\nTento tip na kulturní akci v Kunštát najdete v přehledu na Dnesnivylet.cz spolu s dalšími koncerty\, festivaly a divadelními představeními.Každý si vybere co se mu líbí. Nezapomeňte koupit vstupenky včas\, stačí kliknout a budete přesměrování na oficiálního prodejce vstupenek.
URL:https://dnesnivylet.cz/event/na-stojaka-kunstat/
LOCATION:Kulturní dům\, Kunštát\, Kulturní dům\, Kunštát\, Česká republika
CATEGORIES:Festival
ATTACH;FMTTYPE=image/jpeg:https://dnesnivylet.cz/wp-content/uploads/2025/12/320-0202e1f45b8d447fa9ac0ab0990f1f44.jpg
END:VEVENT
END:VCALENDAR