BEGIN:VCALENDAR
VERSION:2.0
PRODID:-//www.dnesnivylet.cz                                                                                                                        Tip na výlet pro celou rodinu. - ECPv6.15.13.1//NONSGML v1.0//EN
CALSCALE:GREGORIAN
METHOD:PUBLISH
X-ORIGINAL-URL:https://dnesnivylet.cz
X-WR-CALDESC:Akce na www.dnesnivylet.cz                                                                                                                        Tip na výlet pro celou rodinu.
REFRESH-INTERVAL;VALUE=DURATION:PT1H
X-Robots-Tag:noindex
X-PUBLISHED-TTL:PT1H
BEGIN:VTIMEZONE
TZID:Europe/Prague
BEGIN:DAYLIGHT
TZOFFSETFROM:+0100
TZOFFSETTO:+0200
TZNAME:CEST
DTSTART:20250330T010000
END:DAYLIGHT
BEGIN:STANDARD
TZOFFSETFROM:+0200
TZOFFSETTO:+0100
TZNAME:CET
DTSTART:20251026T010000
END:STANDARD
BEGIN:DAYLIGHT
TZOFFSETFROM:+0100
TZOFFSETTO:+0200
TZNAME:CEST
DTSTART:20260329T010000
END:DAYLIGHT
BEGIN:STANDARD
TZOFFSETFROM:+0200
TZOFFSETTO:+0100
TZNAME:CET
DTSTART:20261025T010000
END:STANDARD
BEGIN:DAYLIGHT
TZOFFSETFROM:+0100
TZOFFSETTO:+0200
TZNAME:CEST
DTSTART:20270328T010000
END:DAYLIGHT
BEGIN:STANDARD
TZOFFSETFROM:+0200
TZOFFSETTO:+0100
TZNAME:CET
DTSTART:20271031T010000
END:STANDARD
END:VTIMEZONE
BEGIN:VEVENT
DTSTART;TZID=Europe/Prague:20260606T180000
DTEND;TZID=Europe/Prague:20260606T210000
DTSTAMP:20260419T160725
CREATED:20251114T145942Z
LAST-MODIFIED:20251114T145943Z
UID:13450-1780768800-1780779600@dnesnivylet.cz
SUMMARY:Noční sklepy: Při měsíčku na skleničku 2026
DESCRIPTION:Noční sklepy: Při měsíčku na skleničku 2026 se uskuteční dne 2026-06-06 v 18:00 v Mutěnice\, Mutěnické Búdy. \n🎟️ Koupit vstupenku \n\nPřijďte zažít magii nočních otevřených sklepů pod hvězdnou oblohou v jedinečném areálu Mutěnských Búd 6.6. 2026. Vinaři v tuto noc otevřou své sklepy a to bude mimořádná příležitost k ochutnání jejich vín. Začátek akce v 18:00 a předpokládaný konec 00:00.  \nU vstupu návštěvník obdrží katalog s mapou sklepů a nabízenými víny\, propisku\, tašku a degustační skleničku. Degustační konzumace vína není nijak omezena. V rámci vstupného návštěvníci obdrží kupóny k odběru vína v hodnotě 4×100 Kč. Víno bude možné zakoupit buď okamžitě anebo další den v neděli 8.6. 2025 od 9:00 do 12:00 přímo ve vinařství. \nDoprovodný program akce bude zpívání mezi sklepy od místních pěveckých sborů. Občerstvení bude zajištěno přímo ve sklepech vinařů. \nPokud hledáte ubytování přímo v obci\, najdete širokou škálu ubytovacích zařízení na oficiálních stránkách obce Mutěnice. Další nabídky můžete vyhledat na internetu nebo v diskuzi události na Facebooku. Pro ubytované mimo obec budou zajištěny taxiky. \nAreál Mutěnských búd patří mezi jedny z největších komplexů sklepních uliček na Moravě. Na jednom místě je více než 500 vinných sklepů\, často s tradiční výzdobou. Nejtypičtějším prvkem jsou malované žudra tradičními ornamenty maléreček. Hospodaří zde velká spousta malých i velkých vinařů. Každý z nich má svůj osobitý výrobní styl\, svoji filozofii a náhled na práci ve vinici a ve sklepě. Pokud patříte mezi milovníky vína a zábavy\, neváhejte přijít na naši akci Při měsíčku na skleničku\, kde se s námi můžete potkat\, pohovořit o víně a degustovat. \nNa tuto akci vás bude hostit 15 vinařství ve svých sklepech v noční atmosféře pod hvězdnou oblohou. Těšit se můžete nejen na skvělou náladu a kvalitní vína\, ale také domácí občerstvení z rodin vinařů a hudební folklorní program. U nás se nudit nebudete! \n\nTento tip na kulturní akci v Mutěnice najdete v přehledu na Dnesnivylet.cz spolu s dalšími koncerty\, festivaly a divadelními představeními.Každý si vybere co se mu líbí. Nezapomeňte koupit vstupenky včas\, stačí kliknout a budete přesměrování na oficiálního prodejce vstupenek.
URL:https://dnesnivylet.cz/event/nocni-sklepy-pri-mesicku-na-sklenicku-2026/
LOCATION:Mutěnické Búdy\, Mutěnice\, Mutěnické Búdy\, Mutěnice\, Česká republika
CATEGORIES:Festival
ATTACH;FMTTYPE=image/jpeg:https://dnesnivylet.cz/wp-content/uploads/2025/11/320-f731ccf931db4bf5a9a24dbd608ec0c0.jpg
END:VEVENT
END:VCALENDAR