BEGIN:VCALENDAR
VERSION:2.0
PRODID:-//www.dnesnivylet.cz                                                                                                                        Tip na výlet pro celou rodinu. - ECPv6.15.13.1//NONSGML v1.0//EN
CALSCALE:GREGORIAN
METHOD:PUBLISH
X-WR-CALNAME:www.dnesnivylet.cz                                                                                                                        Tip na výlet pro celou rodinu.
X-ORIGINAL-URL:https://dnesnivylet.cz
X-WR-CALDESC:Akce na www.dnesnivylet.cz                                                                                                                        Tip na výlet pro celou rodinu.
REFRESH-INTERVAL;VALUE=DURATION:PT1H
X-Robots-Tag:noindex
X-PUBLISHED-TTL:PT1H
BEGIN:VTIMEZONE
TZID:Europe/Prague
BEGIN:DAYLIGHT
TZOFFSETFROM:+0100
TZOFFSETTO:+0200
TZNAME:CEST
DTSTART:20250330T010000
END:DAYLIGHT
BEGIN:STANDARD
TZOFFSETFROM:+0200
TZOFFSETTO:+0100
TZNAME:CET
DTSTART:20251026T010000
END:STANDARD
BEGIN:DAYLIGHT
TZOFFSETFROM:+0100
TZOFFSETTO:+0200
TZNAME:CEST
DTSTART:20260329T010000
END:DAYLIGHT
BEGIN:STANDARD
TZOFFSETFROM:+0200
TZOFFSETTO:+0100
TZNAME:CET
DTSTART:20261025T010000
END:STANDARD
BEGIN:DAYLIGHT
TZOFFSETFROM:+0100
TZOFFSETTO:+0200
TZNAME:CEST
DTSTART:20270328T010000
END:DAYLIGHT
BEGIN:STANDARD
TZOFFSETFROM:+0200
TZOFFSETTO:+0100
TZNAME:CET
DTSTART:20271031T010000
END:STANDARD
END:VTIMEZONE
BEGIN:VEVENT
DTSTART;TZID=Europe/Prague:20260801T000000
DTEND;TZID=Europe/Prague:20260801T030000
DTSTAMP:20260420T010455
CREATED:20260321T195740Z
LAST-MODIFIED:20260321T195741Z
UID:19755-1785542400-1785553200@dnesnivylet.cz
SUMMARY:Moravskobudějovické Kulturní léto 2026
DESCRIPTION:Moravskobudějovické Kulturní léto 2026 se uskuteční dne 2026-08-01 v 00:00 v Moravské Budějovice\, Zámecké nádvoří. \n🎟️ Koupit vstupenku \n\nKoupí tohoto předplatného získáte vstupenku na všechny tři koncerty za výhodnější cenu. \n\nTento tip na kulturní akci v Moravské Budějovice najdete v přehledu na Dnesnivylet.cz spolu s dalšími koncerty\, festivaly a divadelními představeními.Každý si vybere co se mu líbí. Nezapomeňte koupit vstupenky včas\, stačí kliknout a budete přesměrování na oficiálního prodejce vstupenek.
URL:https://dnesnivylet.cz/event/moravskobudejovicke-kulturni-leto-2026/
LOCATION:Zámecké nádvoří\, Moravské Budějovice\, Zámecké nádvoří\, Moravské Budějovice\, Česká republika
CATEGORIES:Festival
ATTACH;FMTTYPE=image/jpeg:https://dnesnivylet.cz/wp-content/uploads/2026/03/320-0bdda34f3eef4f6bbe685ea0faa38926.jpg
END:VEVENT
BEGIN:VEVENT
DTSTART;TZID=Europe/Prague:20260801T200000
DTEND;TZID=Europe/Prague:20260801T230000
DTSTAMP:20260420T010455
CREATED:20260321T195643Z
LAST-MODIFIED:20260321T195643Z
UID:19751-1785614400-1785625200@dnesnivylet.cz
SUMMARY:Jiří Pavlica\, Hradišťan & Hana a Petr Ulrychovi\, Javory Beat
DESCRIPTION:Jiří Pavlica\, Hradišťan & Hana a Petr Ulrychovi\, Javory Beat se uskuteční dne 2026-08-01 v 20:00 v Moravské Budějovice\, Zámecké nádvoří. \n🎟️ Koupit vstupenku \n\nJiří Pavlica\, Hradišťan & Hana a Petr Ulrychovi\, Javory Beat na jednom pódiu. \nNení třeba zdůrazňovat\, že obě tato tělesa patří mezi stálice české hudební scény. Svými písněmi přinášejí radost posluchačům už více než padesát let a za tu dobu s nimi spolupracovala řada hudebníků a zpěváků. Jiří Pavlica\, který dnes stojí v čele Hradišťanu\, byl dokonce po nějakou dobu členem skupiny Javory. Ale existují další svorníky\, především je to charakter a obsah písní\, dále jejich melodika a inspirační zdroje a v neposlední řadě je to také lidský aspekt – vlídný a upřímný přístup k posluchačům. Možná právě proto se obě kapely rozhodly vystupovat také společně se speciálním programem\, ve kterém se představí nejen samostatně\, ale zejména ve společné části\, kde zazní známé hity\, ale i písně nové i nová hudební aranžmá. Není bez zajímavosti\, že v roce 2024 oslavil Petr Ulrych 80 let\, Hanka Ulrychová 75 let a společně pak 60 let na hudební scéně. \nPředprodej vstupenek v síti smsticket.cz a v turistickém informačním centru Moravské Budějovice. \nVstupné na místě 1090 Kč (pouze v případě volné kapacity) \n\nTento tip na kulturní akci v Moravské Budějovice najdete v přehledu na Dnesnivylet.cz spolu s dalšími koncerty\, festivaly a divadelními představeními.Každý si vybere co se mu líbí. Nezapomeňte koupit vstupenky včas\, stačí kliknout a budete přesměrování na oficiálního prodejce vstupenek.
URL:https://dnesnivylet.cz/event/jiri-pavlica-hradistan-hana-a-petr-ulrychovi-javory-beat/
LOCATION:Zámecké nádvoří\, Moravské Budějovice\, Zámecké nádvoří\, Moravské Budějovice\, Česká republika
CATEGORIES:Koncert
ATTACH;FMTTYPE=image/jpeg:https://dnesnivylet.cz/wp-content/uploads/2026/03/320-1b2d63dcceca41728a857b12bc1d9cce.jpg
END:VEVENT
BEGIN:VEVENT
DTSTART;TZID=Europe/Prague:20261010T170000
DTEND;TZID=Europe/Prague:20261010T200000
DTSTAMP:20260420T010455
CREATED:20260419T120410Z
LAST-MODIFIED:20260419T120411Z
UID:20631-1791651600-1791662400@dnesnivylet.cz
SUMMARY:Veselá trojka
DESCRIPTION:Veselá trojka  se uskuteční dne 2026-10-10 v 17:00 v Čepřovice\, Kulturní dům. \n🎟️ Koupit vstupenku \n\nObec Čepřovice\,srdečně zve všechny milovníky kapely Veselá trojka dne 10. 10. 2026 od 17:00 hod do kulturního domu Čepřovice. \n\nTento tip na kulturní akci v Čepřovice najdete v přehledu na Dnesnivylet.cz spolu s dalšími koncerty\, festivaly a divadelními představeními.Každý si vybere co se mu líbí. Nezapomeňte koupit vstupenky včas\, stačí kliknout a budete přesměrování na oficiálního prodejce vstupenek.
URL:https://dnesnivylet.cz/event/vesela-trojka/
LOCATION:Kulturní dům\, Čepřovice\, Kulturní dům\, Čepřovice\, Česká republika
CATEGORIES:Koncert
ATTACH;FMTTYPE=image/jpeg:https://dnesnivylet.cz/wp-content/uploads/2026/04/320-89f1b2cfebc741b480fc153c25a78b4e.jpg
END:VEVENT
END:VCALENDAR