BEGIN:VCALENDAR
VERSION:2.0
PRODID:-//www.dnesnivylet.cz                                                                                                                        Tip na výlet pro celou rodinu. - ECPv6.15.13.1//NONSGML v1.0//EN
CALSCALE:GREGORIAN
METHOD:PUBLISH
X-WR-CALNAME:www.dnesnivylet.cz                                                                                                                        Tip na výlet pro celou rodinu.
X-ORIGINAL-URL:https://dnesnivylet.cz
X-WR-CALDESC:Akce na www.dnesnivylet.cz                                                                                                                        Tip na výlet pro celou rodinu.
REFRESH-INTERVAL;VALUE=DURATION:PT1H
X-Robots-Tag:noindex
X-PUBLISHED-TTL:PT1H
BEGIN:VTIMEZONE
TZID:Europe/Prague
BEGIN:DAYLIGHT
TZOFFSETFROM:+0100
TZOFFSETTO:+0200
TZNAME:CEST
DTSTART:20240331T010000
END:DAYLIGHT
BEGIN:STANDARD
TZOFFSETFROM:+0200
TZOFFSETTO:+0100
TZNAME:CET
DTSTART:20241027T010000
END:STANDARD
BEGIN:DAYLIGHT
TZOFFSETFROM:+0100
TZOFFSETTO:+0200
TZNAME:CEST
DTSTART:20250330T010000
END:DAYLIGHT
BEGIN:STANDARD
TZOFFSETFROM:+0200
TZOFFSETTO:+0100
TZNAME:CET
DTSTART:20251026T010000
END:STANDARD
BEGIN:DAYLIGHT
TZOFFSETFROM:+0100
TZOFFSETTO:+0200
TZNAME:CEST
DTSTART:20260329T010000
END:DAYLIGHT
BEGIN:STANDARD
TZOFFSETFROM:+0200
TZOFFSETTO:+0100
TZNAME:CET
DTSTART:20261025T010000
END:STANDARD
END:VTIMEZONE
BEGIN:VEVENT
DTSTART;TZID=Europe/Prague:20251211T190000
DTEND;TZID=Europe/Prague:20251211T220000
DTSTAMP:20260420T010705
CREATED:20251101T133901Z
LAST-MODIFIED:20251101T133902Z
UID:10868-1765479600-1765490400@dnesnivylet.cz
SUMMARY:Dasha & Pajky Pajk Quintet - vánoční koncert
DESCRIPTION:Dasha & Pajky Pajk Quintet – vánoční koncert se uskuteční dne 2025-12-11 v 19:00 v Šumperk\, Dům Kultury. \n🎟️ Koupit vstupenku \n\nPřijďte si užít slavnostní atmosféru nejkrásnějšího období roku s majitelkou jednoho z nejlepších ženských hlasů v České republice. \nCharismatická zpěvačka Dasha\, která je držitelkou Ceny Thálie\, za doprovodu skvělého Pajky Pajk Quintetu přinese do Šumperka kouzlo Vánoc v neopakovatelném hudebním zážitku. \n\nTento tip na kulturní akci v Šumperk najdete v přehledu na Dnesnivylet.cz spolu s dalšími koncerty\, festivaly a divadelními představeními.Každý si vybere co se mu líbí. Nezapomeňte koupit vstupenky včas\, stačí kliknout a budete přesměrování na oficiálního prodejce vstupenek.
URL:https://dnesnivylet.cz/event/dasha-pajky-pajk-quintet-vanocni-koncert/
LOCATION:Dům Kultury\, Šumperk\, Dům Kultury\, Šumperk\, Česká republika
CATEGORIES:Koncert
ATTACH;FMTTYPE=image/jpeg:https://dnesnivylet.cz/wp-content/uploads/2025/11/320-694b378f28ac42018e1035819dc396e3.jpg
END:VEVENT
BEGIN:VEVENT
DTSTART;TZID=Europe/Prague:20251211T180000
DTEND;TZID=Europe/Prague:20251211T210000
DTSTAMP:20260420T010705
CREATED:20251129T052049Z
LAST-MODIFIED:20251129T052119Z
UID:13872-1765476000-1765486800@dnesnivylet.cz
SUMMARY:Vánoční koncert
DESCRIPTION:Vánoční koncert  se uskuteční dne 2025-12-11 v 18:00 v Lety\, Pivotel MMX. \n🎟️ Koupit vstupenku \n\nVÁNOČNÍ KONCERT S KELTSKOU HARFOU \nPřijďte prožít kouzelný adventní večer za zvuku keltské harfy a jedinečné hudby v podání kapely Bety\, Nina & Batik Boys. Čeká vás jedinečný hudební zážitek v příjemné atmosféře. \n  \n  \n\nTento tip na kulturní akci v Lety najdete v přehledu na Dnesnivylet.cz spolu s dalšími koncerty\, festivaly a divadelními představeními.Každý si vybere co se mu líbí. Nezapomeňte koupit vstupenky včas\, stačí kliknout a budete přesměrování na oficiálního prodejce vstupenek.
URL:https://dnesnivylet.cz/event/vanocni-koncert-7/
LOCATION:Pivotel MMX\, Lety\, Pivotel MMX\, Lety\, Česká republika
CATEGORIES:Koncert
ATTACH;FMTTYPE=image/jpeg:https://dnesnivylet.cz/wp-content/uploads/2025/11/320-3b1eac7382564f828ab5b20ca63e034a.jpg
END:VEVENT
BEGIN:VEVENT
DTSTART;TZID=Europe/Prague:20251207T180000
DTEND;TZID=Europe/Prague:20251207T210000
DTSTAMP:20260420T010705
CREATED:20251020T153306Z
LAST-MODIFIED:20251020T153306Z
UID:9202-1765130400-1765141200@dnesnivylet.cz
SUMMARY:Koncert Vánoce s Duo Jamaha
DESCRIPTION:Koncert Vánoce s Duo Jamaha se uskuteční dne 2025-12-07 v 18:00 v Hlučín\, Kulturní dům. \n🎟️ Koupit vstupenku \n\nZažijte krásnou atmosféru s vánočními písněmi od Duo Jamaha. Zazní skladby z úspěšného hudebního alba „Vianočný darček“. \nTento koncert bude doplněný hudebními novinkami\, mluveným vánočním slovem a nebude chybět host tohoto programu: zpěvačka Mára\, která zazpívá své největší vánoční hity a koledy. \nUdělejte si radost a přijďte zažít a načerpat pozitivní příjemnou náladu a energii v předvánočním období. \nTěšíme se na Vás. \n  \nDélka koncertu 90 min.\, bez přestávkyVstupné 350\,-Kč v předprodeji\, 390\,-Kč na místě  \n  \n\nTento tip na kulturní akci v Hlučín najdete v přehledu na Dnesnivylet.cz spolu s dalšími koncerty\, festivaly a divadelními představeními.Každý si vybere co se mu líbí. Nezapomeňte koupit vstupenky včas\, stačí kliknout a budete přesměrování na oficiálního prodejce vstupenek.
URL:https://dnesnivylet.cz/event/koncert-vanoce-s-duo-jamaha/
LOCATION:Kulturní dům\, Hlučín\, Kulturní dům\, Hlučín\, Česká republika
CATEGORIES:Koncert
ATTACH;FMTTYPE=image/jpeg:https://dnesnivylet.cz/wp-content/uploads/2025/10/320-200390275a6f49d4b72a514d61011c00.jpg
END:VEVENT
BEGIN:VEVENT
DTSTART;TZID=Europe/Prague:20251207T180000
DTEND;TZID=Europe/Prague:20251207T210000
DTSTAMP:20260420T010705
CREATED:20251020T064741Z
LAST-MODIFIED:20251020T064741Z
UID:8117-1765130400-1765141200@dnesnivylet.cz
SUMMARY:Javory - vánoční koncert
DESCRIPTION:Javory – vánoční koncert se uskuteční dne 2025-12-07 v 18:00 v Zbýšov\, Kino Horník. \n🎟️ Koupit vstupenku \n\nVánoční koncert slavné sourozenecké dvojice Hany a Petra Ulrychových za doprovodu kapely Javory. \n  \n\nTento tip na kulturní akci v Zbýšov najdete v přehledu na Dnesnivylet.cz spolu s dalšími koncerty\, festivaly a divadelními představeními.Každý si vybere co se mu líbí. Nezapomeňte koupit vstupenky včas\, stačí kliknout a budete přesměrování na oficiálního prodejce vstupenek.
URL:https://dnesnivylet.cz/event/javory-vanocni-koncert/
LOCATION:Kino Horník\, Zbýšov\, Kino Horník\, Zbýšov\, Česká republika
CATEGORIES:Koncert
ATTACH;FMTTYPE=image/jpeg:https://dnesnivylet.cz/wp-content/uploads/2025/10/320-d1be75b5d425431284d6ddf60d1fa00a-1.jpg
END:VEVENT
BEGIN:VEVENT
DTSTART;TZID=Europe/Prague:20251206T190000
DTEND;TZID=Europe/Prague:20251206T220000
DTSTAMP:20260420T010705
CREATED:20251103T153107Z
LAST-MODIFIED:20251103T153108Z
UID:11681-1765047600-1765058400@dnesnivylet.cz
SUMMARY:Vánoční koncert
DESCRIPTION:Vánoční koncert se uskuteční dne 2025-12-06 v 19:00 v Plzeň\, Husův Chrám. \n🎟️ Koupit vstupenku \n\n  \nVánoční koncert při svíčkách – hudba\, která vás naladí na sváteční čas 🎄 \nZapomeňte na předvánoční shon a přijďte se zastavit v záplavě světel tisíců svíček. Krása Quartet vás provede večerem plným kouzelných melodií\, které k Vánocům neodmyslitelně patří. \nUslyšíte něžné Vánoční pastorále Arcangela Corelliho\, pohádkové tóny z Čajkovského Louskáčka\, rozvernou Tratsch polku Johanna Strausse\, slavnostní Adeste fideles či dojemnou O Holy Night. Chybět nebudou ani české koledy\, při kterých si budete chtít tiše prozpěvovat\, a další skladby\, které pohladí duši. \nDélka koncertu: 65 minutÚčinkuje: Krása Quartet (smyčcový kvartet) \nPřijďte se naladit na Vánoce hudbou\, která zahřeje u srdce a připomene nám\, co je na tomto svátečním čase nejkrásnější – klid\, radost a společné chvíle. \n\nTento tip na kulturní akci v Plzeň najdete v přehledu na Dnesnivylet.cz spolu s dalšími koncerty\, festivaly a divadelními představeními.Každý si vybere co se mu líbí. Nezapomeňte koupit vstupenky včas\, stačí kliknout a budete přesměrování na oficiálního prodejce vstupenek.
URL:https://dnesnivylet.cz/event/vanocni-koncert-2/
LOCATION:Husův Chrám\, Plzeň\, Husův Chrám\, Plzeň\, Česká republika
CATEGORIES:Koncert
ATTACH;FMTTYPE=image/jpeg:https://dnesnivylet.cz/wp-content/uploads/2025/11/320-90deebe8d7ff4337b4c22682cc2b9104.jpg
END:VEVENT
BEGIN:VEVENT
DTSTART;TZID=Europe/Prague:20251206T190000
DTEND;TZID=Europe/Prague:20251206T220000
DTSTAMP:20260420T010705
CREATED:20251020T092909Z
LAST-MODIFIED:20251020T092909Z
UID:9048-1765047600-1765058400@dnesnivylet.cz
SUMMARY:Spirituál kvartet
DESCRIPTION:Spirituál kvartet se uskuteční dne 2025-12-06 v 19:00 v Brno\, Musilka. \n🎟️ Koupit vstupenku \n\nVánoční koncert. \nSpirituál kvartet je skupina přímo navazující na legendární československou folkovou kapelu Spirituál kvintet. Kontinuitu s tímto souborem\, významně ovlivňujícím domácí hudební scénu více než šedesát let\, zaručuje nejen návrat k původnímu historickému názvu\, ale především účast Jiřího Holoubka a Veroniky Součkové\, dlouholetých členů Spirituál kvintetu.  \nTi své síly spojili se dvěma dalšími vynikajícími muzikanty. Zpěvákem\, skladatelem\, banjistou\, hráčem na steel kytaru a kontrabas Zbyňkem Burešem\, a kytaristou\, zpěvákem\, majitelem podmanivého basu Janem Jandou. \nSpirituál kvartet s pokorou\, úctou a vděkem staví na odkazu svých předchůdců\, který ale zcela samozřejmě rozvíjí dál vlastním zvukem i podáním nejen skladeb prověřených desetiletími\, ale i novým autorským repertoárem. \n\nTento tip na kulturní akci v Brno najdete v přehledu na Dnesnivylet.cz spolu s dalšími koncerty\, festivaly a divadelními představeními.Každý si vybere co se mu líbí. Nezapomeňte koupit vstupenky včas\, stačí kliknout a budete přesměrování na oficiálního prodejce vstupenek.
URL:https://dnesnivylet.cz/event/spiritual-kvartet/
LOCATION:Musilka\, Brno\, Musilka\, Brno\, Česká republika
CATEGORIES:Koncert
ATTACH;FMTTYPE=image/jpeg:https://dnesnivylet.cz/wp-content/uploads/2025/10/320-70f98fafad3b4792b236f0ac4bc2ed57.jpg
END:VEVENT
BEGIN:VEVENT
DTSTART;TZID=Europe/Prague:20251203T183000
DTEND;TZID=Europe/Prague:20251203T213000
DTSTAMP:20260420T010705
CREATED:20251021T063530Z
LAST-MODIFIED:20251021T063531Z
UID:9523-1764786600-1764797400@dnesnivylet.cz
SUMMARY:Adventní koncert s komorním orchestrem
DESCRIPTION:Adventní koncert s komorním orchestrem se uskuteční dne 2025-12-03 v 18:30 v Praha\, Novogotická modlitebna církve československé. \n🎟️ Koupit vstupenku \n\n  \nPřijďte se naladit nejkrásnějšími adventně vánočními skladbami\, ale i koledami a vánočními písněmi do krásného prostoru vytápěné Evangelické kaple na Korunní ulici 60 v Praze na Vinohradech (spíše divadelní sál) – v podání komorního orchestru Consortium Pragense Orchestra. \nCONSORTIUM PRAGENSE ORCHESTRA8-členný komorní orchestr se sólisty:Štěpánka Heřmánková – soprán\, Miroslav Laštovka – trubka \n  \nPROGRAM: \nA. VIVALDI ZIMA (ze Čtvera ročních období):ČESKÉ BAROKNÍ KOLEDY \nA. CORELLI:  \nPASTORALE z Christmas Concerto \nAMAZING GRACE \nJ. I. LINEK:SINFONIA PASTORALIS \nWE WISH YOU A MERRY CHRISTMAS \nJ. S. BACH:AIR \nN. ROTA:THE GODFATHER \nL. COHEN:HALLELUJA \nJ. PACHALBEL:Canon v D-dur \nW. GOMEZ:AVE MARIA \nR. WILLIAMS:GREENSLEEVES \nS. NELSON:FROSTY the SNOW MAN \nJ. STYNE:LET IT SNOW! \nJ. LIVINGSTON:SILVER BELLS \nI. BERLIN:WHITE CHRISTMAS vánoční píseň         \nBIM BAMADESTE FIDELES \nF. GRUBER:TICHÁ NOC \nDÉLKA cca 65 minut(změna programu a účinkujících vyhrazena). \n\nTento tip na kulturní akci v Praha najdete v přehledu na Dnesnivylet.cz spolu s dalšími koncerty\, festivaly a divadelními představeními.Každý si vybere co se mu líbí. Nezapomeňte koupit vstupenky včas\, stačí kliknout a budete přesměrování na oficiálního prodejce vstupenek.
URL:https://dnesnivylet.cz/event/adventni-koncert-s-komornim-orchestrem/
LOCATION:Novogotická modlitebna církve československé\, Praha\, Novogotická modlitebna církve československé\, Praha\, Česká republika
CATEGORIES:Koncert
ATTACH;FMTTYPE=image/jpeg:https://dnesnivylet.cz/wp-content/uploads/2025/10/320-63412b1bb2314bfbbb6d82619b784f47.jpg
END:VEVENT
BEGIN:VEVENT
DTSTART;TZID=Europe/Prague:20251115T110000
DTEND;TZID=Europe/Prague:20251115T140000
DTSTAMP:20260420T010705
CREATED:20251102T202328Z
LAST-MODIFIED:20251102T202328Z
UID:11401-1763204400-1763215200@dnesnivylet.cz
SUMMARY:Sv. Martin na Hovoransku 2025 – den otevřených sklepů
DESCRIPTION:Sv. Martin na Hovoransku 2025 – den otevřených sklepů se uskuteční dne 2025-11-15 v 11:00 v Hovorany\, Obecní sklep. \n🎟️ Koupit vstupenku \n\nAkce se koná 15. listopadu od 11.00 hod. Na již 11. ročníku můžete ochutnat jak mladá a Svatomartinská vína od našich vinařů\, tak výběr minulých ročníků. Večer se můžete těšit na zábavu s cimbálovou muzikou. \nProdej vína je i v neděli 16. listopadu 2025 od 9.00 do 12.00 hod \n\nTento tip na kulturní akci v Hovorany najdete v přehledu na Dnesnivylet.cz spolu s dalšími koncerty\, festivaly a divadelními představeními.Každý si vybere co se mu líbí. Nezapomeňte koupit vstupenky včas\, stačí kliknout a budete přesměrování na oficiálního prodejce vstupenek.
URL:https://dnesnivylet.cz/event/sv-martin-na-hovoransku-2025-den-otevrenych-sklepu/
LOCATION:Obecní sklep\, Hovorany\, Obecní sklep\, Hovorany\, Česká republika
CATEGORIES:Koncert
ATTACH;FMTTYPE=image/jpeg:https://dnesnivylet.cz/wp-content/uploads/2025/11/320-09951fe5adca49ca911f7164c01ebe50.jpg
END:VEVENT
BEGIN:VEVENT
DTSTART;TZID=Europe/Prague:20251024T190000
DTEND;TZID=Europe/Prague:20251024T220000
DTSTAMP:20260420T010705
CREATED:20251020T083038Z
LAST-MODIFIED:20251020T083038Z
UID:8937-1761332400-1761343200@dnesnivylet.cz
SUMMARY:Kollárovci
DESCRIPTION:Kollárovci se uskuteční dne 2025-10-24 v 19:00 v Dolní Benešov\, Kulturní dům Dolní Benešov. \n🎟️ Koupit vstupenku \n\nSrdečně Vás zveme na jedinečný koncert oblíbené slovenské kapely Kollárovci! \nHudebně zábavná show\, v níž vynikající zpěvy a nádherná muzika nenechají \nnikoho sedět na židli. \n  \nKollárovci: \nPhD. Tomáš Kollár – housle\, zpěv \nPaedDr. Štefan Kollár – akordeon\, saxofon\, zpěv \nMgr. Marek Kollár – housle\, zpěv \nJuraj Švedlár – kontrabas\, zpěv \nJúlius – Michal Hudi – cimbál \nDis. Art. Patrik Červenák – bicí nástroje \n\nTento tip na kulturní akci v Dolní Benešov najdete v přehledu na Dnesnivylet.cz spolu s dalšími koncerty\, festivaly a divadelními představeními.Každý si vybere co se mu líbí. Nezapomeňte koupit vstupenky včas\, stačí kliknout a budete přesměrování na oficiálního prodejce vstupenek.
URL:https://dnesnivylet.cz/event/kollarovci/
LOCATION:Kulturní dům Dolní Benešov\, Dolní Benešov\, Kulturní dům Dolní Benešov\, Dolní Benešov\, Česká republika
CATEGORIES:Koncert
ATTACH;FMTTYPE=image/jpeg:https://dnesnivylet.cz/wp-content/uploads/2025/10/320-fd67167f185d4213a4d72505e825e8d7.jpg
END:VEVENT
END:VCALENDAR