BEGIN:VCALENDAR
VERSION:2.0
PRODID:-//www.dnesnivylet.cz                                                                                                                        Tip na výlet pro celou rodinu. - ECPv6.15.13.1//NONSGML v1.0//EN
CALSCALE:GREGORIAN
METHOD:PUBLISH
X-WR-CALNAME:www.dnesnivylet.cz                                                                                                                        Tip na výlet pro celou rodinu.
X-ORIGINAL-URL:https://dnesnivylet.cz
X-WR-CALDESC:Akce na www.dnesnivylet.cz                                                                                                                        Tip na výlet pro celou rodinu.
REFRESH-INTERVAL;VALUE=DURATION:PT1H
X-Robots-Tag:noindex
X-PUBLISHED-TTL:PT1H
BEGIN:VTIMEZONE
TZID:Europe/Prague
BEGIN:DAYLIGHT
TZOFFSETFROM:+0100
TZOFFSETTO:+0200
TZNAME:CEST
DTSTART:20250330T010000
END:DAYLIGHT
BEGIN:STANDARD
TZOFFSETFROM:+0200
TZOFFSETTO:+0100
TZNAME:CET
DTSTART:20251026T010000
END:STANDARD
BEGIN:DAYLIGHT
TZOFFSETFROM:+0100
TZOFFSETTO:+0200
TZNAME:CEST
DTSTART:20260329T010000
END:DAYLIGHT
BEGIN:STANDARD
TZOFFSETFROM:+0200
TZOFFSETTO:+0100
TZNAME:CET
DTSTART:20261025T010000
END:STANDARD
BEGIN:DAYLIGHT
TZOFFSETFROM:+0100
TZOFFSETTO:+0200
TZNAME:CEST
DTSTART:20270328T010000
END:DAYLIGHT
BEGIN:STANDARD
TZOFFSETFROM:+0200
TZOFFSETTO:+0100
TZNAME:CET
DTSTART:20271031T010000
END:STANDARD
END:VTIMEZONE
BEGIN:VEVENT
DTSTART;TZID=Europe/Prague:20260601T190000
DTEND;TZID=Europe/Prague:20260601T220000
DTSTAMP:20260419T190058
CREATED:20260107T192226Z
LAST-MODIFIED:20260107T192227Z
UID:16548-1780340400-1780351200@dnesnivylet.cz
SUMMARY:Michael Szatmary - Lokálny sexsymbol - Stand-up speciál
DESCRIPTION:Michael Szatmary – Lokálny sexsymbol – Stand-up speciál se uskuteční dne 2026-06-01 v 19:00 v Litoměřice\, Divadlo K. H. Máchy. \n🎟️ Koupit vstupenku \n\nMichael Szatmary\, jedno z největších a nejzářivějších jmen slovenské stand-up komediální scény\, který je velmi oblíbený i českým publikem\, vyráží na turné se svým Stand-up comedy speciálem. \nMůžete se těšit na 80. minutovou show\, ve které vás Michael nebude šetřit a celý večer se budete smát jeho nejlepším historkám. \n\nTento tip na kulturní akci v Litoměřice najdete v přehledu na Dnesnivylet.cz spolu s dalšími koncerty\, festivaly a divadelními představeními.Každý si vybere co se mu líbí. Nezapomeňte koupit vstupenky včas\, stačí kliknout a budete přesměrování na oficiálního prodejce vstupenek.
URL:https://dnesnivylet.cz/event/michael-szatmary-lokalny-sexsymbol-stand-up-special-8/
LOCATION:Divadlo K. H. Máchy\, Litoměřice\, Divadlo K. H. Máchy\, Litoměřice\, Česká republika
CATEGORIES:Zábava
ATTACH;FMTTYPE=image/jpeg:https://dnesnivylet.cz/wp-content/uploads/2026/01/320-0f13ffffcb7542d8b335c4740f3ff45b.jpg
END:VEVENT
END:VCALENDAR