BEGIN:VCALENDAR
VERSION:2.0
PRODID:-//www.dnesnivylet.cz                                                                                                                        Tip na výlet pro celou rodinu. - ECPv6.15.13.1//NONSGML v1.0//EN
CALSCALE:GREGORIAN
METHOD:PUBLISH
X-ORIGINAL-URL:https://dnesnivylet.cz
X-WR-CALDESC:Akce na www.dnesnivylet.cz                                                                                                                        Tip na výlet pro celou rodinu.
REFRESH-INTERVAL;VALUE=DURATION:PT1H
X-Robots-Tag:noindex
X-PUBLISHED-TTL:PT1H
BEGIN:VTIMEZONE
TZID:Europe/Prague
BEGIN:DAYLIGHT
TZOFFSETFROM:+0100
TZOFFSETTO:+0200
TZNAME:CEST
DTSTART:20240331T010000
END:DAYLIGHT
BEGIN:STANDARD
TZOFFSETFROM:+0200
TZOFFSETTO:+0100
TZNAME:CET
DTSTART:20241027T010000
END:STANDARD
BEGIN:DAYLIGHT
TZOFFSETFROM:+0100
TZOFFSETTO:+0200
TZNAME:CEST
DTSTART:20250330T010000
END:DAYLIGHT
BEGIN:STANDARD
TZOFFSETFROM:+0200
TZOFFSETTO:+0100
TZNAME:CET
DTSTART:20251026T010000
END:STANDARD
BEGIN:DAYLIGHT
TZOFFSETFROM:+0100
TZOFFSETTO:+0200
TZNAME:CEST
DTSTART:20260329T010000
END:DAYLIGHT
BEGIN:STANDARD
TZOFFSETFROM:+0200
TZOFFSETTO:+0100
TZNAME:CET
DTSTART:20261025T010000
END:STANDARD
END:VTIMEZONE
BEGIN:VEVENT
DTSTART;TZID=Europe/Prague:20251220T190000
DTEND;TZID=Europe/Prague:20251220T220000
DTSTAMP:20260419T174127
CREATED:20251212T185234Z
LAST-MODIFIED:20251212T185234Z
UID:14840-1766257200-1766268000@dnesnivylet.cz
SUMMARY:Vánoční koncert
DESCRIPTION:Vánoční koncert se uskuteční dne 2025-12-20 v 19:00 v Lovosice\, Kostel sv. Václava. \n🎟️ Koupit vstupenku \n\nZazní úpravy českých i anglických koled a písní. \nVystoupí: \nLovosický žesťový kvintet pod vedením Zděnka Honců \nPěvecký sbor Českolipský Evergreen pod vedením sbormistra Václava Filipa. \nSmyčcový kvartet ve složení: \nAdéla Dragounová – housle\, Bui Thi Thuy Dung – housle\, \nBarbara Pospíšilová – viola\, Ladislav Březnovský – violoncello \nKlavírní doprovod: Alena Kolaříková\, Pavlína Forejtová \nFlétna: Ludmila Tesaříková \n\nTento tip na kulturní akci v Lovosice najdete v přehledu na Dnesnivylet.cz spolu s dalšími koncerty\, festivaly a divadelními představeními.Každý si vybere co se mu líbí. Nezapomeňte koupit vstupenky včas\, stačí kliknout a budete přesměrování na oficiálního prodejce vstupenek.
URL:https://dnesnivylet.cz/event/vanocni-koncert-9/
LOCATION:Kostel sv. Václava\, Lovosice\, Kostel sv. Václava\, Lovosice\, Česká republika
CATEGORIES:Koncert
ATTACH;FMTTYPE=image/jpeg:https://dnesnivylet.cz/wp-content/uploads/2025/12/320-4f7f2085cb3745a082221bcc5e6cde31.jpg
END:VEVENT
END:VCALENDAR