BEGIN:VCALENDAR
VERSION:2.0
PRODID:-//www.dnesnivylet.cz                                                                                                                        Tip na výlet pro celou rodinu. - ECPv6.15.13.1//NONSGML v1.0//EN
CALSCALE:GREGORIAN
METHOD:PUBLISH
X-WR-CALNAME:www.dnesnivylet.cz                                                                                                                        Tip na výlet pro celou rodinu.
X-ORIGINAL-URL:https://dnesnivylet.cz
X-WR-CALDESC:Akce na www.dnesnivylet.cz                                                                                                                        Tip na výlet pro celou rodinu.
REFRESH-INTERVAL;VALUE=DURATION:PT1H
X-Robots-Tag:noindex
X-PUBLISHED-TTL:PT1H
BEGIN:VTIMEZONE
TZID:Europe/Prague
BEGIN:DAYLIGHT
TZOFFSETFROM:+0100
TZOFFSETTO:+0200
TZNAME:CEST
DTSTART:20250330T010000
END:DAYLIGHT
BEGIN:STANDARD
TZOFFSETFROM:+0200
TZOFFSETTO:+0100
TZNAME:CET
DTSTART:20251026T010000
END:STANDARD
BEGIN:DAYLIGHT
TZOFFSETFROM:+0100
TZOFFSETTO:+0200
TZNAME:CEST
DTSTART:20260329T010000
END:DAYLIGHT
BEGIN:STANDARD
TZOFFSETFROM:+0200
TZOFFSETTO:+0100
TZNAME:CET
DTSTART:20261025T010000
END:STANDARD
BEGIN:DAYLIGHT
TZOFFSETFROM:+0100
TZOFFSETTO:+0200
TZNAME:CEST
DTSTART:20270328T010000
END:DAYLIGHT
BEGIN:STANDARD
TZOFFSETFROM:+0200
TZOFFSETTO:+0100
TZNAME:CET
DTSTART:20271031T010000
END:STANDARD
END:VTIMEZONE
BEGIN:VEVENT
DTSTART;TZID=Europe/Prague:20260717T180000
DTEND;TZID=Europe/Prague:20260717T210000
DTSTAMP:20260420T022512
CREATED:20251211T064556Z
LAST-MODIFIED:20251211T064556Z
UID:14705-1784311200-1784322000@dnesnivylet.cz
SUMMARY:Festival Pod Přehradou
DESCRIPTION:Festival Pod Přehradou se uskuteční dne 2026-07-17 v 18:00 v Ludkovice\, areál Pod Přehradou. \n🎟️ Koupit vstupenku \n\nVšechny srdečně zveme na DRUHÝ ročník Festivalu Pod Přehradou v Ludkovicích!  \n1. VLNA VSTUPENEK V PRODEJI JEN DO 31. prosince 2025!  \nInterprety budeme uveřejňovat postupně tady a na sociálních sítích 🙂 \nPÁTEK 17. ČERVENCE 2026 \n18:00 \n20:00 FLERET \n22:00 MŇÁGA A ŽDORP \n00:00 \n  \nSOBOTA 18. ČERVENCE 2026 \n13:00 \n16:00 \n18:00 \n20:00 \n22:00 KRHUT & KOZUB \n0:00 \n  \n\nTento tip na kulturní akci v Ludkovice najdete v přehledu na Dnesnivylet.cz spolu s dalšími koncerty\, festivaly a divadelními představeními.Každý si vybere co se mu líbí. Nezapomeňte koupit vstupenky včas\, stačí kliknout a budete přesměrování na oficiálního prodejce vstupenek.
URL:https://dnesnivylet.cz/event/festival-pod-prehradou/
LOCATION:areál Pod Přehradou\, Ludkovice\, areál Pod Přehradou\, Ludkovice\, Česká republika
CATEGORIES:Festival
ATTACH;FMTTYPE=image/jpeg:https://dnesnivylet.cz/wp-content/uploads/2025/12/320-5298d7bb96684c98b83b8f867ec51e7d-1.jpg
END:VEVENT
BEGIN:VEVENT
DTSTART;TZID=Europe/Prague:20260717T180000
DTEND;TZID=Europe/Prague:20260717T210000
DTSTAMP:20260420T022512
CREATED:20251211T064556Z
LAST-MODIFIED:20251211T064556Z
UID:14706-1784311200-1784322000@dnesnivylet.cz
SUMMARY:Festival Pod Přehradou
DESCRIPTION:Festival Pod Přehradou se uskuteční dne 2026-07-17 v 18:00 v Ludkovice\, areál Pod Přehradou. \n🎟️ Koupit vstupenku \n\nVšechny srdečně zveme na DRUHÝ ročník Festivalu Pod Přehradou v Ludkovicích!  \n1. VLNA VSTUPENEK V PRODEJI JEN DO 31. prosince 2025!  \nInterprety budeme uveřejňovat postupně tady a na sociálních sítích 🙂 \nPÁTEK 17. ČERVENCE 2026 \n18:00 \n20:00 FLERET \n22:00 MŇÁGA A ŽDORP \n00:00 \n  \nSOBOTA 18. ČERVENCE 2026 \n13:00 \n16:00 \n18:00 \n20:00 \n22:00 KRHUT & KOZUB \n0:00 \n  \n\nTento tip na kulturní akci v Ludkovice najdete v přehledu na Dnesnivylet.cz spolu s dalšími koncerty\, festivaly a divadelními představeními.Každý si vybere co se mu líbí. Nezapomeňte koupit vstupenky včas\, stačí kliknout a budete přesměrování na oficiálního prodejce vstupenek.
URL:https://dnesnivylet.cz/event/festival-pod-prehradou-2/
LOCATION:areál Pod Přehradou\, Ludkovice\, areál Pod Přehradou\, Ludkovice\, Česká republika
CATEGORIES:Festival
ATTACH;FMTTYPE=image/jpeg:https://dnesnivylet.cz/wp-content/uploads/2025/12/320-5298d7bb96684c98b83b8f867ec51e7d.jpg
END:VEVENT
END:VCALENDAR