BEGIN:VCALENDAR
VERSION:2.0
PRODID:-//www.dnesnivylet.cz                                                                                                                        Tip na výlet pro celou rodinu. - ECPv6.15.13.1//NONSGML v1.0//EN
CALSCALE:GREGORIAN
METHOD:PUBLISH
X-ORIGINAL-URL:https://dnesnivylet.cz
X-WR-CALDESC:Akce na www.dnesnivylet.cz                                                                                                                        Tip na výlet pro celou rodinu.
REFRESH-INTERVAL;VALUE=DURATION:PT1H
X-Robots-Tag:noindex
X-PUBLISHED-TTL:PT1H
BEGIN:VTIMEZONE
TZID:Europe/Prague
BEGIN:DAYLIGHT
TZOFFSETFROM:+0100
TZOFFSETTO:+0200
TZNAME:CEST
DTSTART:20240331T010000
END:DAYLIGHT
BEGIN:STANDARD
TZOFFSETFROM:+0200
TZOFFSETTO:+0100
TZNAME:CET
DTSTART:20241027T010000
END:STANDARD
BEGIN:DAYLIGHT
TZOFFSETFROM:+0100
TZOFFSETTO:+0200
TZNAME:CEST
DTSTART:20250330T010000
END:DAYLIGHT
BEGIN:STANDARD
TZOFFSETFROM:+0200
TZOFFSETTO:+0100
TZNAME:CET
DTSTART:20251026T010000
END:STANDARD
BEGIN:DAYLIGHT
TZOFFSETFROM:+0100
TZOFFSETTO:+0200
TZNAME:CEST
DTSTART:20260329T010000
END:DAYLIGHT
BEGIN:STANDARD
TZOFFSETFROM:+0200
TZOFFSETTO:+0100
TZNAME:CET
DTSTART:20261025T010000
END:STANDARD
END:VTIMEZONE
BEGIN:VEVENT
DTSTART;TZID=Europe/Prague:20251220T180000
DTEND;TZID=Europe/Prague:20251220T210000
DTSTAMP:20260419T172147
CREATED:20251129T063230Z
LAST-MODIFIED:20251129T063230Z
UID:14095-1766253600-1766264400@dnesnivylet.cz
SUMMARY:Štěpánští koledníci
DESCRIPTION:Štěpánští koledníci se uskuteční dne 2025-12-20 v 18:00 v Mikulčice\, Kulturní dům. \n🎟️ Koupit vstupenku \n\nŠtěpánští koledníci jsou především blízcí přátelé\, kteří spolu rádi hrají\, zpívají a mají k sobě blízko hlavně po lidské stránce\, na čem si také zakládají. Tuto přátelskou atmosféru se snaží dále předávat svým posluchačům i na koncertech. Název uskupení vznikl při tradici koledování na svátek svatého Štěpána o Vánocích v roce 2002. \nSoučasný repertoár dalece překračuje hranice lidových koled\, ke kterým se ale Štěpánští Koledníci v různých obměnách rádi vrací. V jejich písních tak může posluchač slyšet prvky folku\, folkloru\, popu a dokonce i jazzu. A právě tato pestrost\, obalená do lidového pojetí hudby\, je pro Štěpánské koledníky tak příznačná a pro diváky tak obohacující. S vřelým přijetím jsou přijímány i nové aranže tradičních koled\, které oslovují nejen svou originalitou\, ale také vysokou instrumentální a vokální úrovní ansámblu. Posluchači oceňují především atmosférukoncertů\, která jim pomáhá „zastavit se“ a zamyslet se nad poselstvím a smyslem Vánoc. \n\nTento tip na kulturní akci v Mikulčice najdete v přehledu na Dnesnivylet.cz spolu s dalšími koncerty\, festivaly a divadelními představeními.Každý si vybere co se mu líbí. Nezapomeňte koupit vstupenky včas\, stačí kliknout a budete přesměrování na oficiálního prodejce vstupenek.
URL:https://dnesnivylet.cz/event/stepansti-kolednici-2/
LOCATION:Kulturní dům\, Mikulčice\, Kulturní dům\, Mikulčice\, Česká republika
CATEGORIES:Koncert
ATTACH;FMTTYPE=image/jpeg:https://dnesnivylet.cz/wp-content/uploads/2025/11/320-e2c9f00a6d614f68bd4f2b09d965083f.jpg
END:VEVENT
BEGIN:VEVENT
DTSTART;TZID=Europe/Prague:20251025T180000
DTEND;TZID=Europe/Prague:20251025T210000
DTSTAMP:20260419T172147
CREATED:20251021T063532Z
LAST-MODIFIED:20251021T063533Z
UID:9526-1761415200-1761426000@dnesnivylet.cz
SUMMARY:Divadlo Kalich - Bez předsudků
DESCRIPTION:Divadlo Kalich – Bez předsudků se uskuteční dne 2025-10-25 v 18:00 v Mikulčice\, Kulturní dům. \n🎟️ Koupit vstupenku \n\nHra se odehrává v motelu\, kde musí v jediném volném pokoji neplánovaně přespat Diego s Fionou\, dva letití přátelé. Společná noc jim nabídne možnost otevřeně si popovídat o věcech\, na které se ženy jinak ostýchají ptát mužů a muži žen. \nBez předsudků je tedy výtečnou komedií předně o kamarádství\, o tajemstvích\, o zvědavosti a hlavně – o nás\, jejích divácích. \nStáváme se svědky vtipného\, vybroušeného\, velmi trefného a místy i dojemného slovního souboje obou postav. A nebyli by to Jana Paulová s Pavlem Zedníčkem\, aby k němu nepřidali řadu nezapomenutelných gagů. \nPremiéra této hry byla v roce 2004\, hraje se tedy neuveřitelných 21 let. \n\nTento tip na kulturní akci v Mikulčice najdete v přehledu na Dnesnivylet.cz spolu s dalšími koncerty\, festivaly a divadelními představeními.Každý si vybere co se mu líbí. Nezapomeňte koupit vstupenky včas\, stačí kliknout a budete přesměrování na oficiálního prodejce vstupenek.
URL:https://dnesnivylet.cz/event/divadlo-kalich-bez-predsudku/
LOCATION:Kulturní dům\, Mikulčice\, Kulturní dům\, Mikulčice\, Česká republika
CATEGORIES:Divadlo
ATTACH;FMTTYPE=image/jpeg:https://dnesnivylet.cz/wp-content/uploads/2025/10/320-553dedfe88a34de49bc9846e6e6c72fd.jpg
END:VEVENT
END:VCALENDAR