BEGIN:VCALENDAR
VERSION:2.0
PRODID:-//www.dnesnivylet.cz                                                                                                                        Tip na výlet pro celou rodinu. - ECPv6.15.13.1//NONSGML v1.0//EN
CALSCALE:GREGORIAN
METHOD:PUBLISH
X-ORIGINAL-URL:https://dnesnivylet.cz
X-WR-CALDESC:Akce na www.dnesnivylet.cz                                                                                                                        Tip na výlet pro celou rodinu.
REFRESH-INTERVAL;VALUE=DURATION:PT1H
X-Robots-Tag:noindex
X-PUBLISHED-TTL:PT1H
BEGIN:VTIMEZONE
TZID:Europe/Prague
BEGIN:DAYLIGHT
TZOFFSETFROM:+0100
TZOFFSETTO:+0200
TZNAME:CEST
DTSTART:20250330T010000
END:DAYLIGHT
BEGIN:STANDARD
TZOFFSETFROM:+0200
TZOFFSETTO:+0100
TZNAME:CET
DTSTART:20251026T010000
END:STANDARD
BEGIN:DAYLIGHT
TZOFFSETFROM:+0100
TZOFFSETTO:+0200
TZNAME:CEST
DTSTART:20260329T010000
END:DAYLIGHT
BEGIN:STANDARD
TZOFFSETFROM:+0200
TZOFFSETTO:+0100
TZNAME:CET
DTSTART:20261025T010000
END:STANDARD
BEGIN:DAYLIGHT
TZOFFSETFROM:+0100
TZOFFSETTO:+0200
TZNAME:CEST
DTSTART:20270328T010000
END:DAYLIGHT
BEGIN:STANDARD
TZOFFSETFROM:+0200
TZOFFSETTO:+0100
TZNAME:CET
DTSTART:20271031T010000
END:STANDARD
END:VTIMEZONE
BEGIN:VEVENT
DTSTART;TZID=Europe/Prague:20260410T180000
DTEND;TZID=Europe/Prague:20260410T210000
DTSTAMP:20260419T131928
CREATED:20260404T180426Z
LAST-MODIFIED:20260404T180426Z
UID:20094-1775844000-1775854800@dnesnivylet.cz
SUMMARY:Diktatura Debilov Tour 2026
DESCRIPTION:Diktatura Debilov Tour 2026 se uskuteční dne 2026-04-10 v 18:00 v Ostrava\, BARRÁK music club. \n🎟️ Koupit vstupenku \n\nDIKTATURA DEBILOV TOUR 2026 \nNa turné vyráží ČAD a HEJTMANDvě nekompromisní kapely\, osm klubů po celé republice a jedna jasná mise –pořádná porce metalu & rock’n’rollu \nČekej energii\, hluk\, pot a poctivý nářez od první do poslední skladby.Supporty budou postupně doplněny\, ale už teď je jasné\, že tohle turné si nesmíš nechat ujít! \n8 měst2 kapely100 % živá energie \n  \nSupport pro Ostravu : DEAD CARNAGE  \n\nTento tip na kulturní akci v Ostrava najdete v přehledu na Dnesnivylet.cz spolu s dalšími koncerty\, festivaly a divadelními představeními.Každý si vybere co se mu líbí. Nezapomeňte koupit vstupenky včas\, stačí kliknout a budete přesměrování na oficiálního prodejce vstupenek.
URL:https://dnesnivylet.cz/event/diktatura-debilov-tour-2026/
LOCATION:BARRÁK music club\, Ostrava\, BARRÁK music club\, Ostrava\, Česká republika
CATEGORIES:Koncert
ATTACH;FMTTYPE=image/jpeg:https://dnesnivylet.cz/wp-content/uploads/2026/04/320-ea3d84d37b22402ab7dc6c39141124d5.jpg
END:VEVENT
END:VCALENDAR