BEGIN:VCALENDAR
VERSION:2.0
PRODID:-//www.dnesnivylet.cz                                                                                                                        Tip na výlet pro celou rodinu. - ECPv6.15.13.1//NONSGML v1.0//EN
CALSCALE:GREGORIAN
METHOD:PUBLISH
X-ORIGINAL-URL:https://dnesnivylet.cz
X-WR-CALDESC:Akce na www.dnesnivylet.cz                                                                                                                        Tip na výlet pro celou rodinu.
REFRESH-INTERVAL;VALUE=DURATION:PT1H
X-Robots-Tag:noindex
X-PUBLISHED-TTL:PT1H
BEGIN:VTIMEZONE
TZID:Europe/Prague
BEGIN:DAYLIGHT
TZOFFSETFROM:+0100
TZOFFSETTO:+0200
TZNAME:CEST
DTSTART:20250330T010000
END:DAYLIGHT
BEGIN:STANDARD
TZOFFSETFROM:+0200
TZOFFSETTO:+0100
TZNAME:CET
DTSTART:20251026T010000
END:STANDARD
BEGIN:DAYLIGHT
TZOFFSETFROM:+0100
TZOFFSETTO:+0200
TZNAME:CEST
DTSTART:20260329T010000
END:DAYLIGHT
BEGIN:STANDARD
TZOFFSETFROM:+0200
TZOFFSETTO:+0100
TZNAME:CET
DTSTART:20261025T010000
END:STANDARD
BEGIN:DAYLIGHT
TZOFFSETFROM:+0100
TZOFFSETTO:+0200
TZNAME:CEST
DTSTART:20270328T010000
END:DAYLIGHT
BEGIN:STANDARD
TZOFFSETFROM:+0200
TZOFFSETTO:+0100
TZNAME:CET
DTSTART:20271031T010000
END:STANDARD
END:VTIMEZONE
BEGIN:VEVENT
DTSTART;TZID=Europe/Prague:20260414T180000
DTEND;TZID=Europe/Prague:20260414T210000
DTSTAMP:20260419T131928
CREATED:20260208T144216Z
LAST-MODIFIED:20260208T144216Z
UID:17577-1776189600-1776200400@dnesnivylet.cz
SUMMARY:Festival zdraví Ostrava
DESCRIPTION:Festival zdraví Ostrava se uskuteční dne 2026-04-14 v 18:00 v Ostrava\, Parník. \n🎟️ Koupit vstupenku \n\nSTÍNY TICHÝCH DRAMAT: PRVNÍ TERAPEUTICKÁ TALK SHOW & FESTIVAL ZDRAVÍ \nPonořte se s námi do hlubin emocí\, které ovlivňují Váš život. \nPřijměte pozvání na unikátní terapeutickou talk show a festival zdraví\, kde se poprvé setkávají psychologové a inspirativní osobnosti\, aby otevřely témata\, o kterých se obvykle mlčí. \nTento večer není o přednášce\, ale o živém dialogu\, silných příbězích a praktických ukázkách\, jak zvládat své „tiché bitvy“. \n  \nHOSTÉ A TÉMATA: \n\n\nMgr. Heřman Čadil\, MBA: Renomovaný psycholog\, terapeut a kouč. Z Olomouce se zkušeností z terapie a psychosomatiky. Podělí se o techniky\, jak změnit nastavení mysli a uniknout myšlenkovým pastem. \n\n\nMgr. Anna Lukášová: psycholožka\, certifikovaná krizová interventka a koučka\, frekventantka výcviku v analytické psychoterapii. Spojí hudbu\, emoce a psychologii v živých scénkách o vztazích a našich vnitřních vzorcích – o tom\, co nás spojuje\, i co nám někdy brání být si blízko. \n\n\nNaomi Palásková – Srdcem Amazonka: Žena s neuvěřitelnou vnitřní silou a inspirativním životním příběhem. Ukáže\, jak proměnit strach v odvahu a najít sílu ve vlastním prožívání. \n\n\n  \nCO VÁS ČEKÁ: \n\n\nPrvní terapeutická Talk Show: Autentická beseda plná upřímných odpovědí a živých ukázek. \n\n\nHudba\, která léčí: Večerem nás provede hudební doprovod\, který umocní emocionální prožitek a pomůže Vám relaxovat. \n\n\nInteraktivní ukázky a diskuse: Nejde jen o pasivní poslech. Budete mít možnost pokládat otázky a odnést si konkrétní nástroje pro svůj osobní restart. \n\n\nModerátor: Večerem Vás provede Marek Berger \n\n\n  \nPřijďte se inspirovat\, léčit duši a najít cestu ke svému zdravému já. \nStíny tichých dramat čekají na to\, až je společně osvětlíme. Bude to večer plný energie\, upřímnosti a hluboké regenerace. \n  \nCena vstupenky:I. vlna předprodeje – do 14. 3. 2026: 290 KčII. vlna předprodeje – do 13. 4. 2026: 340 KčCena v den konání akce online i na místě: 390 Kč \n  \n\nTento tip na kulturní akci v Ostrava najdete v přehledu na Dnesnivylet.cz spolu s dalšími koncerty\, festivaly a divadelními představeními.Každý si vybere co se mu líbí. Nezapomeňte koupit vstupenky včas\, stačí kliknout a budete přesměrování na oficiálního prodejce vstupenek.
URL:https://dnesnivylet.cz/event/festival-zdravi-ostrava/
LOCATION:Parník\, Ostrava\, Parník\, Ostrava\, Česká republika
CATEGORIES:Festival
ATTACH;FMTTYPE=image/jpeg:https://dnesnivylet.cz/wp-content/uploads/2026/02/320-38dd64fc2d6f466da60baeb50285f95c.jpg
END:VEVENT
END:VCALENDAR