BEGIN:VCALENDAR
VERSION:2.0
PRODID:-//www.dnesnivylet.cz                                                                                                                        Tip na výlet pro celou rodinu. - ECPv6.15.13.1//NONSGML v1.0//EN
CALSCALE:GREGORIAN
METHOD:PUBLISH
X-ORIGINAL-URL:https://dnesnivylet.cz
X-WR-CALDESC:Akce na www.dnesnivylet.cz                                                                                                                        Tip na výlet pro celou rodinu.
REFRESH-INTERVAL;VALUE=DURATION:PT1H
X-Robots-Tag:noindex
X-PUBLISHED-TTL:PT1H
BEGIN:VTIMEZONE
TZID:Europe/Prague
BEGIN:DAYLIGHT
TZOFFSETFROM:+0100
TZOFFSETTO:+0200
TZNAME:CEST
DTSTART:20250330T010000
END:DAYLIGHT
BEGIN:STANDARD
TZOFFSETFROM:+0200
TZOFFSETTO:+0100
TZNAME:CET
DTSTART:20251026T010000
END:STANDARD
BEGIN:DAYLIGHT
TZOFFSETFROM:+0100
TZOFFSETTO:+0200
TZNAME:CEST
DTSTART:20260329T010000
END:DAYLIGHT
BEGIN:STANDARD
TZOFFSETFROM:+0200
TZOFFSETTO:+0100
TZNAME:CET
DTSTART:20261025T010000
END:STANDARD
BEGIN:DAYLIGHT
TZOFFSETFROM:+0100
TZOFFSETTO:+0200
TZNAME:CEST
DTSTART:20270328T010000
END:DAYLIGHT
BEGIN:STANDARD
TZOFFSETFROM:+0200
TZOFFSETTO:+0100
TZNAME:CET
DTSTART:20271031T010000
END:STANDARD
END:VTIMEZONE
BEGIN:VEVENT
DTSTART;TZID=Europe/Prague:20260516T190000
DTEND;TZID=Europe/Prague:20260516T220000
DTSTAMP:20260419T143225
CREATED:20260206T105954Z
LAST-MODIFIED:20260206T105954Z
UID:17369-1778958000-1778968800@dnesnivylet.cz
SUMMARY:Před Oponou - Jiří Ployhar\, Bohumil Klepl a Petr Uchytil
DESCRIPTION:Před Oponou – Jiří Ployhar\, Bohumil Klepl a Petr Uchytil se uskuteční dne 2026-05-16 v 19:00 v Ostrava\, Skelet Kafe. \n🎟️ Koupit vstupenku \n\nPŘED OPONOU – Jiří Ployhar\, Bohumil Klepl & moderátor Petr UchytilSobota 16. 5. 2026 od 19:00Skelet Kafe\, Ostrava \nDo Skelet Kafe míří zábavný talkshow pořad PŘED OPONOU\, který vás vtáhne do zákulisí divadelního i filmového světa tak\, jak ho běžně nezažijete – s humorem\, nadsázkou a naprostou otevřeností. \nJiří PloyharHerec a výrazná tvář pořadů televize Stream. Proslavil se svým nenapodobitelným stylem vyprávění\, svižným tempem a schopností udělat z každé situace zábavnou historku. Jeho pohled na herecké řemeslo i život „před oponou“ i „za ní“ je vždy originální a nečekaný. \nBohumil Klepl (Bob Klepl)Oblíbený český herec známý z filmů\, seriálů a divadelních jevišť. Jeho humor je osobitý\, upřímný a často až odzbrojující. Klepl je mistrem spontánních reakcí\, improvizace a příběhů\, které umí podat tak\, že publikum nezůstane v klidu ani minutu. O zákulisí natáčení toho ví víc než dost – a nebude si brát servítky. \nModerátor: Petr UchytilZkušený moderátor a průvodce večerem\, který drží tempo\, dává hostům prostor\, ale zároveň umí šikovně „šťouchnout“ do témat\, která jinde nezazní. Jeho styl je přirozený\, svižný a diváky okamžitě vtáhne do dění. \nCo vás čeká? \n    •    příběhy a zákulisní zážitky z herecké praxe \n    •    témata\, která by možná neměla nikdy opustit divadelní šatnu \n    •    humor bez zábran\, nadsázka a spontánnost \n    •    možná i zpěv… a to si nechcete nechat ujít \nSkelet Kafe zajistí perfektní atmosféru – můžete si dát skvělou kávu\, vychutnat si originální drinky i luxusní dezerty\, které doladí celý večer do posledního detailu. \nParkování – bez stresu \nNávštěvníci se nemusejí bát\, kde zaparkují.Ke každé akci přikládáme přehledný odkaz s instrukcemi k parkování\, kde přesně najdete nejbližší a doporučené parkovací místa v okolí Skelet Kafe. \nhttps://www.skeletkafe.cz/parkovani \nPřijďte zažít show\, u které se budete bavit od začátku do konce.Těšíme se na vás! \n\nTento tip na kulturní akci v Ostrava najdete v přehledu na Dnesnivylet.cz spolu s dalšími koncerty\, festivaly a divadelními představeními.Každý si vybere co se mu líbí. Nezapomeňte koupit vstupenky včas\, stačí kliknout a budete přesměrování na oficiálního prodejce vstupenek.
URL:https://dnesnivylet.cz/event/pred-oponou-jiri-ployhar-bohumil-klepl-a-petr-uchytil/
LOCATION:Skelet Kafe\, Ostrava\, Skelet Kafe\, Ostrava\, Česká republika
CATEGORIES:Zábava
ATTACH;FMTTYPE=image/jpeg:https://dnesnivylet.cz/wp-content/uploads/2026/02/320-146202958db740d6b4058cd8f75f0611.jpg
END:VEVENT
END:VCALENDAR