BEGIN:VCALENDAR
VERSION:2.0
PRODID:-//www.dnesnivylet.cz                                                                                                                        Tip na výlet pro celou rodinu. - ECPv6.15.13.1//NONSGML v1.0//EN
CALSCALE:GREGORIAN
METHOD:PUBLISH
X-ORIGINAL-URL:https://dnesnivylet.cz
X-WR-CALDESC:Akce na www.dnesnivylet.cz                                                                                                                        Tip na výlet pro celou rodinu.
REFRESH-INTERVAL;VALUE=DURATION:PT1H
X-Robots-Tag:noindex
X-PUBLISHED-TTL:PT1H
BEGIN:VTIMEZONE
TZID:Europe/Prague
BEGIN:DAYLIGHT
TZOFFSETFROM:+0100
TZOFFSETTO:+0200
TZNAME:CEST
DTSTART:20250330T010000
END:DAYLIGHT
BEGIN:STANDARD
TZOFFSETFROM:+0200
TZOFFSETTO:+0100
TZNAME:CET
DTSTART:20251026T010000
END:STANDARD
BEGIN:DAYLIGHT
TZOFFSETFROM:+0100
TZOFFSETTO:+0200
TZNAME:CEST
DTSTART:20260329T010000
END:DAYLIGHT
BEGIN:STANDARD
TZOFFSETFROM:+0200
TZOFFSETTO:+0100
TZNAME:CET
DTSTART:20261025T010000
END:STANDARD
BEGIN:DAYLIGHT
TZOFFSETFROM:+0100
TZOFFSETTO:+0200
TZNAME:CEST
DTSTART:20270328T010000
END:DAYLIGHT
BEGIN:STANDARD
TZOFFSETFROM:+0200
TZOFFSETTO:+0100
TZNAME:CET
DTSTART:20271031T010000
END:STANDARD
END:VTIMEZONE
BEGIN:VEVENT
DTSTART;TZID=Europe/Prague:20260505T190000
DTEND;TZID=Europe/Prague:20260505T220000
DTSTAMP:20260419T131253
CREATED:20251027T092040Z
LAST-MODIFIED:20251027T092041Z
UID:10304-1778007600-1778018400@dnesnivylet.cz
SUMMARY:Muzikály Josefa Vojtka v Ústí nad Labem
DESCRIPTION:Muzikály Josefa Vojtka v Ústí nad Labem se uskuteční dne 2026-05-05 v 19:00 v Ústí nad Labem\, Dům kultury. \n🎟️ Koupit vstupenku \n\n  \n„MUZIKÁLY JOSEFA VOJTKA – Tak trochu rockově“ \nNenechte si ujít jedinečnou možnost zažít vystoupení jednoho z nejvýraznějších hlasů české rockové a muzikálové scény. Za doprovodu známé kapely Charlie Band zazní  písně z muzikálů ve kterých Josef Vojtek účinkoval. Tři Mušketýři\, Angelika\, Kleopatra\, Hamlet\, Dracula\, a mnoho dalších. Připravte se na velkolepý zážitek\, kde se srdce rockera potká s vášní pro muzikály.  \n\nTento tip na kulturní akci v Ústí nad Labem najdete v přehledu na Dnesnivylet.cz spolu s dalšími koncerty\, festivaly a divadelními představeními.Každý si vybere co se mu líbí. Nezapomeňte koupit vstupenky včas\, stačí kliknout a budete přesměrování na oficiálního prodejce vstupenek.
URL:https://dnesnivylet.cz/event/muzikaly-josefa-vojtka-v-usti-nad-labem/
LOCATION:Dům kultury\, Ústí nad Labem\, Dům kultury\, Ústí nad Labem\, Česká republika
CATEGORIES:Koncert
ATTACH;FMTTYPE=image/jpeg:https://dnesnivylet.cz/wp-content/uploads/2025/10/320-11a80badaefa47a98043ec2217f4fe96.jpg
END:VEVENT
BEGIN:VEVENT
DTSTART;TZID=Europe/Prague:20260507T190000
DTEND;TZID=Europe/Prague:20260507T220000
DTSTAMP:20260419T131253
CREATED:20251027T090823Z
LAST-MODIFIED:20251027T090823Z
UID:10298-1778180400-1778191200@dnesnivylet.cz
SUMMARY:Muzikály Josefa Vojtka v Kolíně
DESCRIPTION:Muzikály Josefa Vojtka v Kolíně se uskuteční dne 2026-05-07 v 19:00 v Kolín\, MSD. \n🎟️ Koupit vstupenku \n\nPro velký zájem jsme přidali další termín v Kolíně! \n  \n„MUZIKÁLY JOSEFA VOJTKA – Tak trochu rockově“ \nNenechte si ujít jedinečnou možnost zažít vystoupení jednoho z nejvýraznějších hlasů české rockové a muzikálové scény. Za doprovodu známé kapely Charlie Band zazní  písně z muzikálů ve kterých Josef Vojtek účinkoval. Tři Mušketýři\, Angelika\, Kleopatra\, Hamlet\, Dracula\, a mnoho dalších. Připravte se na velkolepý zážitek\, kde se srdce rockera potká s vášní pro muzikály.  \n\nTento tip na kulturní akci v Kolín najdete v přehledu na Dnesnivylet.cz spolu s dalšími koncerty\, festivaly a divadelními představeními.Každý si vybere co se mu líbí. Nezapomeňte koupit vstupenky včas\, stačí kliknout a budete přesměrování na oficiálního prodejce vstupenek.
URL:https://dnesnivylet.cz/event/muzikaly-josefa-vojtka-v-koline/
LOCATION:MSD\, Kolín\, MSD\, Kolín\, Česká republika
CATEGORIES:Koncert
ATTACH;FMTTYPE=image/jpeg:https://dnesnivylet.cz/wp-content/uploads/2025/10/320-e94dfda5871c4ab98763ca546e8fd353.jpg
END:VEVENT
BEGIN:VEVENT
DTSTART;TZID=Europe/Prague:20260511T190000
DTEND;TZID=Europe/Prague:20260511T220000
DTSTAMP:20260419T131253
CREATED:20251031T081150Z
LAST-MODIFIED:20251031T081150Z
UID:10763-1778526000-1778536800@dnesnivylet.cz
SUMMARY:Muzikály Josefa Vojtka v Táboře
DESCRIPTION:Muzikály Josefa Vojtka v Táboře se uskuteční dne 2026-05-11 v 19:00 v Tábor\, Hotel Palcát. \n🎟️ Koupit vstupenku \n\nPro velký zájem jsme přidali další termín v Táboře! \n  \n„MUZIKÁLY JOSEFA VOJTKA – Tak trochu rockově“ \nNenechte si ujít jedinečnou možnost zažít vystoupení jednoho z nejvýraznějších hlasů české rockové a muzikálové scény. Za doprovodu známé kapely Charlie Band zazní  písně z muzikálů ve kterých Josef Vojtek účinkoval. Tři Mušketýři\, Angelika\, Kleopatra\, Hamlet\, Dracula\, a mnoho dalších. Připravte se na velkolepý zážitek\, kde se srdce rockera potká s vášní pro muzikály.  \n\nTento tip na kulturní akci v Tábor najdete v přehledu na Dnesnivylet.cz spolu s dalšími koncerty\, festivaly a divadelními představeními.Každý si vybere co se mu líbí. Nezapomeňte koupit vstupenky včas\, stačí kliknout a budete přesměrování na oficiálního prodejce vstupenek.
URL:https://dnesnivylet.cz/event/muzikaly-josefa-vojtka-v-tabore/
LOCATION:Hotel Palcát\, Tábor\, Hotel Palcát\, Tábor\, Česká republika
CATEGORIES:Koncert
ATTACH;FMTTYPE=image/jpeg:https://dnesnivylet.cz/wp-content/uploads/2025/10/320-04b4a0ae9773476497b8503333a693c6.jpg
END:VEVENT
BEGIN:VEVENT
DTSTART;TZID=Europe/Prague:20260513T190000
DTEND;TZID=Europe/Prague:20260513T220000
DTSTAMP:20260419T131253
CREATED:20260124T170118Z
LAST-MODIFIED:20260124T170118Z
UID:17099-1778698800-1778709600@dnesnivylet.cz
SUMMARY:Muzikály Josefa Vojtka ve Valašských Kloboukách
DESCRIPTION:Muzikály Josefa Vojtka ve Valašských Kloboukách se uskuteční dne 2026-05-13 v 19:00 v Valašské Klobouky\, KD Klobučan. \n🎟️ Koupit vstupenku \n\n „MUZIKÁLY JOSEFA VOJTKA – Tak trochu rockově“ \nNenechte si ujít jedinečnou možnost zažít vystoupení jednoho z nejvýraznějších hlasů české rockové a muzikálové scény. Za doprovodu známé kapely Charlie Band zazní  písně z muzikálů ve kterých Josef Vojtek účinkoval. Tři Mušketýři\, Angelika\, Kleopatra\, Hamlet\, Dracula\, a mnoho dalších. Připravte se na velkolepý zážitek\, kde se srdce rockera potká s vášní pro muzikály.  \n  \nVystupující \nJosef Vojtek (CZ) – web \n\nTento tip na kulturní akci v Valašské Klobouky najdete v přehledu na Dnesnivylet.cz spolu s dalšími koncerty\, festivaly a divadelními představeními.Každý si vybere co se mu líbí. Nezapomeňte koupit vstupenky včas\, stačí kliknout a budete přesměrování na oficiálního prodejce vstupenek.
URL:https://dnesnivylet.cz/event/muzikaly-josefa-vojtka-ve-valasskych-kloboukach/
LOCATION:KD Klobučan\, Valašské Klobouky\, KD Klobučan\, Valašské Klobouky\, Česká republika
CATEGORIES:Koncert
ATTACH;FMTTYPE=image/jpeg:https://dnesnivylet.cz/wp-content/uploads/2026/01/320-48120abde66146e299553f2b5fdb013d.jpg
END:VEVENT
BEGIN:VEVENT
DTSTART;TZID=Europe/Prague:20260516T170000
DTEND;TZID=Europe/Prague:20260516T200000
DTSTAMP:20260419T131253
CREATED:20251129T065624Z
LAST-MODIFIED:20251129T065624Z
UID:14133-1778950800-1778961600@dnesnivylet.cz
SUMMARY:KNIHA DŽUNGLÍ I Mladá Boleslav
DESCRIPTION:KNIHA DŽUNGLÍ I Mladá Boleslav se uskuteční dne 2026-05-16 v 17:00 v Mladá Boleslav\, Dům Kultury Divadelní sál. \n🎟️ Koupit vstupenku \n\nMuzikál KNIHA DŽUNGLÍ – největší rodinný zážitek roku 2026! \nOd ledna 2026 přichází do 55 měst po celé České republice překvapení pro celou rodinu! Novinka od producentů rodinných muzikálů\, jako je Popelka\, Alenka v říši divů či Vánoční loupež. \nČeká vás příběh plný emocí\, hudby\, smíchu i napětí – a to přímo ve vašem městě! \nSeznámíte se s odvážným Mauglím\, moudrým vlčím vůdcem Akélou\, ušlechtilým a statečným panterem Baghírou\, rozverným medvědem Balúem\, jehož kostým je jediný svého druhu v Evropě! Velkolepý dojem zanechá také obrovský král opic – gorila Ludvík v unikátním kostýmu. \nObrovským lákadlem je jedinečný kostým Hada KAA\, jaký jste ještě nikdy neviděli! \nO napětí se postará nelítostný tygr Šerchán\, jeho komicko-zákeřný společník hyena Tabaki\, a atmosféru odlehčí i vtipný a upovídaný papoušek a další známá zvířata. \n Spolu s projekcemi a dechberoucími vizuálními efekty se ocitnete přímo uprostřed kouzelné džungle. \nDěti se stanou součástí představení – pomohou Mauglímu zahnat Šerchána nebo najít med pro medvěda Balů\,  a společně s herci dotvářet kouzelný příběh. \nInteraktivní část vás vtáhne do děje – zvířata z džungle se objeví nejen na jevišti\, ale i mezi dětmi v hledišti\, aby si každý mohl zažít pocit\, že je součástí příběhu. \nSpeciální bonus: Každé dítě dostane ke vstupence zvířecí masku dle vlastního výběru.A po představení čeká malé diváky jedinečná možnost vyfotit se přímo na jevišti s herci v kostýmech! \n  \nTip na vánoční dárek!Darujte svým dětem a celé rodině nezapomenutelný zážitek – vstupenky na muzikál\, o kterém se bude mluvit ještě dlouho. \nToto není jen muzikál. Je to největší zážitek u vás doma\, ve vašem městě! \nPředprodej vstupenek spuštěn právě teď – kapacita je omezená.Kupte si vstupenky v síti smsticket a buďte u muzikálové události roku 2026! \n\nTento tip na kulturní akci v Mladá Boleslav najdete v přehledu na Dnesnivylet.cz spolu s dalšími koncerty\, festivaly a divadelními představeními.Každý si vybere co se mu líbí. Nezapomeňte koupit vstupenky včas\, stačí kliknout a budete přesměrování na oficiálního prodejce vstupenek.
URL:https://dnesnivylet.cz/event/kniha-dzungli-i-mlada-boleslav/
LOCATION:Dům Kultury Divadelní sál\, Mladá Boleslav\, Dům Kultury Divadelní sál\, Mladá Boleslav\, Česká republika
CATEGORIES:Divadlo
ATTACH;FMTTYPE=image/jpeg:https://dnesnivylet.cz/wp-content/uploads/2025/11/320-4f8eaf74860d4615bc19daa4d55d4112.jpg
END:VEVENT
BEGIN:VEVENT
DTSTART;TZID=Europe/Prague:20260518T190000
DTEND;TZID=Europe/Prague:20260518T220000
DTSTAMP:20260419T131253
CREATED:20251027T092041Z
LAST-MODIFIED:20251027T092041Z
UID:10307-1779130800-1779141600@dnesnivylet.cz
SUMMARY:Muzikály Josefa Vojtka ve Žďáru nad Sázavou
DESCRIPTION:Muzikály Josefa Vojtka ve Žďáru nad Sázavou se uskuteční dne 2026-05-18 v 19:00 v Žďár nad Sázavou\, Dům Kultury. \n🎟️ Koupit vstupenku \n\nPro velký zájem jsme přidali další termín ve Žďáru nad Sázavou! \n  \n„MUZIKÁLY JOSEFA VOJTKA – Tak trochu rockově“ \nNenechte si ujít jedinečnou možnost zažít vystoupení jednoho z nejvýraznějších hlasů české rockové a muzikálové scény. Za doprovodu známé kapely Charlie Band zazní  písně z muzikálů ve kterých Josef Vojtek účinkoval. Tři Mušketýři\, Angelika\, Kleopatra\, Hamlet\, Dracula\, a mnoho dalších. Připravte se na velkolepý zážitek\, kde se srdce rockera potká s vášní pro muzikály.  \n\nTento tip na kulturní akci v Žďár nad Sázavou najdete v přehledu na Dnesnivylet.cz spolu s dalšími koncerty\, festivaly a divadelními představeními.Každý si vybere co se mu líbí. Nezapomeňte koupit vstupenky včas\, stačí kliknout a budete přesměrování na oficiálního prodejce vstupenek.
URL:https://dnesnivylet.cz/event/muzikaly-josefa-vojtka-ve-zdaru-nad-sazavou/
LOCATION:Dům Kultury\, Žďár nad Sázavou\, Dům Kultury\, Žďár nad Sázavou\, Česká republika
CATEGORIES:Koncert
ATTACH;FMTTYPE=image/jpeg:https://dnesnivylet.cz/wp-content/uploads/2025/10/320-8b8a19fdb43445d6b2f6be8a794de51f.jpg
END:VEVENT
BEGIN:VEVENT
DTSTART;TZID=Europe/Prague:20260520T190000
DTEND;TZID=Europe/Prague:20260520T220000
DTSTAMP:20260419T131253
CREATED:20251027T090805Z
LAST-MODIFIED:20251027T090805Z
UID:10282-1779303600-1779314400@dnesnivylet.cz
SUMMARY:Muzikály Josefa Vojtka ve Zlíně
DESCRIPTION:Muzikály Josefa Vojtka ve Zlíně se uskuteční dne 2026-05-20 v 19:00 v Zlín\, Kongresové centrum. \n🎟️ Koupit vstupenku \n\nPro velký zájem jsme přidali další termín ve Zlíně! \n„MUZIKÁLY JOSEFA VOJTKA – Tak trochu rockově“ \nNenechte si ujít jedinečnou možnost zažít vystoupení jednoho z nejvýraznějších hlasů české rockové a muzikálové scény. Za doprovodu známé kapely Charlie Band zazní  písně z muzikálů ve kterých Josef Vojtek účinkoval. Tři Mušketýři\, Angelika\, Kleopatra\, Hamlet\, Dracula\, a mnoho dalších. Připravte se na velkolepý zážitek\, kde se srdce rockera potká s vášní pro muzikály.  \n\nTento tip na kulturní akci v Zlín najdete v přehledu na Dnesnivylet.cz spolu s dalšími koncerty\, festivaly a divadelními představeními.Každý si vybere co se mu líbí. Nezapomeňte koupit vstupenky včas\, stačí kliknout a budete přesměrování na oficiálního prodejce vstupenek.
URL:https://dnesnivylet.cz/event/muzikaly-josefa-vojtka-ve-zline/
LOCATION:Kongresové centrum\, Zlín\, Kongresové centrum\, Zlín\, Česká republika
CATEGORIES:Koncert
ATTACH;FMTTYPE=image/jpeg:https://dnesnivylet.cz/wp-content/uploads/2025/10/320-067a31b1845f42a58c12c6e57bf98a47.jpg
END:VEVENT
BEGIN:VEVENT
DTSTART;TZID=Europe/Prague:20260523T140000
DTEND;TZID=Europe/Prague:20260523T170000
DTSTAMP:20260419T131253
CREATED:20251215T162037Z
LAST-MODIFIED:20251215T162037Z
UID:15664-1779544800-1779555600@dnesnivylet.cz
SUMMARY:KNIHA DŽUNGLÍ I Brno
DESCRIPTION:KNIHA DŽUNGLÍ I Brno se uskuteční dne 2026-05-23 v 14:00 v Brno\, KC Semilasso. \n🎟️ Koupit vstupenku \n\nMuzikál KNIHA DŽUNGLÍ – největší rodinný zážitek roku 2026! \nOd ledna 2026 přichází do 55 měst po celé České republice překvapení pro celou rodinu! Novinka od producentů rodinných muzikálů\, jako je Popelka\, Alenka v říši divů či Vánoční loupež. \nČeká vás příběh plný emocí\, hudby\, smíchu i napětí – a to přímo ve vašem městě! \nSeznámíte se s odvážným Mauglím\, moudrým vlčím vůdcem Akélou\, ušlechtilým a statečným panterem Baghírou\, rozverným medvědem Balúem\, jehož kostým je jediný svého druhu v Evropě! Velkolepý dojem zanechá také obrovský král opic – gorila Ludvík v unikátním kostýmu. \nObrovským lákadlem je jedinečný kostým Hada KAA\, jaký jste ještě nikdy neviděli! \nO napětí se postará nelítostný tygr Šerchán\, jeho komicko-zákeřný společník hyena Tabaki\, a atmosféru odlehčí i vtipný a upovídaný papoušek a další známá zvířata. \n Spolu s projekcemi a dechberoucími vizuálními efekty se ocitnete přímo uprostřed kouzelné džungle. \nDěti se stanou součástí představení – pomohou Mauglímu zahnat Šerchána nebo najít med pro medvěda Balů\,  a společně s herci dotvářet kouzelný příběh. \nInteraktivní část vás vtáhne do děje – zvířata z džungle se objeví nejen na jevišti\, ale i mezi dětmi v hledišti\, aby si každý mohl zažít pocit\, že je součástí příběhu. \nSpeciální bonus: Každé dítě dostane ke vstupence zvířecí masku dle vlastního výběru.A po představení čeká malé diváky jedinečná možnost vyfotit se přímo na jevišti s herci v kostýmech! \n  \nTip na vánoční dárek!Darujte svým dětem a celé rodině nezapomenutelný zážitek – vstupenky na muzikál\, o kterém se bude mluvit ještě dlouho. \nToto není jen muzikál. Je to největší zážitek u vás doma\, ve vašem městě! \nPředprodej vstupenek spuštěn právě teď – kapacita je omezená.Kupte si vstupenky v síti smsticket a buďte u muzikálové události roku 2026! \n\nTento tip na kulturní akci v Brno najdete v přehledu na Dnesnivylet.cz spolu s dalšími koncerty\, festivaly a divadelními představeními.Každý si vybere co se mu líbí. Nezapomeňte koupit vstupenky včas\, stačí kliknout a budete přesměrování na oficiálního prodejce vstupenek.
URL:https://dnesnivylet.cz/event/kniha-dzungli-i-brno-2/
LOCATION:KC Semilasso\, Brno\, KC Semilasso\, Brno\, Česká republika
CATEGORIES:Divadlo
ATTACH;FMTTYPE=image/jpeg:https://dnesnivylet.cz/wp-content/uploads/2025/12/320-00ea7b1c5453423e968631cd1243f6cf.jpg
END:VEVENT
BEGIN:VEVENT
DTSTART;TZID=Europe/Prague:20260523T170000
DTEND;TZID=Europe/Prague:20260523T200000
DTSTAMP:20260419T131253
CREATED:20251215T162036Z
LAST-MODIFIED:20251215T162037Z
UID:15661-1779555600-1779566400@dnesnivylet.cz
SUMMARY:KNIHA DŽUNGLÍ I Brno
DESCRIPTION:KNIHA DŽUNGLÍ I Brno se uskuteční dne 2026-05-23 v 17:00 v Brno\, KC Semilasso. \n🎟️ Koupit vstupenku \n\nMuzikál KNIHA DŽUNGLÍ – největší rodinný zážitek roku 2026! \nOd ledna 2026 přichází do 55 měst po celé České republice překvapení pro celou rodinu! Novinka od producentů rodinných muzikálů\, jako je Popelka\, Alenka v říši divů či Vánoční loupež. \nČeká vás příběh plný emocí\, hudby\, smíchu i napětí – a to přímo ve vašem městě! \nSeznámíte se s odvážným Mauglím\, moudrým vlčím vůdcem Akélou\, ušlechtilým a statečným panterem Baghírou\, rozverným medvědem Balúem\, jehož kostým je jediný svého druhu v Evropě! Velkolepý dojem zanechá také obrovský král opic – gorila Ludvík v unikátním kostýmu. \nObrovským lákadlem je jedinečný kostým Hada KAA\, jaký jste ještě nikdy neviděli! \nO napětí se postará nelítostný tygr Šerchán\, jeho komicko-zákeřný společník hyena Tabaki\, a atmosféru odlehčí i vtipný a upovídaný papoušek a další známá zvířata. \n Spolu s projekcemi a dechberoucími vizuálními efekty se ocitnete přímo uprostřed kouzelné džungle. \nDěti se stanou součástí představení – pomohou Mauglímu zahnat Šerchána nebo najít med pro medvěda Balů\,  a společně s herci dotvářet kouzelný příběh. \nInteraktivní část vás vtáhne do děje – zvířata z džungle se objeví nejen na jevišti\, ale i mezi dětmi v hledišti\, aby si každý mohl zažít pocit\, že je součástí příběhu. \nSpeciální bonus: Každé dítě dostane ke vstupence zvířecí masku dle vlastního výběru.A po představení čeká malé diváky jedinečná možnost vyfotit se přímo na jevišti s herci v kostýmech! \n  \nTip na vánoční dárek!Darujte svým dětem a celé rodině nezapomenutelný zážitek – vstupenky na muzikál\, o kterém se bude mluvit ještě dlouho. \nToto není jen muzikál. Je to největší zážitek u vás doma\, ve vašem městě! \nPředprodej vstupenek spuštěn právě teď – kapacita je omezená.Kupte si vstupenky v síti smsticket a buďte u muzikálové události roku 2026! \n\nTento tip na kulturní akci v Brno najdete v přehledu na Dnesnivylet.cz spolu s dalšími koncerty\, festivaly a divadelními představeními.Každý si vybere co se mu líbí. Nezapomeňte koupit vstupenky včas\, stačí kliknout a budete přesměrování na oficiálního prodejce vstupenek.
URL:https://dnesnivylet.cz/event/kniha-dzungli-i-brno/
LOCATION:KC Semilasso\, Brno\, KC Semilasso\, Brno\, Česká republika
CATEGORIES:Divadlo
ATTACH;FMTTYPE=image/jpeg:https://dnesnivylet.cz/wp-content/uploads/2025/12/320-fa6a98374653424f8046cdf886d76db8.jpg
END:VEVENT
BEGIN:VEVENT
DTSTART;TZID=Europe/Prague:20260525T190000
DTEND;TZID=Europe/Prague:20260525T220000
DTSTAMP:20260419T131253
CREATED:20251027T090821Z
LAST-MODIFIED:20251027T090821Z
UID:10285-1779735600-1779746400@dnesnivylet.cz
SUMMARY:Muzikály Josefa Vojtka v Pardubicích
DESCRIPTION:Muzikály Josefa Vojtka v Pardubicích se uskuteční dne 2026-05-25 v 19:00 v Pardubice\, IDEON. \n🎟️ Koupit vstupenku \n\nPro velký zájem jsme přidali další termín ve Pardubicích! \n„MUZIKÁLY JOSEFA VOJTKA – Tak trochu rockově“ \nNenechte si ujít jedinečnou možnost zažít vystoupení jednoho z nejvýraznějších hlasů české rockové a muzikálové scény. Za doprovodu známé kapely Charlie Band zazní  písně z muzikálů ve kterých Josef Vojtek učinkoval. Tři Mušketýři\, Angelika\, Kleopatra\, Hamlet\, Dracula\, a mnoho dalších. Připravte se na velkolepý zážitek\, kde se srdce rockera potká s vášní pro muzikály.  \n\nTento tip na kulturní akci v Pardubice najdete v přehledu na Dnesnivylet.cz spolu s dalšími koncerty\, festivaly a divadelními představeními.Každý si vybere co se mu líbí. Nezapomeňte koupit vstupenky včas\, stačí kliknout a budete přesměrování na oficiálního prodejce vstupenek.
URL:https://dnesnivylet.cz/event/muzikaly-josefa-vojtka-v-pardubicich/
LOCATION:IDEON\, Pardubice\, IDEON\, Pardubice\, Česká republika
CATEGORIES:Koncert
ATTACH;FMTTYPE=image/jpeg:https://dnesnivylet.cz/wp-content/uploads/2025/10/320-f2c0b18f0908487aa430e65300c32e92.jpg
END:VEVENT
BEGIN:VEVENT
DTSTART;TZID=Europe/Prague:20260527T190000
DTEND;TZID=Europe/Prague:20260527T220000
DTSTAMP:20260419T131253
CREATED:20251027T090805Z
LAST-MODIFIED:20251027T090805Z
UID:10278-1779908400-1779919200@dnesnivylet.cz
SUMMARY:Muzikály Josefa Vojtka ve Vsetíně
DESCRIPTION:Muzikály Josefa Vojtka ve Vsetíně se uskuteční dne 2026-05-27 v 19:00 v Vsetín\, Dům Kultury. \n🎟️ Koupit vstupenku \n\nPro velký zájem jsme přidali další termín ve Vsetíně! \n  \n„MUZIKÁLY JOSEFA VOJTKA – Tak trochu rockově“ \nNenechte si ujít jedinečnou možnost zažít vystoupení jednoho z nejvýraznějších hlasů české rockové a muzikálové scény. Za doprovodu známé kapely Charlie Band zazní  písně z muzikálů ve kterých Josef Vojtek účinkoval. Tři Mušketýři\, Angelika\, Kleopatra\, Hamlet\, Dracula\, a mnoho dalších. Připravte se na velkolepý zážitek\, kde se srdce rockera potká s vášní pro muzikály.  \n\nTento tip na kulturní akci v Vsetín najdete v přehledu na Dnesnivylet.cz spolu s dalšími koncerty\, festivaly a divadelními představeními.Každý si vybere co se mu líbí. Nezapomeňte koupit vstupenky včas\, stačí kliknout a budete přesměrování na oficiálního prodejce vstupenek.
URL:https://dnesnivylet.cz/event/muzikaly-josefa-vojtka-ve-vsetine/
LOCATION:Dům Kultury\, Vsetín\, Dům Kultury\, Vsetín\, Česká republika
CATEGORIES:Koncert
ATTACH;FMTTYPE=image/jpeg:https://dnesnivylet.cz/wp-content/uploads/2025/10/320-edc13e6617a84727adb47b7dea533d74.jpg
END:VEVENT
BEGIN:VEVENT
DTSTART;TZID=Europe/Prague:20260529T190000
DTEND;TZID=Europe/Prague:20260529T220000
DTSTAMP:20260419T131253
CREATED:20260208T144909Z
LAST-MODIFIED:20260208T144909Z
UID:17675-1780081200-1780092000@dnesnivylet.cz
SUMMARY:Muzikály Josefa Vojtka v Rakovníku
DESCRIPTION:Muzikály Josefa Vojtka v Rakovníku se uskuteční dne 2026-05-29 v 19:00 v Rakovník\, Kulturní Centrum. \n🎟️ Koupit vstupenku \n\n „MUZIKÁLY JOSEFA VOJTKA – Tak trochu rockově“ \nNenechte si ujít jedinečnou možnost zažít vystoupení jednoho z nejvýraznějších hlasů české rockové a muzikálové scény. Za doprovodu známé kapely Charlie Band zazní  písně z muzikálů ve kterých Josef Vojtek učinkoval. Tři Mušketýři\, Angelika\, Kleopatra\, Hamlet\, Dracula\, a mnoho dalších. Připravte se na velkolepý zážitek\, kde se srdce rockera potká s vášní pro muzikály.  \n\nTento tip na kulturní akci v Rakovník najdete v přehledu na Dnesnivylet.cz spolu s dalšími koncerty\, festivaly a divadelními představeními.Každý si vybere co se mu líbí. Nezapomeňte koupit vstupenky včas\, stačí kliknout a budete přesměrování na oficiálního prodejce vstupenek.
URL:https://dnesnivylet.cz/event/muzikaly-josefa-vojtka-v-rakovniku/
LOCATION:Kulturní Centrum\, Rakovník\, Kulturní Centrum\, Rakovník\, Česká republika
CATEGORIES:Koncert
ATTACH;FMTTYPE=image/jpeg:https://dnesnivylet.cz/wp-content/uploads/2026/02/320-81580894bee74f2bb5e208011950285f.jpg
END:VEVENT
END:VCALENDAR