BEGIN:VCALENDAR
VERSION:2.0
PRODID:-//www.dnesnivylet.cz                                                                                                                        Tip na výlet pro celou rodinu. - ECPv6.15.13.1//NONSGML v1.0//EN
CALSCALE:GREGORIAN
METHOD:PUBLISH
X-ORIGINAL-URL:https://dnesnivylet.cz
X-WR-CALDESC:Akce na www.dnesnivylet.cz                                                                                                                        Tip na výlet pro celou rodinu.
REFRESH-INTERVAL;VALUE=DURATION:PT1H
X-Robots-Tag:noindex
X-PUBLISHED-TTL:PT1H
BEGIN:VTIMEZONE
TZID:Europe/Prague
BEGIN:DAYLIGHT
TZOFFSETFROM:+0100
TZOFFSETTO:+0200
TZNAME:CEST
DTSTART:20250330T010000
END:DAYLIGHT
BEGIN:STANDARD
TZOFFSETFROM:+0200
TZOFFSETTO:+0100
TZNAME:CET
DTSTART:20251026T010000
END:STANDARD
BEGIN:DAYLIGHT
TZOFFSETFROM:+0100
TZOFFSETTO:+0200
TZNAME:CEST
DTSTART:20260329T010000
END:DAYLIGHT
BEGIN:STANDARD
TZOFFSETFROM:+0200
TZOFFSETTO:+0100
TZNAME:CET
DTSTART:20261025T010000
END:STANDARD
BEGIN:DAYLIGHT
TZOFFSETFROM:+0100
TZOFFSETTO:+0200
TZNAME:CEST
DTSTART:20270328T010000
END:DAYLIGHT
BEGIN:STANDARD
TZOFFSETFROM:+0200
TZOFFSETTO:+0100
TZNAME:CET
DTSTART:20271031T010000
END:STANDARD
END:VTIMEZONE
BEGIN:VEVENT
DTSTART;TZID=Europe/Prague:20261128T190000
DTEND;TZID=Europe/Prague:20261128T220000
DTSTAMP:20260419T225418
CREATED:20260405T131418Z
LAST-MODIFIED:20260405T131419Z
UID:20367-1795892400-1795903200@dnesnivylet.cz
SUMMARY:Muzikály Naruby | Ostrava
DESCRIPTION:Muzikály Naruby | Ostrava se uskuteční dne 2026-11-28 v 19:00 v Ostrava\, Multifunkční aula Gong. \n🎟️ Koupit vstupenku \n\nMUZIKÁLY NARUBY – Josef Vágner & Petr Ryšavý & Jan KopečnýKoncertní zábavná show naplněná těmi největšími hity z českých i světových muzikálů. \nMuzikály Naruby\, to je koncert živé kapely\, která hraje známe hity tak\, jak je ještě nikdy nikdo neslyšel. Přední čeští zpěváci a muzikáloví herci Josef Vágner\, Jan Kopečný a Petr Ryšavý zpívají hity nejen z tradičních muzikálů jako jsou Bídníci\, Kleopatra\, Angelika\, Tři mušketýři\, ale také z českých hit-muzikálů. \nV programu tak zní ty největší hity Waldemara Matušky\, Václava Neckáře\, kapely Lucie\, Janka Ledeckého\, Karla Gotta\, Michala Davida\, Heleny Vondráčkové\, Lucie Bílé a dalších. \nKoncert je prokládán vtipnými historkami ze zákulisí divadla a české hudební scény. Muzikály Naruby tradičně do posledního místa vyprodávají divadelní sály po celé ČR. A nesmíme zapomenout ani na jejich vyprodanou pražskou Lucernu. \nÚčinkujíJosef VágnerPetr RyšavýJan Kopečný…v doprovodu živé kapely \n\nTento tip na kulturní akci v Ostrava najdete v přehledu na Dnesnivylet.cz spolu s dalšími koncerty\, festivaly a divadelními představeními.Každý si vybere co se mu líbí. Nezapomeňte koupit vstupenky včas\, stačí kliknout a budete přesměrování na oficiálního prodejce vstupenek.
URL:https://dnesnivylet.cz/event/muzikaly-naruby-ostrava/
LOCATION:Multifunkční aula Gong\, Ostrava\, Multifunkční aula Gong\, Ostrava\, Česká republika
CATEGORIES:Koncert
ATTACH;FMTTYPE=image/jpeg:https://dnesnivylet.cz/wp-content/uploads/2026/04/320-f63888608b524a31a32eb38f2b99ba07.jpg
END:VEVENT
END:VCALENDAR