BEGIN:VCALENDAR
VERSION:2.0
PRODID:-//www.dnesnivylet.cz                                                                                                                        Tip na výlet pro celou rodinu. - ECPv6.15.13.1//NONSGML v1.0//EN
CALSCALE:GREGORIAN
METHOD:PUBLISH
X-WR-CALNAME:www.dnesnivylet.cz                                                                                                                        Tip na výlet pro celou rodinu.
X-ORIGINAL-URL:https://dnesnivylet.cz
X-WR-CALDESC:Akce na www.dnesnivylet.cz                                                                                                                        Tip na výlet pro celou rodinu.
REFRESH-INTERVAL;VALUE=DURATION:PT1H
X-Robots-Tag:noindex
X-PUBLISHED-TTL:PT1H
BEGIN:VTIMEZONE
TZID:Europe/Prague
BEGIN:DAYLIGHT
TZOFFSETFROM:+0100
TZOFFSETTO:+0200
TZNAME:CEST
DTSTART:20240331T010000
END:DAYLIGHT
BEGIN:STANDARD
TZOFFSETFROM:+0200
TZOFFSETTO:+0100
TZNAME:CET
DTSTART:20241027T010000
END:STANDARD
BEGIN:DAYLIGHT
TZOFFSETFROM:+0100
TZOFFSETTO:+0200
TZNAME:CEST
DTSTART:20250330T010000
END:DAYLIGHT
BEGIN:STANDARD
TZOFFSETFROM:+0200
TZOFFSETTO:+0100
TZNAME:CET
DTSTART:20251026T010000
END:STANDARD
BEGIN:DAYLIGHT
TZOFFSETFROM:+0100
TZOFFSETTO:+0200
TZNAME:CEST
DTSTART:20260329T010000
END:DAYLIGHT
BEGIN:STANDARD
TZOFFSETFROM:+0200
TZOFFSETTO:+0100
TZNAME:CET
DTSTART:20261025T010000
END:STANDARD
END:VTIMEZONE
BEGIN:VEVENT
DTSTART;TZID=Europe/Prague:20251031T170000
DTEND;TZID=Europe/Prague:20251031T200000
DTSTAMP:20260420T033234
CREATED:20251020T073147Z
LAST-MODIFIED:20251020T073147Z
UID:8748-1761930000-1761940800@dnesnivylet.cz
SUMMARY:Alenka v říši divů I Žatec
DESCRIPTION:Alenka v říši divů I Žatec se uskuteční dne 2025-10-31 v 17:00 v Žatec\, Městské divadlo. \n🎟️ Koupit vstupenku \n\n✨Vezměte děti do světa\, kde realita ztrácí pevnou půdu pod nohama – do říše divů\, která ožije přímo před jejich očima! \n„Alenka v říši divů“ – interaktivní muzikál\, který přenese děti do světa fantazie\, kde se stěny hýbou\, stropy dýchají a housenky se plazí světelnými projekcemi po celém divadle. \n⏰Nečekejte obyčejné představení – čeká vás vizuální velkolepost\, která doslova vtáhne malé diváky přímo do příběhu! Kombinace špičkové datové projekce\, interaktivních scén\, světelných efektů a živé hudby promění divadlo v dechberoucí svět plný zázraků. \n🧒 Vaše děti nebudou jen sedět v hledišti – stanou se součástí děje: \n\n\npomohou Alence řešit tajemné hádanky\, \n\n\nzazpívají s ní kouzelné písničky\, \n\n\nzapojí se do pátrání po neviditelném kocourovi\, \n\n\na po představení se vyfotí přímo na jevišti se všemi postavami z říše divů! \n\n\n  \n🎭Tohle je zážitek\, na který se nezapomíná – tohle je jejich první opravdové dobrodružství v divadle. \nČeká vás říše\, kde se čaj pije o půlnoci\, králíci nosí hodinky\, kočky mluví a všechno dává smysl dětské fantazii. Příběh je hravě a srozumitelně upraven i pro nejmenší děti. \n  \nMuzikál od zkušených tvůrců inscenací Popelka a Vánoční loupež! \n\nTento tip na kulturní akci v Žatec najdete v přehledu na Dnesnivylet.cz spolu s dalšími koncerty\, festivaly a divadelními představeními.Každý si vybere co se mu líbí. Nezapomeňte koupit vstupenky včas\, stačí kliknout a budete přesměrování na oficiálního prodejce vstupenek.
URL:https://dnesnivylet.cz/event/alenka-v-risi-divu-i-zatec/
LOCATION:Městské divadlo\, Žatec\, Městské divadlo\, Žatec\, Česká republika
CATEGORIES:Divadlo
ATTACH;FMTTYPE=image/jpeg:https://dnesnivylet.cz/wp-content/uploads/2025/10/320-2e90527f3b44447ca84018c39cd4c873.jpg
END:VEVENT
BEGIN:VEVENT
DTSTART;TZID=Europe/Prague:20251030T190000
DTEND;TZID=Europe/Prague:20251030T220000
DTSTAMP:20260420T033234
CREATED:20251020T065127Z
LAST-MODIFIED:20251020T065128Z
UID:8255-1761850800-1761861600@dnesnivylet.cz
SUMMARY:Muzikály Josefa Vojtka v Příbrami
DESCRIPTION:Muzikály Josefa Vojtka v Příbrami se uskuteční dne 2025-10-30 v 19:00 v Příbram\, Divadlo A. Dvořáka. \n🎟️ Koupit vstupenku \n\nJosef Vojtek slaví 30 let na muzikálové scéně \na při této příležitosti oznamuje svou první sólovou tour s názvem \n „MUZIKÁLY JOSEFA VOJTKA – Tak trochu rockově“ \nNenechte si ujít jedinečnou možnost zažít vystoupení jednoho z nejvýraznějších hlasů české rockové a muzikálové scény. Za doprovodu známé kapely Charlie Band zazní  písně z muzikálů ve kterých Josef Vojtek učinkoval. Tři Mušketýři\, Angelika\, Kleopatra\, Hamlet\, Dracula\, a mnoho dalších. Připravte se na velkolepý zážitek\, kde se srdce rockera potká s vášní pro muzikály.  \n  \nVystupující \nJosef Vojtek (CZ) – web \n\nTento tip na kulturní akci v Příbram najdete v přehledu na Dnesnivylet.cz spolu s dalšími koncerty\, festivaly a divadelními představeními.Každý si vybere co se mu líbí. Nezapomeňte koupit vstupenky včas\, stačí kliknout a budete přesměrování na oficiálního prodejce vstupenek.
URL:https://dnesnivylet.cz/event/muzikaly-josefa-vojtka-v-pribrami/
LOCATION:Divadlo A. Dvořáka\, Příbram\, Divadlo A. Dvořáka\, Příbram\, Česká republika
CATEGORIES:Koncert
ATTACH;FMTTYPE=image/jpeg:https://dnesnivylet.cz/wp-content/uploads/2025/10/320-6bffe6e0404c4955b2e744f52a554e9f-1.jpg
END:VEVENT
BEGIN:VEVENT
DTSTART;TZID=Europe/Prague:20251030T170000
DTEND;TZID=Europe/Prague:20251030T200000
DTSTAMP:20260420T033234
CREATED:20251020T073130Z
LAST-MODIFIED:20251020T073131Z
UID:8727-1761843600-1761854400@dnesnivylet.cz
SUMMARY:Alenka v říši divů I Prostějov
DESCRIPTION:Alenka v říši divů I Prostějov se uskuteční dne 2025-10-30 v 17:00 v Prostějov\, Společenský dům. \n🎟️ Koupit vstupenku \n\n✨Vezměte děti do světa\, kde realita ztrácí pevnou půdu pod nohama – do říše divů\, která ožije přímo před jejich očima! \n„Alenka v říši divů“ – interaktivní muzikál\, který přenese děti do světa fantazie\, kde se stěny hýbou\, stropy dýchají a housenky se plazí světelnými projekcemi po celém divadle. \n⏰Nečekejte obyčejné představení – čeká vás vizuální velkolepost\, která doslova vtáhne malé diváky přímo do příběhu! Kombinace špičkové datové projekce\, interaktivních scén\, světelných efektů a živé hudby promění divadlo v dechberoucí svět plný zázraků. \n🧒 Vaše děti nebudou jen sedět v hledišti – stanou se součástí děje: \n\n\npomohou Alence řešit tajemné hádanky\, \n\n\nzazpívají s ní kouzelné písničky\, \n\n\nzapojí se do pátrání po neviditelném kocourovi\, \n\n\na po představení se vyfotí přímo na jevišti se všemi postavami z říše divů! \n\n\n  \n🎭Tohle je zážitek\, na který se nezapomíná – tohle je jejich první opravdové dobrodružství v divadle. \nČeká vás říše\, kde se čaj pije o půlnoci\, králíci nosí hodinky\, kočky mluví a všechno dává smysl dětské fantazii. Příběh je hravě a srozumitelně upraven i pro nejmenší děti. \n  \nMuzikál od zkušených tvůrců inscenací Popelka a Vánoční loupež! \n\nTento tip na kulturní akci v Prostějov najdete v přehledu na Dnesnivylet.cz spolu s dalšími koncerty\, festivaly a divadelními představeními.Každý si vybere co se mu líbí. Nezapomeňte koupit vstupenky včas\, stačí kliknout a budete přesměrování na oficiálního prodejce vstupenek.
URL:https://dnesnivylet.cz/event/alenka-v-risi-divu-i-prostejov/
LOCATION:Společenský dům\, Prostějov\, Společenský dům\, Prostějov\, Česká republika
CATEGORIES:Divadlo
ATTACH;FMTTYPE=image/jpeg:https://dnesnivylet.cz/wp-content/uploads/2025/10/320-02cfd427902048a796d529079c440fa2.jpg
END:VEVENT
BEGIN:VEVENT
DTSTART;TZID=Europe/Prague:20251026T170000
DTEND;TZID=Europe/Prague:20251026T200000
DTSTAMP:20260420T033234
CREATED:20251020T073131Z
LAST-MODIFIED:20251020T073132Z
UID:8733-1761498000-1761508800@dnesnivylet.cz
SUMMARY:Alenka v říši divů I Třinec
DESCRIPTION:Alenka v říši divů I Třinec se uskuteční dne 2025-10-26 v 17:00 v Třinec\, Kulturní dům TRISIA. \n🎟️ Koupit vstupenku \n\n✨Vezměte děti do světa\, kde realita ztrácí pevnou půdu pod nohama – do říše divů\, která ožije přímo před jejich očima! \n„Alenka v říši divů“ – interaktivní muzikál\, který přenese děti do světa fantazie\, kde se stěny hýbou\, stropy dýchají a housenky se plazí světelnými projekcemi po celém divadle. \n⏰Nečekejte obyčejné představení – čeká vás vizuální velkolepost\, která doslova vtáhne malé diváky přímo do příběhu! Kombinace špičkové datové projekce\, interaktivních scén\, světelných efektů a živé hudby promění divadlo v dechberoucí svět plný zázraků. \n🧒 Vaše děti nebudou jen sedět v hledišti – stanou se součástí děje: \n\n\npomohou Alence řešit tajemné hádanky\, \n\n\nzazpívají s ní kouzelné písničky\, \n\n\nzapojí se do pátrání po neviditelném kocourovi\, \n\n\na po představení se vyfotí přímo na jevišti se všemi postavami z říše divů! \n\n\n  \n🎭Tohle je zážitek\, na který se nezapomíná – tohle je jejich první opravdové dobrodružství v divadle. \nČeká vás říše\, kde se čaj pije o půlnoci\, králíci nosí hodinky\, kočky mluví a všechno dává smysl dětské fantazii. Příběh je hravě a srozumitelně upraven i pro nejmenší děti. \n  \nMuzikál od zkušených tvůrců inscenací Popelka a Vánoční loupež! \n\nTento tip na kulturní akci v Třinec najdete v přehledu na Dnesnivylet.cz spolu s dalšími koncerty\, festivaly a divadelními představeními.Každý si vybere co se mu líbí. Nezapomeňte koupit vstupenky včas\, stačí kliknout a budete přesměrování na oficiálního prodejce vstupenek.
URL:https://dnesnivylet.cz/event/alenka-v-risi-divu-i-trinec/
LOCATION:Kulturní dům TRISIA\, Třinec\, Kulturní dům TRISIA\, Třinec\, Česká republika
CATEGORIES:Divadlo
ATTACH;FMTTYPE=image/jpeg:https://dnesnivylet.cz/wp-content/uploads/2025/10/320-ece77ec2b0464c39a5b751970c2822b1.jpg
END:VEVENT
BEGIN:VEVENT
DTSTART;TZID=Europe/Prague:20251025T190000
DTEND;TZID=Europe/Prague:20251025T220000
DTSTAMP:20260420T033234
CREATED:20251020T063400Z
LAST-MODIFIED:20251020T063401Z
UID:7847-1761418800-1761429600@dnesnivylet.cz
SUMMARY:Muzikály Josefa Vojtka v Trenčíne
DESCRIPTION:Muzikály Josefa Vojtka v Trenčíne se uskuteční dne 2025-10-25 v 19:00 v Trenčín\, Posádkový klub – ODA Trenčín. \n🎟️ Koupit vstupenku \n\nJosef Vojtek oslavuje 30 rokov na muzikálovej scéne \na pri tejto príležitosti oznamuje svoje prvé sólové turné s názvom \n„MUZIKÁLY JOSEFA VOJTKA – Tak trochu rockovo“ \nNenechajte si ujsť jedinečnú príležitosť zažiť vystúpenie jedného z najvýraznejších hlasov českej rockovej a muzikálovej scény. Za sprievodu známej kapely Charlie Band zaznejú piesne z muzikálov\, v ktorých Josef Vojtek účinkoval. Traja Mušketieri\, Angelika\, Kleopatra\, Hamlet\, Dracula a mnoho ďalších. Pripravte sa na veľkolepý zážitok\, kde sa srdce rockera stretáva s vášňou pre muzikály. \n\nTento tip na kulturní akci v Trenčín najdete v přehledu na Dnesnivylet.cz spolu s dalšími koncerty\, festivaly a divadelními představeními.Každý si vybere co se mu líbí. Nezapomeňte koupit vstupenky včas\, stačí kliknout a budete přesměrování na oficiálního prodejce vstupenek.
URL:https://dnesnivylet.cz/event/muzikaly-josefa-vojtka-v-trencine/
LOCATION:Posádkový klub – ODA Trenčín\, Trenčín\, Posádkový klub - ODA Trenčín\, Trenčín\, Česká republika
CATEGORIES:Koncert
ATTACH;FMTTYPE=image/jpeg:https://dnesnivylet.cz/wp-content/uploads/2025/10/320-ac2d85a380fe41c4a169618a0aca6f06-1.jpg
END:VEVENT
BEGIN:VEVENT
DTSTART;TZID=Europe/Prague:20251025T170000
DTEND;TZID=Europe/Prague:20251025T200000
DTSTAMP:20260420T033234
CREATED:20251020T072506Z
LAST-MODIFIED:20251020T072507Z
UID:8710-1761411600-1761422400@dnesnivylet.cz
SUMMARY:Alenka v říši divů I Kroměříž
DESCRIPTION:Alenka v říši divů I Kroměříž se uskuteční dne 2025-10-25 v 17:00 v Kroměříž\, Dům kultury. \n🎟️ Koupit vstupenku \n\n✨Vezměte děti do světa\, kde realita ztrácí pevnou půdu pod nohama – do říše divů\, která ožije přímo před jejich očima! \n„Alenka v říši divů“ – interaktivní muzikál\, který přenese děti do světa fantazie\, kde se stěny hýbou\, stropy dýchají a housenky se plazí světelnými projekcemi po celém divadle. \n⏰Nečekejte obyčejné představení – čeká vás vizuální velkolepost\, která doslova vtáhne malé diváky přímo do příběhu! Kombinace špičkové datové projekce\, interaktivních scén\, světelných efektů a živé hudby promění divadlo v dechberoucí svět plný zázraků. \n🧒 Vaše děti nebudou jen sedět v hledišti – stanou se součástí děje: \n\n\npomohou Alence řešit tajemné hádanky\, \n\n\nzazpívají s ní kouzelné písničky\, \n\n\nzapojí se do pátrání po neviditelném kocourovi\, \n\n\na po představení se vyfotí přímo na jevišti se všemi postavami z říše divů! \n\n\n  \n🎭Tohle je zážitek\, na který se nezapomíná – tohle je jejich první opravdové dobrodružství v divadle. \nČeká vás říše\, kde se čaj pije o půlnoci\, králíci nosí hodinky\, kočky mluví a všechno dává smysl dětské fantazii. Příběh je hravě a srozumitelně upraven i pro nejmenší děti. \n  \nMuzikál od zkušených tvůrců inscenací Popelka a Vánoční loupež! \n\nTento tip na kulturní akci v Kroměříž najdete v přehledu na Dnesnivylet.cz spolu s dalšími koncerty\, festivaly a divadelními představeními.Každý si vybere co se mu líbí. Nezapomeňte koupit vstupenky včas\, stačí kliknout a budete přesměrování na oficiálního prodejce vstupenek.
URL:https://dnesnivylet.cz/event/alenka-v-risi-divu-i-kromeriz/
LOCATION:Dům kultury\, Kroměříž\, Dům kultury\, Kroměříž\, Česká republika
CATEGORIES:Divadlo
ATTACH;FMTTYPE=image/jpeg:https://dnesnivylet.cz/wp-content/uploads/2025/10/320-9b9a09c666ae4abe85a380fd1a60be21.jpg
END:VEVENT
BEGIN:VEVENT
DTSTART;TZID=Europe/Prague:20251025T100000
DTEND;TZID=Europe/Prague:20251025T130000
DTSTAMP:20260420T033234
CREATED:20251020T072436Z
LAST-MODIFIED:20251020T072436Z
UID:8704-1761386400-1761397200@dnesnivylet.cz
SUMMARY:Alenka v říši divů I Frýdek Místek
DESCRIPTION:Alenka v říši divů I Frýdek Místek se uskuteční dne 2025-10-25 v 10:00 v Frýdek-Místek\, Národní dům. \n🎟️ Koupit vstupenku \n\n✨Vezměte děti do světa\, kde realita ztrácí pevnou půdu pod nohama – do říše divů\, která ožije přímo před jejich očima! \n„Alenka v říši divů“ – interaktivní muzikál\, který přenese děti do světa fantazie\, kde se stěny hýbou\, stropy dýchají a housenky se plazí světelnými projekcemi po celém divadle. \n⏰Nečekejte obyčejné představení – čeká vás vizuální velkolepost\, která doslova vtáhne malé diváky přímo do příběhu! Kombinace špičkové datové projekce\, interaktivních scén\, světelných efektů a živé hudby promění divadlo v dechberoucí svět plný zázraků. \n🧒 Vaše děti nebudou jen sedět v hledišti – stanou se součástí děje: \n\n\npomohou Alence řešit tajemné hádanky\, \n\n\nzazpívají s ní kouzelné písničky\, \n\n\nzapojí se do pátrání po neviditelném kocourovi\, \n\n\na po představení se vyfotí přímo na jevišti se všemi postavami z říše divů! \n\n\n  \n🎭Tohle je zážitek\, na který se nezapomíná – tohle je jejich první opravdové dobrodružství v divadle. \nČeká vás říše\, kde se čaj pije o půlnoci\, králíci nosí hodinky\, kočky mluví a všechno dává smysl dětské fantazii. Příběh je hravě a srozumitelně upraven i pro nejmenší děti. \n  \nMuzikál od zkušených tvůrců inscenací Popelka a Vánoční loupež! \n\nTento tip na kulturní akci v Frýdek-Místek najdete v přehledu na Dnesnivylet.cz spolu s dalšími koncerty\, festivaly a divadelními představeními.Každý si vybere co se mu líbí. Nezapomeňte koupit vstupenky včas\, stačí kliknout a budete přesměrování na oficiálního prodejce vstupenek.
URL:https://dnesnivylet.cz/event/alenka-v-risi-divu-i-frydek-mistek/
LOCATION:Národní dům\, Frýdek-Místek\, Národní dům\, Frýdek-Místek\, Česká republika
CATEGORIES:Divadlo
ATTACH;FMTTYPE=image/jpeg:https://dnesnivylet.cz/wp-content/uploads/2025/10/320-1a7f0e076ca54e5fbd7d0e296e3feb02.jpg
END:VEVENT
BEGIN:VEVENT
DTSTART;TZID=Europe/Prague:20251023T170000
DTEND;TZID=Europe/Prague:20251023T200000
DTSTAMP:20260420T033234
CREATED:20251020T073132Z
LAST-MODIFIED:20251020T073133Z
UID:8740-1761238800-1761249600@dnesnivylet.cz
SUMMARY:Alenka v říši divů I Ústí nad Labem
DESCRIPTION:Alenka v říši divů I Ústí nad Labem se uskuteční dne 2025-10-23 v 17:00 v Ústí nad Labem\, Divadelní sál Domu kultury. \n🎟️ Koupit vstupenku \n\n✨Vezměte děti do světa\, kde realita ztrácí pevnou půdu pod nohama – do říše divů\, která ožije přímo před jejich očima! \n„Alenka v říši divů“ – interaktivní muzikál\, který přenese děti do světa fantazie\, kde se stěny hýbou\, stropy dýchají a housenky se plazí světelnými projekcemi po celém divadle. \n⏰Nečekejte obyčejné představení – čeká vás vizuální velkolepost\, která doslova vtáhne malé diváky přímo do příběhu! Kombinace špičkové datové projekce\, interaktivních scén\, světelných efektů a živé hudby promění divadlo v dechberoucí svět plný zázraků. \n🧒 Vaše děti nebudou jen sedět v hledišti – stanou se součástí děje: \n\n\npomohou Alence řešit tajemné hádanky\, \n\n\nzazpívají s ní kouzelné písničky\, \n\n\nzapojí se do pátrání po neviditelném kocourovi\, \n\n\na po představení se vyfotí přímo na jevišti se všemi postavami z říše divů! \n\n\n  \n🎭Tohle je zážitek\, na který se nezapomíná – tohle je jejich první opravdové dobrodružství v divadle. \nČeká vás říše\, kde se čaj pije o půlnoci\, králíci nosí hodinky\, kočky mluví a všechno dává smysl dětské fantazii. Příběh je hravě a srozumitelně upraven i pro nejmenší děti. \n  \nMuzikál od zkušených tvůrců inscenací Popelka a Vánoční loupež! \n\nTento tip na kulturní akci v Ústí nad Labem najdete v přehledu na Dnesnivylet.cz spolu s dalšími koncerty\, festivaly a divadelními představeními.Každý si vybere co se mu líbí. Nezapomeňte koupit vstupenky včas\, stačí kliknout a budete přesměrování na oficiálního prodejce vstupenek.
URL:https://dnesnivylet.cz/event/alenka-v-risi-divu-i-usti-nad-labem/
LOCATION:Divadelní sál Domu kultury\, Ústí nad Labem\, Divadelní sál Domu kultury\, Ústí nad Labem\, Česká republika
CATEGORIES:Divadlo
ATTACH;FMTTYPE=image/jpeg:https://dnesnivylet.cz/wp-content/uploads/2025/10/320-f3c846adc65345b49d7ec98bb7204ce3.jpg
END:VEVENT
BEGIN:VEVENT
DTSTART;TZID=Europe/Prague:20251022T190000
DTEND;TZID=Europe/Prague:20251022T220000
DTSTAMP:20260420T033234
CREATED:20251020T064714Z
LAST-MODIFIED:20251020T064714Z
UID:8093-1761159600-1761170400@dnesnivylet.cz
SUMMARY:MUZIKÁLY NARUBY
DESCRIPTION:MUZIKÁLY NARUBY se uskuteční dne 2025-10-22 v 19:00 v Zbýšov\, Kino Horník. \n🎟️ Koupit vstupenku \n\nMUZIKÁLY NARUBY – Josef Vágner & Petr Ryšavý & Jan KopečnýKoncertní zábavná show naplněná těmi největšími hity z českých i světových muzikálů.Muzikály Naruby\, to je koncert živé kapely\, která hraje známe hity tak\, jak je ještě nikdy nikdo neslyšel. Přední čeští zpěváci a muzikáloví herci Josef Vágner\, Jan Kopečný a Petr Ryšavý zpívají hity nejen z tradičních muzikálů jako jsou Bídníci\, Kleopatra\, Angelika\, Tři mušketýři\, ale také z českých hit-muzikálů.V programu tak zní ty největší hity Waldemara Matušky\, Václava Neckáře\, kapely Lucie\, Janka Ledeckého\, Karla Gotta\, Michala Davida\, Heleny Vondráčkové\, Lucie Bílé a dalších.Koncert je prokládán vtipnými historkami ze zákulisí divadla a české hudební scény. Muzikály Naruby tradičně do posledního místa vyprodávají divadelní sály po celé ČR. A nesmíme zapomenout ani na jejich vyprodanou pražskou Lucernu. \nÚčinkujíJosef VágnerPetr RyšavýJan Kopečný…v doprovodu živé kapely \n\nTento tip na kulturní akci v Zbýšov najdete v přehledu na Dnesnivylet.cz spolu s dalšími koncerty\, festivaly a divadelními představeními.Každý si vybere co se mu líbí. Nezapomeňte koupit vstupenky včas\, stačí kliknout a budete přesměrování na oficiálního prodejce vstupenek.
URL:https://dnesnivylet.cz/event/muzikaly-naruby/
LOCATION:Kino Horník\, Zbýšov\, Kino Horník\, Zbýšov\, Česká republika
CATEGORIES:Koncert
ATTACH;FMTTYPE=image/jpeg:https://dnesnivylet.cz/wp-content/uploads/2025/10/320-c38e58e248744cef9d70cd0bb191893e-1.jpg
END:VEVENT
BEGIN:VEVENT
DTSTART;TZID=Europe/Prague:20251021T190000
DTEND;TZID=Europe/Prague:20251021T220000
DTSTAMP:20260420T033234
CREATED:20251020T065127Z
LAST-MODIFIED:20251020T065127Z
UID:8252-1761073200-1761084000@dnesnivylet.cz
SUMMARY:Muzikály Naruby | Litovel
DESCRIPTION:Muzikály Naruby | Litovel se uskuteční dne 2025-10-21 v 19:00 v Litovel\, Městský klub. \n🎟️ Koupit vstupenku \n\nMUZIKÁLY NARUBY – Josef Vágner & Petr Ryšavý & Jan KopečnýKoncertní zábavná show naplněná těmi největšími hity z českých i světových muzikálů. \nMuzikály Naruby\, to je koncert živé kapely\, která hraje známe hity tak\, jak je ještě nikdy nikdo neslyšel. Přední čeští zpěváci a muzikáloví herci Josef Vágner\, Jan Kopečný a Petr Ryšavý zpívají hity nejen z tradičních muzikálů jako jsou Bídníci\, Kleopatra\, Angelika\, Tři mušketýři\, ale také z českých hit-muzikálů. \nV programu tak zní ty největší hity Waldemara Matušky\, Václava Neckáře\, kapely Lucie\, Janka Ledeckého\, Karla Gotta\, Michala Davida\, Heleny Vondráčkové\, Lucie Bílé a dalších. \nKoncert je prokládán vtipnými historkami ze zákulisí divadla a české hudební scény. Muzikály Naruby tradičně do posledního místa vyprodávají divadelní sály po celé ČR. A nesmíme zapomenout ani na jejich vyprodanou pražskou Lucernu. \nÚčinkujíJosef VágnerPetr RyšavýJan Kopečný…v doprovodu živé kapely \n\nTento tip na kulturní akci v Litovel najdete v přehledu na Dnesnivylet.cz spolu s dalšími koncerty\, festivaly a divadelními představeními.Každý si vybere co se mu líbí. Nezapomeňte koupit vstupenky včas\, stačí kliknout a budete přesměrování na oficiálního prodejce vstupenek.
URL:https://dnesnivylet.cz/event/muzikaly-naruby-litovel/
LOCATION:Městský klub\, Litovel\, Městský klub\, Litovel\, Česká republika
CATEGORIES:Koncert
ATTACH;FMTTYPE=image/jpeg:https://dnesnivylet.cz/wp-content/uploads/2025/10/320-9759563ea2fb47ea9d8878b8c0edfe90-1.jpg
END:VEVENT
BEGIN:VEVENT
DTSTART;TZID=Europe/Prague:20251020T190000
DTEND;TZID=Europe/Prague:20251020T220000
DTSTAMP:20260420T033234
CREATED:20251020T064552Z
LAST-MODIFIED:20251020T064552Z
UID:8042-1760986800-1760997600@dnesnivylet.cz
SUMMARY:Muzikály Josefa Vojtka v Rumburku
DESCRIPTION:Muzikály Josefa Vojtka v Rumburku se uskuteční dne 2025-10-20 v 19:00 v Rumburk\, Dům kultury Střelnice Rumburk. \n🎟️ Koupit vstupenku \n\nJosef Vojtek slaví 30 let na muzikálové scéně \na při této příležitosti oznamuje svou první sólovou tour s názvem \n „MUZIKÁLY JOSEFA VOJTKA – Tak trochu rockově“ \nNenechte si ujít jedinečnou možnost zažít vystoupení jednoho z nejvýraznějších hlasů české rockové a muzikálové scény. Za doprovodu známé kapely Charlie Band zazní  písně z muzikálů ve kterých Josef Vojtek učinkoval. Tři Mušketýři\, Angelika\, Kleopatra\, Hamlet\, Dracula\, a mnoho dalších. Připravte se na velkolepý zážitek\, kde se srdce rockera potká s vášní pro muzikály.  \n  \nVystupující \nJosef Vojtek (CZ) – web \n\nTento tip na kulturní akci v Rumburk najdete v přehledu na Dnesnivylet.cz spolu s dalšími koncerty\, festivaly a divadelními představeními.Každý si vybere co se mu líbí. Nezapomeňte koupit vstupenky včas\, stačí kliknout a budete přesměrování na oficiálního prodejce vstupenek.
URL:https://dnesnivylet.cz/event/muzikaly-josefa-vojtka-v-rumburku/
LOCATION:Dům kultury Střelnice Rumburk\, Rumburk\, Dům kultury Střelnice Rumburk\, Rumburk\, Česká republika
CATEGORIES:Koncert
ATTACH;FMTTYPE=image/jpeg:https://dnesnivylet.cz/wp-content/uploads/2025/10/320-23129e8f16e0416594583c43b6d5b9c8-1.jpg
END:VEVENT
END:VCALENDAR