BEGIN:VCALENDAR
VERSION:2.0
PRODID:-//www.dnesnivylet.cz                                                                                                                        Tip na výlet pro celou rodinu. - ECPv6.15.13.1//NONSGML v1.0//EN
CALSCALE:GREGORIAN
METHOD:PUBLISH
X-WR-CALNAME:www.dnesnivylet.cz                                                                                                                        Tip na výlet pro celou rodinu.
X-ORIGINAL-URL:https://dnesnivylet.cz
X-WR-CALDESC:Akce na www.dnesnivylet.cz                                                                                                                        Tip na výlet pro celou rodinu.
REFRESH-INTERVAL;VALUE=DURATION:PT1H
X-Robots-Tag:noindex
X-PUBLISHED-TTL:PT1H
BEGIN:VTIMEZONE
TZID:Europe/Prague
BEGIN:DAYLIGHT
TZOFFSETFROM:+0100
TZOFFSETTO:+0200
TZNAME:CEST
DTSTART:20240331T010000
END:DAYLIGHT
BEGIN:STANDARD
TZOFFSETFROM:+0200
TZOFFSETTO:+0100
TZNAME:CET
DTSTART:20241027T010000
END:STANDARD
BEGIN:DAYLIGHT
TZOFFSETFROM:+0100
TZOFFSETTO:+0200
TZNAME:CEST
DTSTART:20250330T010000
END:DAYLIGHT
BEGIN:STANDARD
TZOFFSETFROM:+0200
TZOFFSETTO:+0100
TZNAME:CET
DTSTART:20251026T010000
END:STANDARD
BEGIN:DAYLIGHT
TZOFFSETFROM:+0100
TZOFFSETTO:+0200
TZNAME:CEST
DTSTART:20260329T010000
END:DAYLIGHT
BEGIN:STANDARD
TZOFFSETFROM:+0200
TZOFFSETTO:+0100
TZNAME:CET
DTSTART:20261025T010000
END:STANDARD
END:VTIMEZONE
BEGIN:VEVENT
DTSTART;TZID=Europe/Prague:20251112T190000
DTEND;TZID=Europe/Prague:20251112T220000
DTSTAMP:20260420T024043
CREATED:20251108T171343Z
LAST-MODIFIED:20251108T171344Z
UID:13057-1762974000-1762984800@dnesnivylet.cz
SUMMARY:Ani o den dýl! v Náměšti nad Oslavou
DESCRIPTION:Ani o den dýl! v Náměšti nad Oslavou se uskuteční dne 2025-11-12 v 19:00 v Náměšť nad Oslavou\, Sokolovna. \n🎟️ Koupit vstupenku \n\nBláznivá komedie \nPotřebujete se zbavit přehnaně milující přítelkyně? Nastěhujte si do bytu svého nejlepšího kamaráda! \nPavel namluví své dívce Sofii\, že jeho přítel Martin ztratil matku\, a proto se k nim nastěhuje. Ve skutečnosti doufá\, že Sofie takovou situaci neunese a odejde. Martin se nastěhuje proti své vůli s tím\, že je to na týden a „ani o den dýl“. Tak tedy začíná výbušná domácnost ve třech\, plná lží\, nízkých přetvářek a jiných každodenních potěšení. \nHra Ani o den dýl! šikovně převrací klasické prvky komiky a odtud pramení její osvěžující originalita. Je tak ztřeštěná\, jak se na francouzskou komedii sluší a patří. \n  \nHrají: Lukáš Langmajer\, Michaela Maurerová\, Libor JeníkAutor: Clément MichelRežie: Roman Meluzín \n\nTento tip na kulturní akci v Náměšť nad Oslavou najdete v přehledu na Dnesnivylet.cz spolu s dalšími koncerty\, festivaly a divadelními představeními.Každý si vybere co se mu líbí. Nezapomeňte koupit vstupenky včas\, stačí kliknout a budete přesměrování na oficiálního prodejce vstupenek.
URL:https://dnesnivylet.cz/event/ani-o-den-dyl-v-namesti-nad-oslavou/
LOCATION:Sokolovna\, Náměšť nad Oslavou\, Sokolovna\, Náměšť nad Oslavou\, Česká republika
CATEGORIES:Divadlo
ATTACH;FMTTYPE=image/jpeg:https://dnesnivylet.cz/wp-content/uploads/2025/11/320-f4855e6d012940928763f0f2748032cc.jpg
END:VEVENT
END:VCALENDAR