BEGIN:VCALENDAR
VERSION:2.0
PRODID:-//www.dnesnivylet.cz                                                                                                                        Tip na výlet pro celou rodinu. - ECPv6.15.13.1//NONSGML v1.0//EN
CALSCALE:GREGORIAN
METHOD:PUBLISH
X-WR-CALNAME:www.dnesnivylet.cz                                                                                                                        Tip na výlet pro celou rodinu.
X-ORIGINAL-URL:https://dnesnivylet.cz
X-WR-CALDESC:Akce na www.dnesnivylet.cz                                                                                                                        Tip na výlet pro celou rodinu.
REFRESH-INTERVAL;VALUE=DURATION:PT1H
X-Robots-Tag:noindex
X-PUBLISHED-TTL:PT1H
BEGIN:VTIMEZONE
TZID:Europe/Prague
BEGIN:DAYLIGHT
TZOFFSETFROM:+0100
TZOFFSETTO:+0200
TZNAME:CEST
DTSTART:20250330T010000
END:DAYLIGHT
BEGIN:STANDARD
TZOFFSETFROM:+0200
TZOFFSETTO:+0100
TZNAME:CET
DTSTART:20251026T010000
END:STANDARD
BEGIN:DAYLIGHT
TZOFFSETFROM:+0100
TZOFFSETTO:+0200
TZNAME:CEST
DTSTART:20260329T010000
END:DAYLIGHT
BEGIN:STANDARD
TZOFFSETFROM:+0200
TZOFFSETTO:+0100
TZNAME:CET
DTSTART:20261025T010000
END:STANDARD
BEGIN:DAYLIGHT
TZOFFSETFROM:+0100
TZOFFSETTO:+0200
TZNAME:CEST
DTSTART:20270328T010000
END:DAYLIGHT
BEGIN:STANDARD
TZOFFSETFROM:+0200
TZOFFSETTO:+0100
TZNAME:CET
DTSTART:20271031T010000
END:STANDARD
END:VTIMEZONE
BEGIN:VEVENT
DTSTART;TZID=Europe/Prague:20260502T100000
DTEND;TZID=Europe/Prague:20260502T130000
DTSTAMP:20260420T020101
CREATED:20260419T120509Z
LAST-MODIFIED:20260419T120509Z
UID:20659-1777716000-1777726800@dnesnivylet.cz
SUMMARY:ČaroBeltine 2026
DESCRIPTION:ČaroBeltine 2026 se uskuteční dne 2026-05-02 v 10:00 v Nasavrky\, Země Keltů. \n🎟️ Koupit vstupenku \n\nČarovná oslava Beltinu v Zemi Keltů. \nPojďte s námi oslavit jaro\, kouzla a lásku. Bude to čarovné! \n  \nČeká nás: \nTématické prodejní stánky \nWorkshopy a přednášky na kouzelná témata \nRituály \nHudba a tanec \nSvatby na zkoušku \nPrůvod loučí \n  \nSvatby na zkoušku:  \nPod dohledem druida a za plápolání očistných ohňů spojíte své ruce pradávným rituálem provázání rukou. V tento magický čas\, kdy se svět lidí i bohů prolíná\, si můžete vyzkoušet\, zda jste si skutečně souzeni. Pokud váš svazek vydrží až do Lughnasadu\, můžete jej tehdy stvrdit navždy – tak\, jak to prý kdysi činili Keltové. Kromě samotného obřadu\, který trvá zhruba 10 minut\, jsou v ceně prstýnky\, šátek na čepcování pro nevěstu a fotografie zachycující magické okamžiky. \nObjednejte si svatbu na zkoušku předem. Cena za jednu svatbu (jeden pár zamilovaných) je 800 Kč. Nevratná záloha 500 Kč\, zbytek se platí na místě. Po zaplacení nevratné zálohy ihned pište prosím na e-mailovou adresu: rootribezs@gmail.com \nUpozornění: svatba na zkoušku je služba navíc\, je nutné zakoupit i vstupenku na akci! \n\nTento tip na kulturní akci v Nasavrky najdete v přehledu na Dnesnivylet.cz spolu s dalšími koncerty\, festivaly a divadelními představeními.Každý si vybere co se mu líbí. Nezapomeňte koupit vstupenky včas\, stačí kliknout a budete přesměrování na oficiálního prodejce vstupenek.
URL:https://dnesnivylet.cz/event/carobeltine-2026/
LOCATION:Země Keltů\, Nasavrky\, Země Keltů\, Nasavrky\, Česká republika
CATEGORIES:Festival
ATTACH;FMTTYPE=image/jpeg:https://dnesnivylet.cz/wp-content/uploads/2026/04/320-2fbb5fafc6c548d995de409ef59a6f9f.jpg
END:VEVENT
BEGIN:VEVENT
DTSTART;TZID=Europe/Prague:20260814T160000
DTEND;TZID=Europe/Prague:20260814T190000
DTSTAMP:20260420T020101
CREATED:20260419T122042Z
LAST-MODIFIED:20260419T122042Z
UID:20884-1786723200-1786734000@dnesnivylet.cz
SUMMARY:Sabat Fest v Zemi Keltů
DESCRIPTION:Sabat Fest v Zemi Keltů se uskuteční dne 2026-08-14 v 16:00 v Nasavrky\, Země Keltů. \n🎟️ Koupit vstupenku \n\nNový velký letní open air festival. Slovanský duch\, keltské kořeny\, severská mystika a vášeň jihu na jednom pódiu. Zažijte největší letní oslavu pohanské hudby pod širým nebem uprostřed nádherného a velkého keltského hradiště. \nDeloraine (CZ)\,  Celtica Pipes Rock (Rakousko)\,  Echo Rodu (PL)\,  The Trouble Notes (DE\, USA)\,  Itinera (HU)\,  Žniwa (PL)\,  Szlakiem Starych Drzew (PL)\,  Barbar Bards (CZ)\,  Drunken Weasel (CZ\,Tanec – Reliquia (CZ) Blackout Paradox (CZ). \nDeloraine i Celtica Pipes rock vystoupí i s velkou ohnivou show. Půlnoční pohanské čarodějné tance na pódiu i pod ním.  \nDoprovodný program – prohlídka celého hradiště a budov v ceně vstupenky\,  jarmark po oba dva dny.  Bohatá nabídka řemeslných lahůdek ve stáncích i v Hospodě u Dubového Kelta. \nFestival vhodný i pro rodiny s dětmi. \nSkanzen otevřen od pátku 10:00 \nV pátek první koncert v 17:30 \nV sobotu první koncert ve 14:00 \nKomentované prohlídky celého hradiště a staveb od 10:30 do 17:30 – víc informací na místě akce. \nVstupenky jednodenní i na celý festival. \n  \n  \n\nTento tip na kulturní akci v Nasavrky najdete v přehledu na Dnesnivylet.cz spolu s dalšími koncerty\, festivaly a divadelními představeními.Každý si vybere co se mu líbí. Nezapomeňte koupit vstupenky včas\, stačí kliknout a budete přesměrování na oficiálního prodejce vstupenek.
URL:https://dnesnivylet.cz/event/sabat-fest-v-zemi-keltu/
LOCATION:Země Keltů\, Nasavrky\, Země Keltů\, Nasavrky\, Česká republika
CATEGORIES:Festival
ATTACH;FMTTYPE=image/jpeg:https://dnesnivylet.cz/wp-content/uploads/2026/04/320-d98bb414b1a94c65afdfb630c88f4f73.jpg
END:VEVENT
END:VCALENDAR