BEGIN:VCALENDAR
VERSION:2.0
PRODID:-//www.dnesnivylet.cz                                                                                                                        Tip na výlet pro celou rodinu. - ECPv6.15.13.1//NONSGML v1.0//EN
CALSCALE:GREGORIAN
METHOD:PUBLISH
X-WR-CALNAME:www.dnesnivylet.cz                                                                                                                        Tip na výlet pro celou rodinu.
X-ORIGINAL-URL:https://dnesnivylet.cz
X-WR-CALDESC:Akce na www.dnesnivylet.cz                                                                                                                        Tip na výlet pro celou rodinu.
REFRESH-INTERVAL;VALUE=DURATION:PT1H
X-Robots-Tag:noindex
X-PUBLISHED-TTL:PT1H
BEGIN:VTIMEZONE
TZID:Europe/Prague
BEGIN:DAYLIGHT
TZOFFSETFROM:+0100
TZOFFSETTO:+0200
TZNAME:CEST
DTSTART:20240331T010000
END:DAYLIGHT
BEGIN:STANDARD
TZOFFSETFROM:+0200
TZOFFSETTO:+0100
TZNAME:CET
DTSTART:20241027T010000
END:STANDARD
BEGIN:DAYLIGHT
TZOFFSETFROM:+0100
TZOFFSETTO:+0200
TZNAME:CEST
DTSTART:20250330T010000
END:DAYLIGHT
BEGIN:STANDARD
TZOFFSETFROM:+0200
TZOFFSETTO:+0100
TZNAME:CET
DTSTART:20251026T010000
END:STANDARD
BEGIN:DAYLIGHT
TZOFFSETFROM:+0100
TZOFFSETTO:+0200
TZNAME:CEST
DTSTART:20260329T010000
END:DAYLIGHT
BEGIN:STANDARD
TZOFFSETFROM:+0200
TZOFFSETTO:+0100
TZNAME:CET
DTSTART:20261025T010000
END:STANDARD
END:VTIMEZONE
BEGIN:VEVENT
DTSTART;TZID=Europe/Prague:20251108T160000
DTEND;TZID=Europe/Prague:20251108T190000
DTSTAMP:20260419T203402
CREATED:20251102T184817Z
LAST-MODIFIED:20251102T184818Z
UID:11245-1762617600-1762628400@dnesnivylet.cz
SUMMARY:MISSA BREVIS | Jubilejní 30. koncert
DESCRIPTION:MISSA BREVIS | Jubilejní 30. koncert se uskuteční dne 2025-11-08 v 16:00 v Neratov\, Kostel Nanebevzetí Panny Marie. \n🎟️ Koupit vstupenku \n\nJubilejní 30. provedení programu MISSA BREVIS se skladbami Zdeňka Krále\, Dady Klementové\, Lukáše Sommera a Martina Franzeho. \nProgram koncertu:Zdeněk Král | ECCE SACERDOS MAGNUS (1. repríza)Dada Klementová | AVE REGINA CAELORUM (světová premiéra)Zdeněk Král | AVE VERUM CORPUSZdeněk Král | IUBILATE DEOLukáš Sommer | VENI SANCTE SPIRITUSMartin Franze | NERATOVSKÝ OTČENÁŠ (světová premiéra)Zdeněk Král | MISSA BREVIS \nÚčinkující:Smíšený komorní sbor a orchestr MUSICA DA CAMERA BRNO | umělecký vedoucí Martin FranzePěvecké sdružení DALIBOR SVITAVY | sbormistryně Miroslava DucháčkováLenka Cafourková | sopránKuba Kubín | tenorLukáš Sommer | kytaraKamila Burdová | varhanyMartin Franze | dirigent \ninfo: www.mdcb.cz \n\nTento tip na kulturní akci v Neratov najdete v přehledu na Dnesnivylet.cz spolu s dalšími koncerty\, festivaly a divadelními představeními.Každý si vybere co se mu líbí. Nezapomeňte koupit vstupenky včas\, stačí kliknout a budete přesměrování na oficiálního prodejce vstupenek.
URL:https://dnesnivylet.cz/event/missa-brevis-jubilejni-30-koncert/
LOCATION:Kostel Nanebevzetí Panny Marie\, Neratov\, Kostel Nanebevzetí Panny Marie\, Neratov\, Česká republika
CATEGORIES:Koncert
ATTACH;FMTTYPE=image/jpeg:https://dnesnivylet.cz/wp-content/uploads/2025/11/320-c4106e2c4c3046afb24d8a67753ec668.jpg
END:VEVENT
END:VCALENDAR