BEGIN:VCALENDAR
VERSION:2.0
PRODID:-//www.dnesnivylet.cz                                                                                                                        Tip na výlet pro celou rodinu. - ECPv6.15.13.1//NONSGML v1.0//EN
CALSCALE:GREGORIAN
METHOD:PUBLISH
X-WR-CALNAME:www.dnesnivylet.cz                                                                                                                        Tip na výlet pro celou rodinu.
X-ORIGINAL-URL:https://dnesnivylet.cz
X-WR-CALDESC:Akce na www.dnesnivylet.cz                                                                                                                        Tip na výlet pro celou rodinu.
REFRESH-INTERVAL;VALUE=DURATION:PT1H
X-Robots-Tag:noindex
X-PUBLISHED-TTL:PT1H
BEGIN:VTIMEZONE
TZID:Europe/Prague
BEGIN:DAYLIGHT
TZOFFSETFROM:+0100
TZOFFSETTO:+0200
TZNAME:CEST
DTSTART:20240331T010000
END:DAYLIGHT
BEGIN:STANDARD
TZOFFSETFROM:+0200
TZOFFSETTO:+0100
TZNAME:CET
DTSTART:20241027T010000
END:STANDARD
BEGIN:DAYLIGHT
TZOFFSETFROM:+0100
TZOFFSETTO:+0200
TZNAME:CEST
DTSTART:20250330T010000
END:DAYLIGHT
BEGIN:STANDARD
TZOFFSETFROM:+0200
TZOFFSETTO:+0100
TZNAME:CET
DTSTART:20251026T010000
END:STANDARD
BEGIN:DAYLIGHT
TZOFFSETFROM:+0100
TZOFFSETTO:+0200
TZNAME:CEST
DTSTART:20260329T010000
END:DAYLIGHT
BEGIN:STANDARD
TZOFFSETFROM:+0200
TZOFFSETTO:+0100
TZNAME:CET
DTSTART:20261025T010000
END:STANDARD
BEGIN:DAYLIGHT
TZOFFSETFROM:+0100
TZOFFSETTO:+0200
TZNAME:CEST
DTSTART:20270328T010000
END:DAYLIGHT
BEGIN:STANDARD
TZOFFSETFROM:+0200
TZOFFSETTO:+0100
TZNAME:CET
DTSTART:20271031T010000
END:STANDARD
END:VTIMEZONE
BEGIN:VEVENT
DTSTART;TZID=Europe/Prague:20260310T160000
DTEND;TZID=Europe/Prague:20260310T190000
DTSTAMP:20260420T022036
CREATED:20260209T193013Z
LAST-MODIFIED:20260209T193014Z
UID:17776-1773158400-1773169200@dnesnivylet.cz
SUMMARY:Politická VIDEA A REELS: obsah pro lidi i algoritmy
DESCRIPTION:Politická VIDEA A REELS: obsah pro lidi i algoritmy se uskuteční dne 2026-03-10 v 16:00 v Brno\, Clubco Brno Vlněna. \n🎟️ Koupit vstupenku \n\nPOLITICKÁ VIDEA A REELS: OBSAH PRO LIDI I ALGORITMYpraktický workshop (nejen) pro komunální volby 2026 \nPondělí 9. února 2026\, 16:00 – 20:00 h \nWorkshop nabídne praktický návod\, jak tvořit krátká videa a reels\, které přirozeně osloví místní voliče a obstojí i před chováním současných algoritmů. Účastníci – od komunálních kandidátů až po členy jejich mediálních týmů – si vyzkoušejí celý proces od tvorby obsahového plánu přes scénář\, natáčení a střih až po publikaci a základní analytiku. Získají jasnou metodiku a konkrétní techniky\, které jim umožní vytvářet konzistentní\, autentický a srozumitelný videobsah po celou dobu kampaně pro komunální volby 2026. \nPRO KOHO JE ŠKOLENÍ VHODNÉ \n– komunální politici a političky– asistenti\, PR pracovníci\, členové mediálních a dobrovolnických týmů– kdokoliv\, kdo chce s malým rozpočtem vytvářet účinný videobsah \nÚroveň pokročilosti:– začátečníci a mírně pokročilé \nOBSAHOVÁ STRUKTURA WORKSHOPU \n1. Úvod: Jak se mění politická komunikace v roce 2026– proč videoobsah funguje a proč je důležité být na sociálních sítích i v komunálních volbách– jak volič konzumuje obsah a co od politiků očekává– nejčastější chyby politiků na sociálních sítích \n2. Strategie: obsah jako základ kampaně– jak si vytvořit jednoduchý obsahový plán na 30 dní– jak definovat svou cílovou skupinu– jak být autentický a přitom profesionální \n3. Reels/Shorts v praxi: jak získat pozornost do 3 sekund– hooky\, jak fungují– typy videí: edukativní\, reakční\, osobní\, zákulisní\, vysvětlující– jak si napsat scénář– práce s hlasem\, tempem\, gesty\, prostředím \n4. Natáčíme! Praktická část– technika\, se kterou pracujeme– jak vybírat úhly a vytvářet dynamiku– práce se zvukem a světlem– mini cvičení: každý natočí svůj 10–20 s reel \n5. Střih a postprodukce– sestavení jednoduchého videa– titulky\, hudba\, AI nástroje– vizuální identita– export + optimální nastavení pro IG/TikTok/YT Shorts \n6. Publikace a analytika– kdy postovat\, jak pracovat s algoritmem– jak vyhodnocovat výkon– základy komunitního managementu v politice– jak tvořit dlouhodobý styl\, aby si vás voliči pamatovali \nCO BUDOU ÚČASTNÍCI UMĚT PO WORKSHOPU✔ vytvořit jednoduchý obsahový plán✔ napsat a natočit vlastní krátké video podle osvědčené struktury✔ sestříhat Reels nebo Shorts v mobilu během 20 minut✔ používat nástroje\, které zjednoduší práci v časově náročné kampani✔ působit na videu přirozeně a autenticky✔ vyhodnotit výkon postů a upravit strategii✔ tvořit konzistentní obsah i bez agentury  \nKATEŘINA MICHÁLKOVÁ – lektorka \nKateřina Michálková je marketingová konzultantka\, content tvůrkyně a stratégyně se zaměřením na sociální sítě\, videoobsah a autentickou komunikaci. V marketingu se pohybuje téměř 10 let\, kde propojuje strategii\, kreativitu a cit pro značku. \nV politickém marketingu se aktivně pohybuje od roku 2023. Podílela se na tvorbě osobního brandu a kampaní do sněmovních voleb Venduly Svobodové a Ondřeje Haváče a spolupracuje také se senátorkou Adélou Šípovou. Do politické komunikace přináší principy fungující z komerčního marketingu – storytelling\, práci se značkou a jasnou strategii – a zároveň pracuje s emocemi\, které jsou ve volebních kampaních klíčové. \nJejí přístup je praktický\, lidský a srozumitelný. Pomáhá politikům i značkám tvořit obsah\, který je viditelný\, srozumitelný a zapamatovatelný. \n  \nDÉLKA WORKSHOPU– začínáme v 16:00 h\, dostavte se prosíme optimálně v čase 15:50 – 15:59 h– během akce si dáme cca 20 minut pauzu– končíme nejpozději ve 20:00 h \nCO SI MAJÍ ÚČASTNÍCI VZÍT S SEBOU– chytrý telefon s nabitou baterií a nabíječkou\, (příp. notebook\, pokud jste zvyklí na něm stříhat)– jeden nápad nebo téma\, které chcete zpracovat/komunikovat v rámci cvičného videa– ochotu zkoušet a natáčet na místě \nPočet míst na workshopu je omezen na max. 6 osob\, aby byla zachována maximální kvalita a potřebný individuální přstup. \nCO ZA CENU ŠKOLENÍ DOSTANETE– know-how popsané výše– občerstvení v podobě pitného režimu– možnost zúčastnit se individuální online konzultace cca 3 – 4 týdny po workshopu– vytištěná skripta \nPokud máte zájem o individuální termín pro vaši skupinku\, ozvěte se pořadateli – Svatopluk Bartík\, tel. 776 706 868. \n  \n#politický_marketing#komunální_volby#krajské_volby#senátní_volby#jak_úspěšně_kandidovat#reels#shorts#na_hastaghu_záleží \n\nTento tip na kulturní akci v Brno najdete v přehledu na Dnesnivylet.cz spolu s dalšími koncerty\, festivaly a divadelními představeními.Každý si vybere co se mu líbí. Nezapomeňte koupit vstupenky včas\, stačí kliknout a budete přesměrování na oficiálního prodejce vstupenek.
URL:https://dnesnivylet.cz/event/politicka-videa-a-reels-obsah-pro-lidi-i-algoritmy/
LOCATION:Clubco Brno Vlněna\, Brno\, Clubco Brno Vlněna\, Brno\, Česká republika
CATEGORIES:Zábava
ATTACH;FMTTYPE=image/jpeg:https://dnesnivylet.cz/wp-content/uploads/2026/02/320-e218ab8c611a4b41804438de0d5cd312.jpg
END:VEVENT
BEGIN:VEVENT
DTSTART;TZID=Europe/Prague:20251119T093000
DTEND;TZID=Europe/Prague:20251119T123000
DTSTAMP:20260420T022036
CREATED:20251105T193127Z
LAST-MODIFIED:20251105T193127Z
UID:12673-1763544600-1763555400@dnesnivylet.cz
SUMMARY:ROVNÁ NEJISTOTA: Podzimní konference Comp&Ben Asociace!
DESCRIPTION:ROVNÁ NEJISTOTA: Podzimní konference Comp&Ben Asociace! se uskuteční dne 2025-11-19 v 09:30 v Praha\, STAGES HOTEL Prague. \n🎟️ Koupit vstupenku \n\nDruhý ročník jediné konference o odměňování v ČR je tady! Podzimní konference Comp&Ben Asociace! je tematickou konferencí v ČR zaměřenou pouze na téma odměňování! \nVyužijte jedinečnou příležitost setkat s dalšími členy Asociace a zástupci úspěšných firem a získat nejaktuálnější informace o dění v našem tématu. Členové Asociace mají přednostní rezervaci pro své zástupce\, ale rádi přivítáme také Vás\, další zájemce z řad HR a manažerů firem. Věříme\, že po účasti na této konferenci už budete na oblast odměňování pohlížet jinak a přidáte se k naší Comp&Ben Asociaci!.  \nPlatba za vstupenku přes tento portál je možná pouze \n\nplatební kartou\npřevodem na účet\napple pay\napple Pay na PC\nslužbou Paypal\n\nPokud ani jedna z těchto možností není pro vaši firmu vhodná\, prosím\, napište nám na klara.vackova@compenben.eu a do emailu napište IČO firmy\, a my Vám vstupenky vystavíme na fakturu. \nDěkujeme za pochopení. Tým CBA! \n  \nDalší detailní informace k akci naleznete na: https://www.compenben.eu/podzimni-konference-compenben-asociace-2025 \n\nTento tip na kulturní akci v Praha najdete v přehledu na Dnesnivylet.cz spolu s dalšími koncerty\, festivaly a divadelními představeními.Každý si vybere co se mu líbí. Nezapomeňte koupit vstupenky včas\, stačí kliknout a budete přesměrování na oficiálního prodejce vstupenek.
URL:https://dnesnivylet.cz/event/rovna-nejistota-podzimni-konference-compben-asociace/
LOCATION:STAGES HOTEL Prague\, Praha\, STAGES HOTEL Prague\, Praha\, Česká republika
CATEGORIES:Zábava
ATTACH;FMTTYPE=image/jpeg:https://dnesnivylet.cz/wp-content/uploads/2025/11/320-101e1f05ce704bcfb4eaa5611e515214.jpg
END:VEVENT
END:VCALENDAR