BEGIN:VCALENDAR
VERSION:2.0
PRODID:-//www.dnesnivylet.cz                                                                                                                        Tip na výlet pro celou rodinu. - ECPv6.15.13.1//NONSGML v1.0//EN
CALSCALE:GREGORIAN
METHOD:PUBLISH
X-WR-CALNAME:www.dnesnivylet.cz                                                                                                                        Tip na výlet pro celou rodinu.
X-ORIGINAL-URL:https://dnesnivylet.cz
X-WR-CALDESC:Akce na www.dnesnivylet.cz                                                                                                                        Tip na výlet pro celou rodinu.
REFRESH-INTERVAL;VALUE=DURATION:PT1H
X-Robots-Tag:noindex
X-PUBLISHED-TTL:PT1H
BEGIN:VTIMEZONE
TZID:Europe/Prague
BEGIN:DAYLIGHT
TZOFFSETFROM:+0100
TZOFFSETTO:+0200
TZNAME:CEST
DTSTART:20250330T010000
END:DAYLIGHT
BEGIN:STANDARD
TZOFFSETFROM:+0200
TZOFFSETTO:+0100
TZNAME:CET
DTSTART:20251026T010000
END:STANDARD
BEGIN:DAYLIGHT
TZOFFSETFROM:+0100
TZOFFSETTO:+0200
TZNAME:CEST
DTSTART:20260329T010000
END:DAYLIGHT
BEGIN:STANDARD
TZOFFSETFROM:+0200
TZOFFSETTO:+0100
TZNAME:CET
DTSTART:20261025T010000
END:STANDARD
BEGIN:DAYLIGHT
TZOFFSETFROM:+0100
TZOFFSETTO:+0200
TZNAME:CEST
DTSTART:20270328T010000
END:DAYLIGHT
BEGIN:STANDARD
TZOFFSETFROM:+0200
TZOFFSETTO:+0100
TZNAME:CET
DTSTART:20271031T010000
END:STANDARD
END:VTIMEZONE
BEGIN:VEVENT
DTSTART;TZID=Europe/Prague:20260417T193000
DTEND;TZID=Europe/Prague:20260417T223000
DTSTAMP:20260419T154532
CREATED:20260222T142335Z
LAST-MODIFIED:20260222T142335Z
UID:18448-1776454200-1776465000@dnesnivylet.cz
SUMMARY:Hey\, Earth! – Cirk La Putyka
DESCRIPTION:Hey\, Earth! – Cirk La Putyka se uskuteční dne 2026-04-17 v 19:30 v Brno\, Industra. \n🎟️ Koupit vstupenku \n\nFascinující cesta pohybovým divadlem a mezilidskou komunikací. \nPředstavení Hey\, Earth! vás zve na cestu do světa\, kde se mísí pohybové divadlo\, nový cirkus a vizuální umění. Ocitnete se v prostředí plném rituálů\, fantazie a hledání porozumění\, ve kterém každý pohyb a objekt na scéně mají svůj význam. \nTento experimentální projekt Cirku La Putyka a režiséra Thomase Steyaerta záměrně vykračuje z očekávání diváků. Zkoumá hranice lidské komunikace a vytváří napětí nejen skrze akrobatické výkony\, ale i skrze minimalismus\, ticho a statické obrazy. Scéna plná objektů\, které performeři používají k budování i dekonstrukci světa kolem sebe\, otevírá prostor pro představivost. \nNa rozdíl od tradičního cirkusu jedno číslo nestřídá druhé. Cirkus se objevuje a mizí\, což pomáhá vytvářet jedinečné emoce. Představení tak navazuje na dřívější projekty Cirku La Putyka\, jako byly Black Black Woods nebo Hit\, Tell the Difference. \nHey\, Earth! nabízí nejen vizuální zážitek\, ale i hluboké zamyšlení nad lidskými hodnotami a vztahy v době plné konfliktů a nejistoty. Atmosféru umocňuje hudba Jana Balcara a Veroniky Linhartové. \nPojďte s námi experimentovat a objevte svět\, ve kterém každý detail vypráví jiný příběh. \n  \nDélka představení je 70 minut\, vhodné od 10 let\, částečně česky\, anglicky \nV představení jsou na několika místech použita prudká stroboskopická světla a hlasitá hudba. Pokud jste citliví na tyto podněty\, buďte opatrní\, případně zvažte návštěvu jiných inscenací. \nV případě individuálních potřeb na místo pro hendikepované v sále či zlevněného místa pro průvodce ZTP nás před koupí vstupenky kontaktujte na stage@industra.space \nPo začátku představení nebude umožněn vstup do hlediště. Hodinu před začátkem bude otevřený INDUSTRA divadelní bar\, který zůstane otevřený i po představení podle zájmu návštěvníků. \n\nTento tip na kulturní akci v Brno najdete v přehledu na Dnesnivylet.cz spolu s dalšími koncerty\, festivaly a divadelními představeními.Každý si vybere co se mu líbí. Nezapomeňte koupit vstupenky včas\, stačí kliknout a budete přesměrování na oficiálního prodejce vstupenek.
URL:https://dnesnivylet.cz/event/hey-earth-cirk-la-putyka/
LOCATION:Industra\, Brno\, Industra\, Brno\, Česká republika
CATEGORIES:Divadlo
ATTACH;FMTTYPE=image/jpeg:https://dnesnivylet.cz/wp-content/uploads/2026/02/320-6dc54c7b49af4ebdbd84dae417b4e825.jpg
END:VEVENT
END:VCALENDAR