BEGIN:VCALENDAR
VERSION:2.0
PRODID:-//www.dnesnivylet.cz                                                                                                                        Tip na výlet pro celou rodinu. - ECPv6.15.13.1//NONSGML v1.0//EN
CALSCALE:GREGORIAN
METHOD:PUBLISH
X-WR-CALNAME:www.dnesnivylet.cz                                                                                                                        Tip na výlet pro celou rodinu.
X-ORIGINAL-URL:https://dnesnivylet.cz
X-WR-CALDESC:Akce na www.dnesnivylet.cz                                                                                                                        Tip na výlet pro celou rodinu.
REFRESH-INTERVAL;VALUE=DURATION:PT1H
X-Robots-Tag:noindex
X-PUBLISHED-TTL:PT1H
BEGIN:VTIMEZONE
TZID:Europe/Prague
BEGIN:DAYLIGHT
TZOFFSETFROM:+0100
TZOFFSETTO:+0200
TZNAME:CEST
DTSTART:20240331T010000
END:DAYLIGHT
BEGIN:STANDARD
TZOFFSETFROM:+0200
TZOFFSETTO:+0100
TZNAME:CET
DTSTART:20241027T010000
END:STANDARD
BEGIN:DAYLIGHT
TZOFFSETFROM:+0100
TZOFFSETTO:+0200
TZNAME:CEST
DTSTART:20250330T010000
END:DAYLIGHT
BEGIN:STANDARD
TZOFFSETFROM:+0200
TZOFFSETTO:+0100
TZNAME:CET
DTSTART:20251026T010000
END:STANDARD
BEGIN:DAYLIGHT
TZOFFSETFROM:+0100
TZOFFSETTO:+0200
TZNAME:CEST
DTSTART:20260329T010000
END:DAYLIGHT
BEGIN:STANDARD
TZOFFSETFROM:+0200
TZOFFSETTO:+0100
TZNAME:CET
DTSTART:20261025T010000
END:STANDARD
BEGIN:DAYLIGHT
TZOFFSETFROM:+0100
TZOFFSETTO:+0200
TZNAME:CEST
DTSTART:20270328T010000
END:DAYLIGHT
BEGIN:STANDARD
TZOFFSETFROM:+0200
TZOFFSETTO:+0100
TZNAME:CET
DTSTART:20271031T010000
END:STANDARD
END:VTIMEZONE
BEGIN:VEVENT
DTSTART;TZID=Europe/Prague:20260405T103000
DTEND;TZID=Europe/Prague:20260405T133000
DTSTAMP:20260419T213852
CREATED:20260310T173310Z
LAST-MODIFIED:20260310T173310Z
UID:19420-1775385000-1775395800@dnesnivylet.cz
SUMMARY:Divadelní spolek Jaromír – Inspektor Kluzó
DESCRIPTION:Divadelní spolek Jaromír – Inspektor Kluzó  se uskuteční dne 2026-04-05 v 10:30 v Moravský Krumlov\, Kulturní a kreativní centrum. \n🎟️ Koupit vstupenku \n\nInspektor Kluzó vyšetřil i nevyšetřitelné \nHumorné představení Nejvíc detektivní pohádky o inspektorovi Kluzó. \nSoubor tvoří manželská dvojice “klaunů” Jarky a Miroslava Sýkorových. \nNeuvěřitelně vtipná dvojice\, která ovládá transgenerační humor. Přijďte se smát\, až za břicho se popadat! \n\nTento tip na kulturní akci v Moravský Krumlov najdete v přehledu na Dnesnivylet.cz spolu s dalšími koncerty\, festivaly a divadelními představeními.Každý si vybere co se mu líbí. Nezapomeňte koupit vstupenky včas\, stačí kliknout a budete přesměrování na oficiálního prodejce vstupenek.
URL:https://dnesnivylet.cz/event/divadelni-spolek-jaromir-inspektor-kluzo/
LOCATION:Kulturní a kreativní centrum\, Moravský Krumlov\, Kulturní a kreativní centrum\, Moravský Krumlov\, Česká republika
CATEGORIES:Divadlo
ATTACH;FMTTYPE=image/jpeg:https://dnesnivylet.cz/wp-content/uploads/2026/03/320-007fc203b9ac428fb0c4e4342b636de6.jpg
END:VEVENT
BEGIN:VEVENT
DTSTART;TZID=Europe/Prague:20260226T190000
DTEND;TZID=Europe/Prague:20260226T220000
DTSTAMP:20260419T213852
CREATED:20251020T065225Z
LAST-MODIFIED:20251020T065225Z
UID:8297-1772132400-1772143200@dnesnivylet.cz
SUMMARY:Techtle Mechtle revue I Hostinec u Maruny
DESCRIPTION:Techtle Mechtle revue I Hostinec u Maruny se uskuteční dne 2026-02-26 v 19:00 v Český Krumlov\, Zámecká jízdárna. \n🎟️ Koupit vstupenku \n\nNejvětší česká travesti show Techtle Mechtle přiváží novou divadelní komedii HOSTINEC U MARUNY  \nTechtle Mechtle revue je v současné době nejúspěšnější česká show na poli divadelní scény. V podání Techtle Mechtle se vždy jedná o propracované divadelní představení s výpravnou scénou a více jak 80-ti kostýmy. Všechna představení jsou jednou velkou komedií\, a to od začátku až do konce.Má to jen jeden háček – všechny role\, a to včetně těch dámských\, tu hrají pouze muži a ti jsou navíc k nerozeznání od skutečných žen. Pánové Lukáš\, Martin\, Nikolas a Jarek společně s tanečníky Štěpánem\, Sayem a Danem pro Vás tentokrát připravili další bláznivou komedii z prostředí české vesnické hospody.Rázná hospodská Maruna\, která má nejen celý svůj hostinec\, ale také všechny svoje štamgasty pod palcem a k tomu příběhy\, které píše sám život. Co všechno se dá zažít v jedné vesnické hospůdce během přípravy hasičského plesu\, to uvidíte právě v české hudební komedii „Hostinec u Maruny“. Chybět nebude pořádná dávka českého humoru\, láska\, hospodská rvačka a pivo poteče jak jinak než proudem. Samozřejmě zazní během večera české hospodské písničky\, které si budete broukat ještě na cestě domů a i celý druhý den…Všechna představení jsou vlastní autorskou tvorbou pánů z Techtle Mechtle revue\, a to od scénáře\, přes dialogy\, hudbu\, návrhy scény i kostýmů.  \nNenechte si ujít strhující hudební představení v podání nejúspěšnějších českých travesti umělců a jejich tanečníků. \n  \n\nTento tip na kulturní akci v Český Krumlov najdete v přehledu na Dnesnivylet.cz spolu s dalšími koncerty\, festivaly a divadelními představeními.Každý si vybere co se mu líbí. Nezapomeňte koupit vstupenky včas\, stačí kliknout a budete přesměrování na oficiálního prodejce vstupenek.
URL:https://dnesnivylet.cz/event/techtle-mechtle-revue-i-hostinec-u-maruny/
LOCATION:Zámecká jízdárna\, Český Krumlov\, Zámecká jízdárna\, Český Krumlov\, Česká republika
CATEGORIES:Koncert
ATTACH;FMTTYPE=image/jpeg:https://dnesnivylet.cz/wp-content/uploads/2025/10/320-7ca9da33fa314d49adf67e49f763f8e9-1.jpg
END:VEVENT
BEGIN:VEVENT
DTSTART;TZID=Europe/Prague:20260214T180000
DTEND;TZID=Europe/Prague:20260214T210000
DTSTAMP:20260419T213852
CREATED:20260211T131010Z
LAST-MODIFIED:20260211T131010Z
UID:18112-1771092000-1771102800@dnesnivylet.cz
SUMMARY:Kabaret malých i velkých akrobatů
DESCRIPTION:Kabaret malých i velkých akrobatů se uskuteční dne 2026-02-14 v 18:00 v Jihlava\, DIOD. \n🎟️ Koupit vstupenku \n\nČtvrtý ročník Kabaretu je opět tady! Naši cirkusoví umělci vám předvedou\, že i nemožné je možné. Bude tu závěsná i pozemní akrobacie\, divadlo\, světelná show a hlavně velká zábava. \n\nTento tip na kulturní akci v Jihlava najdete v přehledu na Dnesnivylet.cz spolu s dalšími koncerty\, festivaly a divadelními představeními.Každý si vybere co se mu líbí. Nezapomeňte koupit vstupenky včas\, stačí kliknout a budete přesměrování na oficiálního prodejce vstupenek.
URL:https://dnesnivylet.cz/event/kabaret-malych-i-velkych-akrobatu-3/
LOCATION:DIOD\, Jihlava\, DIOD\, Jihlava\, Česká republika
CATEGORIES:Zábava
ATTACH;FMTTYPE=image/jpeg:https://dnesnivylet.cz/wp-content/uploads/2026/02/320-644c4b1eced04aa388db92a7d70f5fba.jpg
END:VEVENT
BEGIN:VEVENT
DTSTART;TZID=Europe/Prague:20260214T180000
DTEND;TZID=Europe/Prague:20260214T210000
DTSTAMP:20260419T213852
CREATED:20260211T131010Z
LAST-MODIFIED:20260211T131011Z
UID:18113-1771092000-1771102800@dnesnivylet.cz
SUMMARY:Kabaret malých i velkých akrobatů
DESCRIPTION:Kabaret malých i velkých akrobatů se uskuteční dne 2026-02-14 v 18:00 v Jihlava\, DIOD. \n🎟️ Koupit vstupenku \n\nČtvrtý ročník Kabaretu je opět tady! Naši cirkusoví umělci vám předvedou\, že i nemožné je možné. Bude tu závěsná i pozemní akrobacie\, divadlo\, světelná show a hlavně velká zábava. \n\nTento tip na kulturní akci v Jihlava najdete v přehledu na Dnesnivylet.cz spolu s dalšími koncerty\, festivaly a divadelními představeními.Každý si vybere co se mu líbí. Nezapomeňte koupit vstupenky včas\, stačí kliknout a budete přesměrování na oficiálního prodejce vstupenek.
URL:https://dnesnivylet.cz/event/kabaret-malych-i-velkych-akrobatu-4/
LOCATION:DIOD\, Jihlava\, DIOD\, Jihlava\, Česká republika
CATEGORIES:Zábava
ATTACH;FMTTYPE=image/jpeg:https://dnesnivylet.cz/wp-content/uploads/2026/02/320-644c4b1eced04aa388db92a7d70f5fba-1.jpg
END:VEVENT
BEGIN:VEVENT
DTSTART;TZID=Europe/Prague:20260213T190000
DTEND;TZID=Europe/Prague:20260213T220000
DTSTAMP:20260419T213852
CREATED:20260211T131010Z
LAST-MODIFIED:20260211T131010Z
UID:18106-1771009200-1771020000@dnesnivylet.cz
SUMMARY:Kabaret malých i velkých akrobatů
DESCRIPTION:Kabaret malých i velkých akrobatů se uskuteční dne 2026-02-13 v 19:00 v Jihlava\, DIOD. \n🎟️ Koupit vstupenku \n\nČtvrtý ročník Kabaretu je opět tady! Naši cirkusoví umělci vám předvedou\, že i nemožné je možné. Bude tu závěsná i pozemní akrobacie\, divadlo\, světelná show a hlavně velká zábava. \n\nTento tip na kulturní akci v Jihlava najdete v přehledu na Dnesnivylet.cz spolu s dalšími koncerty\, festivaly a divadelními představeními.Každý si vybere co se mu líbí. Nezapomeňte koupit vstupenky včas\, stačí kliknout a budete přesměrování na oficiálního prodejce vstupenek.
URL:https://dnesnivylet.cz/event/kabaret-malych-i-velkych-akrobatu/
LOCATION:DIOD\, Jihlava\, DIOD\, Jihlava\, Česká republika
CATEGORIES:Zábava
ATTACH;FMTTYPE=image/jpeg:https://dnesnivylet.cz/wp-content/uploads/2026/02/320-5ed870774d644c1ba77bfa1f6a0d3281-1.jpg
END:VEVENT
BEGIN:VEVENT
DTSTART;TZID=Europe/Prague:20260213T190000
DTEND;TZID=Europe/Prague:20260213T220000
DTSTAMP:20260419T213852
CREATED:20260211T131010Z
LAST-MODIFIED:20260211T131010Z
UID:18107-1771009200-1771020000@dnesnivylet.cz
SUMMARY:Kabaret malých i velkých akrobatů
DESCRIPTION:Kabaret malých i velkých akrobatů se uskuteční dne 2026-02-13 v 19:00 v Jihlava\, DIOD. \n🎟️ Koupit vstupenku \n\nČtvrtý ročník Kabaretu je opět tady! Naši cirkusoví umělci vám předvedou\, že i nemožné je možné. Bude tu závěsná i pozemní akrobacie\, divadlo\, světelná show a hlavně velká zábava. \n\nTento tip na kulturní akci v Jihlava najdete v přehledu na Dnesnivylet.cz spolu s dalšími koncerty\, festivaly a divadelními představeními.Každý si vybere co se mu líbí. Nezapomeňte koupit vstupenky včas\, stačí kliknout a budete přesměrování na oficiálního prodejce vstupenek.
URL:https://dnesnivylet.cz/event/kabaret-malych-i-velkych-akrobatu-2/
LOCATION:DIOD\, Jihlava\, DIOD\, Jihlava\, Česká republika
CATEGORIES:Zábava
ATTACH;FMTTYPE=image/jpeg:https://dnesnivylet.cz/wp-content/uploads/2026/02/320-5ed870774d644c1ba77bfa1f6a0d3281.jpg
END:VEVENT
BEGIN:VEVENT
DTSTART;TZID=Europe/Prague:20251213T170000
DTEND;TZID=Europe/Prague:20251213T200000
DTSTAMP:20260419T213852
CREATED:20251027T154917Z
LAST-MODIFIED:20251027T154917Z
UID:10441-1765645200-1765656000@dnesnivylet.cz
SUMMARY:Aleš Hrdlička: Orbiting Zero
DESCRIPTION:Aleš Hrdlička: Orbiting Zero se uskuteční dne 2025-12-13 v 17:00 v Jihlava\, DIOD. \n🎟️ Koupit vstupenku \n\nOrbiting Zero je novocirkusové ztvárnění magického realismu využívající žonglování jako hlavní výrazový prostředek a prvky nové magie k rozmazání hranic mezi realitami.  \n\nTento tip na kulturní akci v Jihlava najdete v přehledu na Dnesnivylet.cz spolu s dalšími koncerty\, festivaly a divadelními představeními.Každý si vybere co se mu líbí. Nezapomeňte koupit vstupenky včas\, stačí kliknout a budete přesměrování na oficiálního prodejce vstupenek.
URL:https://dnesnivylet.cz/event/ales-hrdlicka-orbiting-zero/
LOCATION:DIOD\, Jihlava\, DIOD\, Jihlava\, Česká republika
CATEGORIES:Divadlo
ATTACH;FMTTYPE=image/jpeg:https://dnesnivylet.cz/wp-content/uploads/2025/10/320-319799cd74894182b3a6d7ff895fb0fe.jpg
END:VEVENT
END:VCALENDAR