BEGIN:VCALENDAR
VERSION:2.0
PRODID:-//www.dnesnivylet.cz                                                                                                                        Tip na výlet pro celou rodinu. - ECPv6.15.13.1//NONSGML v1.0//EN
CALSCALE:GREGORIAN
METHOD:PUBLISH
X-ORIGINAL-URL:https://dnesnivylet.cz
X-WR-CALDESC:Akce na www.dnesnivylet.cz                                                                                                                        Tip na výlet pro celou rodinu.
REFRESH-INTERVAL;VALUE=DURATION:PT1H
X-Robots-Tag:noindex
X-PUBLISHED-TTL:PT1H
BEGIN:VTIMEZONE
TZID:Europe/Prague
BEGIN:DAYLIGHT
TZOFFSETFROM:+0100
TZOFFSETTO:+0200
TZNAME:CEST
DTSTART:20250330T010000
END:DAYLIGHT
BEGIN:STANDARD
TZOFFSETFROM:+0200
TZOFFSETTO:+0100
TZNAME:CET
DTSTART:20251026T010000
END:STANDARD
BEGIN:DAYLIGHT
TZOFFSETFROM:+0100
TZOFFSETTO:+0200
TZNAME:CEST
DTSTART:20260329T010000
END:DAYLIGHT
BEGIN:STANDARD
TZOFFSETFROM:+0200
TZOFFSETTO:+0100
TZNAME:CET
DTSTART:20261025T010000
END:STANDARD
BEGIN:DAYLIGHT
TZOFFSETFROM:+0100
TZOFFSETTO:+0200
TZNAME:CEST
DTSTART:20270328T010000
END:DAYLIGHT
BEGIN:STANDARD
TZOFFSETFROM:+0200
TZOFFSETTO:+0100
TZNAME:CET
DTSTART:20271031T010000
END:STANDARD
END:VTIMEZONE
BEGIN:VEVENT
DTSTART;TZID=Europe/Prague:20260415T190000
DTEND;TZID=Europe/Prague:20260415T220000
DTSTAMP:20260419T164812
CREATED:20260106T121320Z
LAST-MODIFIED:20260106T121321Z
UID:16509-1776279600-1776290400@dnesnivylet.cz
SUMMARY:Michael Szatmary - Lokálny sexsymbol - Stand-up speciál
DESCRIPTION:Michael Szatmary – Lokálny sexsymbol – Stand-up speciál se uskuteční dne 2026-04-15 v 19:00 v Nymburk\, Kino Sokol. \n🎟️ Koupit vstupenku \n\nMichael Szatmary\, jedno z největších a nejzářivějších jmen slovenské stand-up komediální scény\, který je velmi oblíbený i českým publikem\, vyráží na turné se svým Stand-up comedy speciálem. \nMůžete se těšit na 80. minutovou show\, ve které vás Michael nebude šetřit a celý večer se budete smát jeho nejlepším historkám. \n\nTento tip na kulturní akci v Nymburk najdete v přehledu na Dnesnivylet.cz spolu s dalšími koncerty\, festivaly a divadelními představeními.Každý si vybere co se mu líbí. Nezapomeňte koupit vstupenky včas\, stačí kliknout a budete přesměrování na oficiálního prodejce vstupenek.
URL:https://dnesnivylet.cz/event/michael-szatmary-lokalny-sexsymbol-stand-up-special-6/
LOCATION:Kino Sokol\, Nymburk\, Kino Sokol\, Nymburk\, Česká republika
CATEGORIES:Zábava
ATTACH;FMTTYPE=image/jpeg:https://dnesnivylet.cz/wp-content/uploads/2026/01/320-113e0b36e54f40b48174d2a8b2a94cf9.jpg
END:VEVENT
BEGIN:VEVENT
DTSTART;TZID=Europe/Prague:20260417T190000
DTEND;TZID=Europe/Prague:20260417T220000
DTSTAMP:20260419T164812
CREATED:20251108T171302Z
LAST-MODIFIED:20251108T171302Z
UID:13034-1776452400-1776463200@dnesnivylet.cz
SUMMARY:ŠVANCI SHOW - JÁ SU JÁ - Nymburk
DESCRIPTION:ŠVANCI SHOW – JÁ SU JÁ – Nymburk se uskuteční dne 2026-04-17 v 19:00 v Nymburk\, Obecní dům Kokos. \n🎟️ Koupit vstupenku \n\nNová zábavná show „JÁ SU JÁ“ vyráží na TOUR po celé České republice. \nČekají vás vtipné historky\, od kariéry fotbalisty\, velkolepé rozlučky za Lužánkami\, návštěv různých zábavních pořadů\, až po účast v reality show Survivor. Dále se těšte na prostor pro otázky na tělo\, autogramiádu\, focení a mnoho dalšího. \nJak moc dobře mě znáš? Jak vypadá můj život po kariéře fotbalisty? Chceš znát více informací o reality show Surviror? \nNejen to se dozvíš ve zbrusu nové zábavné show „JÁ SU JÁ“. \nPřijď se podívat a užít si legraci\, popovídat si s legendou fotbalu\, moderátorem\, bavičem a dát si třeba fotku\, nebo si nechat cokoliv podepsat. \nPořad není vhodný mladším 15 let! \n\nTento tip na kulturní akci v Nymburk najdete v přehledu na Dnesnivylet.cz spolu s dalšími koncerty\, festivaly a divadelními představeními.Každý si vybere co se mu líbí. Nezapomeňte koupit vstupenky včas\, stačí kliknout a budete přesměrování na oficiálního prodejce vstupenek.
URL:https://dnesnivylet.cz/event/svanci-show-ja-su-ja-nymburk/
LOCATION:Obecní dům Kokos\, Nymburk\, Obecní dům Kokos\, Nymburk\, Česká republika
CATEGORIES:Zábava
ATTACH;FMTTYPE=image/jpeg:https://dnesnivylet.cz/wp-content/uploads/2025/11/320-0976b9903c014b08b3f96e75f6b9ac78.jpg
END:VEVENT
BEGIN:VEVENT
DTSTART;TZID=Europe/Prague:20260512T190000
DTEND;TZID=Europe/Prague:20260512T220000
DTSTAMP:20260419T164812
CREATED:20260103T095323Z
LAST-MODIFIED:20260103T095323Z
UID:16129-1778612400-1778623200@dnesnivylet.cz
SUMMARY:Hudba Coldplay při svíčkách
DESCRIPTION:Hudba Coldplay při svíčkách se uskuteční dne 2026-05-12 v 19:00 v Nymburk\, Obecní dům Kokos. \n🎟️ Koupit vstupenku \n\nNenechte si ujít večer plný energie a emocí\, kde zazní ty největší hity britské kapely Coldplay. Světlo stovky svíček vytvoří nezapomenutelnou atmosféru tohoto jedinečného koncertu. \nProgram v podání smyčcového kvarteta nabídne výběr těch nejznámějších skladeb Coldplay\, včetně hitů jako „Fix You“\, „Yellow“ či „Viva La Vida“\, které si získaly srdce fanoušků po celém světě. \nTento koncert přinese víc než jen hudbu; stovky svíček rozzáří prostor a vytvoří atmosféru plnou emocí\, melancholie a nezapomenutelných melodií\, které vás vezmou na hudební cestu s Coldplay. \nAkce je přístupná od 12 let. Každý účastník musí předložit platnou vstupenku  zakoupenou výhradně v síti smsticket. \n\nTento tip na kulturní akci v Nymburk najdete v přehledu na Dnesnivylet.cz spolu s dalšími koncerty\, festivaly a divadelními představeními.Každý si vybere co se mu líbí. Nezapomeňte koupit vstupenky včas\, stačí kliknout a budete přesměrování na oficiálního prodejce vstupenek.
URL:https://dnesnivylet.cz/event/hudba-coldplay-pri-svickach-22/
LOCATION:Obecní dům Kokos\, Nymburk\, Obecní dům Kokos\, Nymburk\, Česká republika
CATEGORIES:Koncert
ATTACH;FMTTYPE=image/jpeg:https://dnesnivylet.cz/wp-content/uploads/2026/01/320-4b59ade050904529ac8f54e84fdbc286.jpg
END:VEVENT
END:VCALENDAR