BEGIN:VCALENDAR
VERSION:2.0
PRODID:-//www.dnesnivylet.cz                                                                                                                        Tip na výlet pro celou rodinu. - ECPv6.15.13.1//NONSGML v1.0//EN
CALSCALE:GREGORIAN
METHOD:PUBLISH
X-ORIGINAL-URL:https://dnesnivylet.cz
X-WR-CALDESC:Akce na www.dnesnivylet.cz                                                                                                                        Tip na výlet pro celou rodinu.
REFRESH-INTERVAL;VALUE=DURATION:PT1H
X-Robots-Tag:noindex
X-PUBLISHED-TTL:PT1H
BEGIN:VTIMEZONE
TZID:Europe/Prague
BEGIN:DAYLIGHT
TZOFFSETFROM:+0100
TZOFFSETTO:+0200
TZNAME:CEST
DTSTART:20250330T010000
END:DAYLIGHT
BEGIN:STANDARD
TZOFFSETFROM:+0200
TZOFFSETTO:+0100
TZNAME:CET
DTSTART:20251026T010000
END:STANDARD
BEGIN:DAYLIGHT
TZOFFSETFROM:+0100
TZOFFSETTO:+0200
TZNAME:CEST
DTSTART:20260329T010000
END:DAYLIGHT
BEGIN:STANDARD
TZOFFSETFROM:+0200
TZOFFSETTO:+0100
TZNAME:CET
DTSTART:20261025T010000
END:STANDARD
BEGIN:DAYLIGHT
TZOFFSETFROM:+0100
TZOFFSETTO:+0200
TZNAME:CEST
DTSTART:20270328T010000
END:DAYLIGHT
BEGIN:STANDARD
TZOFFSETFROM:+0200
TZOFFSETTO:+0100
TZNAME:CET
DTSTART:20271031T010000
END:STANDARD
END:VTIMEZONE
BEGIN:VEVENT
DTSTART;TZID=Europe/Prague:20260425T183000
DTEND;TZID=Europe/Prague:20260425T213000
DTSTAMP:20260419T165253
CREATED:20260419T123311Z
LAST-MODIFIED:20260419T123312Z
UID:21023-1777141800-1777152600@dnesnivylet.cz
SUMMARY:Úvod do současné trapnosti
DESCRIPTION:Úvod do současné trapnosti se uskuteční dne 2026-04-25 v 18:30 v Olomouc\, nacucky!. \n🎟️ Koupit vstupenku \n\nInstruktáž k radostnému přežívání na trhu práce 🙂 \nVítejte ve světě\, kde se od naděje směřuje rovnou k rezignaci – a ještě se u toho smějete. Divadelní adaptace stejnojmenné knihy Jakuba Ryšky a Pavla Šplíchala\, vzniklé na základě oceňovaného blogu Prigl.cz\, vás sarkasticky provede životními fázemi člověka ve společnosti pozdního kapitalismu: od školních lavic přes nekonečné porady a třísměnné provozy až po touhu po klidu (nebo aspoň přestávce na oběd). \nInscenace sleduje trojici spolužáků\, kteří do dospělosti vyrážejí z různých startovních pozic – jeden z chudé vísky\, druhý z dobře situované rodiny a třetí někde mezi. A přestože všichni prošli tím samým vzdělávacím systémem a životními milníky\, brzy zjistí\, že rovné příležitosti neexistují. \nTahle „veselá instruktáž“ se nebojí pozurážet celou střední třídu – a dělá to s odzbrojující upřímností a nakažlivým humorem. Tvůrci inscenace\, režijní tandem Adam Svozil a Kristýna Jankovcová\, pojali předlohu jako zábavné školení o životě v systému\, kde hezkou budoucnost slibuje leda náborový leták. \nOd naděje k rezignaci vás provede herecké trio: Radka Caldová\, Tomáš Žilinský a Marek Kristián Hochman. Společně vytvářejí koláž ze scének\, blogových postřehů\, osobních příběhů a absurdních poznámek z pracovního i osobního života. Skutečné krásy je ve světě třísměnných provozů pramálo\, a tak si ji musíme vyrobit sami – třeba v divadle. \n💥 Inscenace je vhodná pro ty\, kdo: \n\nprávě vstupují na trh práce\, procházejí prvním „rozčarováním ze života“ nebo se zrovna ocitli ve fázi: „Takhle jako fakt vypadá dospělost?“\nznají absurditu korporátní kultury.\njsou fanynkami a fanoušky sarkasmu\, ironie a současné satiry a věcem\, které jsou k pláči\, se raději zasmějí.\n\n  \n#černákomedie #zeživota #prostudenty #proabsolventy #upřímný #90minutovka \n\nTento tip na kulturní akci v Olomouc najdete v přehledu na Dnesnivylet.cz spolu s dalšími koncerty\, festivaly a divadelními představeními.Každý si vybere co se mu líbí. Nezapomeňte koupit vstupenky včas\, stačí kliknout a budete přesměrování na oficiálního prodejce vstupenek.
URL:https://dnesnivylet.cz/event/uvod-do-soucasne-trapnosti/
LOCATION:nacucky!\, Olomouc\, nacucky!\, Olomouc\, Česká republika
CATEGORIES:Divadlo
ATTACH;FMTTYPE=image/jpeg:https://dnesnivylet.cz/wp-content/uploads/2026/04/320-63b09884124f4cbc8dade4b18129153e.jpg
END:VEVENT
END:VCALENDAR