BEGIN:VCALENDAR
VERSION:2.0
PRODID:-//www.dnesnivylet.cz                                                                                                                        Tip na výlet pro celou rodinu. - ECPv6.15.13.1//NONSGML v1.0//EN
CALSCALE:GREGORIAN
METHOD:PUBLISH
X-WR-CALNAME:www.dnesnivylet.cz                                                                                                                        Tip na výlet pro celou rodinu.
X-ORIGINAL-URL:https://dnesnivylet.cz
X-WR-CALDESC:Akce na www.dnesnivylet.cz                                                                                                                        Tip na výlet pro celou rodinu.
REFRESH-INTERVAL;VALUE=DURATION:PT1H
X-Robots-Tag:noindex
X-PUBLISHED-TTL:PT1H
BEGIN:VTIMEZONE
TZID:Europe/Prague
BEGIN:DAYLIGHT
TZOFFSETFROM:+0100
TZOFFSETTO:+0200
TZNAME:CEST
DTSTART:20250330T010000
END:DAYLIGHT
BEGIN:STANDARD
TZOFFSETFROM:+0200
TZOFFSETTO:+0100
TZNAME:CET
DTSTART:20251026T010000
END:STANDARD
BEGIN:DAYLIGHT
TZOFFSETFROM:+0100
TZOFFSETTO:+0200
TZNAME:CEST
DTSTART:20260329T010000
END:DAYLIGHT
BEGIN:STANDARD
TZOFFSETFROM:+0200
TZOFFSETTO:+0100
TZNAME:CET
DTSTART:20261025T010000
END:STANDARD
BEGIN:DAYLIGHT
TZOFFSETFROM:+0100
TZOFFSETTO:+0200
TZNAME:CEST
DTSTART:20270328T010000
END:DAYLIGHT
BEGIN:STANDARD
TZOFFSETFROM:+0200
TZOFFSETTO:+0100
TZNAME:CET
DTSTART:20271031T010000
END:STANDARD
END:VTIMEZONE
BEGIN:VEVENT
DTSTART;TZID=Europe/Prague:20260427T183000
DTEND;TZID=Europe/Prague:20260427T213000
DTSTAMP:20260419T165146
CREATED:20260419T123311Z
LAST-MODIFIED:20260419T123311Z
UID:21020-1777314600-1777325400@dnesnivylet.cz
SUMMARY:BLAHObytí
DESCRIPTION:BLAHObytí se uskuteční dne 2026-04-27 v 18:30 v Olomouc\, nacucky!. \n🎟️ Koupit vstupenku \n\nTři příběhy o zběsilosti lidského bytí. \nŽijeme v době a na místě\, kdy a kde nám nic nechybí. Měli bychom být šťastní. Všichni kolem jsou šťastní. Ale co když se do našeho mikrosvěta plného blaha vloudí chybička? Když nemáme s kým být blažení. Když nemáme proč být blažení. Anebo když nám dokonce připadá bytí zbytečné? \nNěkdy slýcháme\, že si v Česku žijeme dobře\, existujeme v blahobytu. Opravdu u nás není hladomor a naše země se nenachází ve válce. Proč se tedy trápíme\, když nám nikdy nebylo lépe? Autorská inscenace BLAHObytí se na tyto otázky snaží hledat odpovědi prostřednictvím příběhů tří bytostí existujících v různých interakcích. Uvidíte člověka v milostném vztahu\, člověka v práci a člověka v dnešním světě\, který je stižen klimatickou krizí.  \nBLAHObytí klade otázky\, ale nenabízí jednoduché odpovědi. Ukazuje\, že nepochopení\, nejistota a strach nejsou osamocené pocity – sdílíme je společně. Tři příběhy se protínají v místě nového začátku. Vždy totiž zbývá naděje a vždy je možný šťastný konec.    \n💥 Inscenace je vhodná pro ty\, kdo: \n\nse zajímají o lidskou psychiku a o příběhy\, „které psal sám život”\nby rádi viděli autorskou inscenaci vznikající přímo na místě kolektivním tvůrčím procesem\nsi rádi v divadle zapřemýšlí i odpočinou zároveň\n\n#hloubavý #autentický #nanicsinehraje #zeživota #psychickézdraví #60minutovka \n  \nHrají \nAndrea Uhlík Berecková \nMatěj Šumbera \nTáňa Malíková \n  \nVýprava \nErika Majdišová \n  \nRežie \nTomáš Loužný \n  \nDramaturgie \nLenka Dombrovská \n  \nText \nTomáš Loužný \n  \npremiéra \n14.03.2025 \n\nTento tip na kulturní akci v Olomouc najdete v přehledu na Dnesnivylet.cz spolu s dalšími koncerty\, festivaly a divadelními představeními.Každý si vybere co se mu líbí. Nezapomeňte koupit vstupenky včas\, stačí kliknout a budete přesměrování na oficiálního prodejce vstupenek.
URL:https://dnesnivylet.cz/event/blahobyti-4/
LOCATION:nacucky!\, Olomouc\, nacucky!\, Olomouc\, Česká republika
CATEGORIES:Divadlo
ATTACH;FMTTYPE=image/jpeg:https://dnesnivylet.cz/wp-content/uploads/2026/04/320-9a73f68ca325483a83558c74538eaaa2.jpg
END:VEVENT
BEGIN:VEVENT
DTSTART;TZID=Europe/Prague:20260427T190000
DTEND;TZID=Europe/Prague:20260427T220000
DTSTAMP:20260419T165146
CREATED:20251102T182100Z
LAST-MODIFIED:20251102T182101Z
UID:11169-1777316400-1777327200@dnesnivylet.cz
SUMMARY:TOMEŠOU 2: The best of Pavel Tomeš (stand-up speciál)
DESCRIPTION:TOMEŠOU 2: The best of Pavel Tomeš (stand-up speciál) se uskuteční dne 2026-04-27 v 19:00 v Olomouc\, Kino Metropol. \n🎟️ Koupit vstupenku \n\nTOMEŠOU 2: The best of Pavel Tomeš (stand up speciál). \nTomešou je celovečerní one man show Pavla Tomeše\, kterého můžete znát z TV pořadů Comedy club nebo Na stojáka. Tematicky pestrá stand-up comedy show\, která nabídne to nejlepší z posledních let\, prostě The best of Pavel Tomeš. Něco možná znáte\, ale chcete to slyšet naživo\, a zbytek znát určitě nebudete. \nPřijďte se od srdce zasmát. \nPokud jste byli na Tomešou\, nebojte! Tomešou 2 bude obsahovat jiné standupy.  \n\nTento tip na kulturní akci v Olomouc najdete v přehledu na Dnesnivylet.cz spolu s dalšími koncerty\, festivaly a divadelními představeními.Každý si vybere co se mu líbí. Nezapomeňte koupit vstupenky včas\, stačí kliknout a budete přesměrování na oficiálního prodejce vstupenek.
URL:https://dnesnivylet.cz/event/tomesou-2-the-best-of-pavel-tomes-stand-up-special-2/
LOCATION:Kino Metropol\, Olomouc\, Kino Metropol\, Olomouc\, Česká republika
CATEGORIES:Zábava
ATTACH;FMTTYPE=image/jpeg:https://dnesnivylet.cz/wp-content/uploads/2025/11/320-f79c1be542ff4873b611600e496a832f.jpg
END:VEVENT
END:VCALENDAR