BEGIN:VCALENDAR
VERSION:2.0
PRODID:-//www.dnesnivylet.cz                                                                                                                        Tip na výlet pro celou rodinu. - ECPv6.15.13.1//NONSGML v1.0//EN
CALSCALE:GREGORIAN
METHOD:PUBLISH
X-ORIGINAL-URL:https://dnesnivylet.cz
X-WR-CALDESC:Akce na www.dnesnivylet.cz                                                                                                                        Tip na výlet pro celou rodinu.
REFRESH-INTERVAL;VALUE=DURATION:PT1H
X-Robots-Tag:noindex
X-PUBLISHED-TTL:PT1H
BEGIN:VTIMEZONE
TZID:Europe/Prague
BEGIN:DAYLIGHT
TZOFFSETFROM:+0100
TZOFFSETTO:+0200
TZNAME:CEST
DTSTART:20250330T010000
END:DAYLIGHT
BEGIN:STANDARD
TZOFFSETFROM:+0200
TZOFFSETTO:+0100
TZNAME:CET
DTSTART:20251026T010000
END:STANDARD
BEGIN:DAYLIGHT
TZOFFSETFROM:+0100
TZOFFSETTO:+0200
TZNAME:CEST
DTSTART:20260329T010000
END:DAYLIGHT
BEGIN:STANDARD
TZOFFSETFROM:+0200
TZOFFSETTO:+0100
TZNAME:CET
DTSTART:20261025T010000
END:STANDARD
BEGIN:DAYLIGHT
TZOFFSETFROM:+0100
TZOFFSETTO:+0200
TZNAME:CEST
DTSTART:20270328T010000
END:DAYLIGHT
BEGIN:STANDARD
TZOFFSETFROM:+0200
TZOFFSETTO:+0100
TZNAME:CET
DTSTART:20271031T010000
END:STANDARD
BEGIN:DAYLIGHT
TZOFFSETFROM:+0100
TZOFFSETTO:+0200
TZNAME:CEST
DTSTART:20280326T010000
END:DAYLIGHT
BEGIN:STANDARD
TZOFFSETFROM:+0200
TZOFFSETTO:+0100
TZNAME:CET
DTSTART:20281029T010000
END:STANDARD
END:VTIMEZONE
BEGIN:VEVENT
DTSTART;TZID=Europe/Prague:20260524T190000
DTEND;TZID=Europe/Prague:20260524T220000
DTSTAMP:20260419T225944
CREATED:20251105T191816Z
LAST-MODIFIED:20251105T191816Z
UID:12544-1779649200-1779660000@dnesnivylet.cz
SUMMARY:Martin Hranáč - CRAZY SHOW - Olomouc
DESCRIPTION:Martin Hranáč – CRAZY SHOW – Olomouc se uskuteční dne 2026-05-24 v 19:00 v Olomouc\, Kino Metropol. \n🎟️ Koupit vstupenku \n\nChcete vstoupit do světa humoru a improvizace? Tak je CRAZY SHOW právě pro VÁS! Připravte se na nezapomenutelný večer plný smíchu s Martinem Hranáčem – komikem\, hercem\, číšníkem a optimistou\, který svým jedinečným smyslem pro humor baví lidi na sociálních sítích. Martinův příběh číšníka a jeho každodenní zážitky z gastronomie se stávají zábavným vyprávěním\, které osloví naprosto všechny. \nKaždé vystoupení je unikátní a plné improvizace\, protože Martin miluje improvizaci a scénáře mění v průběhu večera\, což občas vykolejí jeho sestru Štěpánku Šmídovou\, která mu dělá skvělou společnost během celé show. Všechny scénky a historky vychází z Martinových zkušeností a zážitků\, jak profesního\, tak soukromého života. Jeho humor je nekorektní\, sebeironický a nebojí se jít na hranu – právě to dělá jeho show nezapomenutelnou! \nNenechte si ujít tento jedinečný zážitek! Vstupenky v prodeji! \nPořad není vhodný mladším 15 let! \n\nTento tip na kulturní akci v Olomouc najdete v přehledu na Dnesnivylet.cz spolu s dalšími koncerty\, festivaly a divadelními představeními.Každý si vybere co se mu líbí. Nezapomeňte koupit vstupenky včas\, stačí kliknout a budete přesměrování na oficiálního prodejce vstupenek.
URL:https://dnesnivylet.cz/event/martin-hranac-crazy-show-olomouc-3/
LOCATION:Kino Metropol\, Olomouc\, Kino Metropol\, Olomouc\, Česká republika
CATEGORIES:Zábava
ATTACH;FMTTYPE=image/jpeg:https://dnesnivylet.cz/wp-content/uploads/2025/11/320-e20242277efc4765a1fe033b2fe0b0d8.jpg
END:VEVENT
BEGIN:VEVENT
DTSTART;TZID=Europe/Prague:20260525T190000
DTEND;TZID=Europe/Prague:20260525T220000
DTSTAMP:20260419T225944
CREATED:20251105T191816Z
LAST-MODIFIED:20251105T191817Z
UID:12547-1779735600-1779746400@dnesnivylet.cz
SUMMARY:Martin Hranáč - CRAZY SHOW - Olomouc
DESCRIPTION:Martin Hranáč – CRAZY SHOW – Olomouc se uskuteční dne 2026-05-25 v 19:00 v Olomouc\, Kino Metropol. \n🎟️ Koupit vstupenku \n\nChcete vstoupit do světa humoru a improvizace? Tak je CRAZY SHOW právě pro VÁS! Připravte se na nezapomenutelný večer plný smíchu s Martinem Hranáčem – komikem\, hercem\, číšníkem a optimistou\, který svým jedinečným smyslem pro humor baví lidi na sociálních sítích. Martinův příběh číšníka a jeho každodenní zážitky z gastronomie se stávají zábavným vyprávěním\, které osloví naprosto všechny. \nKaždé vystoupení je unikátní a plné improvizace\, protože Martin miluje improvizaci a scénáře mění v průběhu večera\, což občas vykolejí jeho sestru Štěpánku Šmídovou\, která mu dělá skvělou společnost během celé show. Všechny scénky a historky vychází z Martinových zkušeností a zážitků\, jak profesního\, tak soukromého života. Jeho humor je nekorektní\, sebeironický a nebojí se jít na hranu – právě to dělá jeho show nezapomenutelnou! \nNenechte si ujít tento jedinečný zážitek! Vstupenky v prodeji! \nPořad není vhodný mladším 15 let! \n\nTento tip na kulturní akci v Olomouc najdete v přehledu na Dnesnivylet.cz spolu s dalšími koncerty\, festivaly a divadelními představeními.Každý si vybere co se mu líbí. Nezapomeňte koupit vstupenky včas\, stačí kliknout a budete přesměrování na oficiálního prodejce vstupenek.
URL:https://dnesnivylet.cz/event/martin-hranac-crazy-show-olomouc-4/
LOCATION:Kino Metropol\, Olomouc\, Kino Metropol\, Olomouc\, Česká republika
CATEGORIES:Zábava
ATTACH;FMTTYPE=image/jpeg:https://dnesnivylet.cz/wp-content/uploads/2025/11/320-00ce13a90963451598c48eb4df9a2c78.jpg
END:VEVENT
BEGIN:VEVENT
DTSTART;TZID=Europe/Prague:20260713T090000
DTEND;TZID=Europe/Prague:20260713T120000
DTSTAMP:20260419T225944
CREATED:20260419T122827Z
LAST-MODIFIED:20260419T122828Z
UID:20980-1783933200-1783944000@dnesnivylet.cz
SUMMARY:Příměstský tábor nacucky!: Zažij umění
DESCRIPTION:Příměstský tábor nacucky!: Zažij umění se uskuteční dne 2026-07-13 v 09:00 v Olomouc\, nacucky!. \n🎟️ Koupit vstupenku \n\nPříměstský tábor v domě nacucky! přiblíží dětem různé druhy umění\, které si i sami vyzkouší. Týdenní ochutnávka aktivit napříč uměleckým světem. Chvilku o divadle\, chvilku o hudbě\, chvilku o tanci\, chvilku o tvoření a na závěr chvilku o všem. \nTábor je koncipovaný jako týdenní ochutnávka kreativních činností\, kde není důležitý výkon ale radost z procesu a vlastní tvorby. Děti budou mít prostor experimentovat\, zapojit fantazii\, tělo i slova. Budeme pracovat samostatně i ve skupině a zkoušet nové věci\, techniky a pohyby. \nZ výtvarného umění si děti vyzkouší tvorbu surrealistických koláží\, kresbu i malbu za využití přírodnin. Tvořit budeme přímo v parcích blízko domu nacucky! a Za(o)hradě nacucky!. Tančit budeme na základě námi vytvořených děl i námětů z okolí\, rozpohybujeme například sochy\, které zdobí centrum města. Z divadelních technik si vyzkoušíme\, jak ztvárnit různé emoce\, zkusíme si živé obrazy a další divadelní hry. Nemine nás ani zvuková tvorba\, která nám pak závěrem týdne bude sloužit jako podkresová hudba pro závěrečný výstup. Aktivity se budou střídat po jednotlivých blocích v případě\, že by někdo neměl na nějakou aktivitu chuť\, po domluvě bude možnost alternativního programu. \nCílem je se s uměním jako takovým seznámit\, vyzkoušet si různé jeho podoby a zjistit\, jaká je právě ta moje. Děti si tak z tábora kromě nových zážitků\, přátel a zkušeností odnesou také prohloubení vztahu k umění a způsoby\, jak je možné ho vnímat. Není potřeba mít předchozí zkušenost\, s dětmi budeme pracovat individuálně\, aby každý prožil to\, na co bude mít chuť. \nNa konci týdne proběhne závěrečný výstup z práce dětí. \n  \n  \nČas a místo konání: Každý den 9.00–16.00\, Olomouc\, Dolní náměstí 42 \nCena zahrnuje celodenní pitný režim\, obědy\, veškeré materiály a pomůcky k tvorbě. Obědy budou zajištěny v Café nacucky! \nPŘIHLAŠOVÁNÍ JE MOŽNÉ DO 1. ČERVNA 2026. \nTábor povedou lektorky Edu nacucky! Julie Březinová a Veronika Lipmanová. \n\nTento tip na kulturní akci v Olomouc najdete v přehledu na Dnesnivylet.cz spolu s dalšími koncerty\, festivaly a divadelními představeními.Každý si vybere co se mu líbí. Nezapomeňte koupit vstupenky včas\, stačí kliknout a budete přesměrování na oficiálního prodejce vstupenek.
URL:https://dnesnivylet.cz/event/primestsky-tabor-nacucky-zazij-umeni/
LOCATION:nacucky!\, Olomouc\, nacucky!\, Olomouc\, Česká republika
CATEGORIES:Zábava
ATTACH;FMTTYPE=image/jpeg:https://dnesnivylet.cz/wp-content/uploads/2026/04/320-c52947a1ca904922bcc452472c2f0420.jpg
END:VEVENT
BEGIN:VEVENT
DTSTART;TZID=Europe/Prague:20260810T090000
DTEND;TZID=Europe/Prague:20260810T120000
DTSTAMP:20260419T225944
CREATED:20260419T123310Z
LAST-MODIFIED:20260419T123311Z
UID:21014-1786352400-1786363200@dnesnivylet.cz
SUMMARY:Příměstský tábor nacucky!: Zažij umění
DESCRIPTION:Příměstský tábor nacucky!: Zažij umění se uskuteční dne 2026-08-10 v 09:00 v Olomouc\, nacucky!. \n🎟️ Koupit vstupenku \n\nPříměstský tábor v domě nacucky! přiblíží dětem různé druhy umění\, které si i sami vyzkouší. Týdenní ochutnávka aktivit napříč uměleckým světem. Chvilku o divadle\, chvilku o hudbě\, chvilku o tanci\, chvilku o tvoření a na závěr chvilku o všem. \nTábor je koncipovaný jako týdenní ochutnávka kreativních činností\, kde není důležitý výkon ale radost z procesu a vlastní tvorby. Děti budou mít prostor experimentovat\, zapojit fantazii\, tělo i slova. Budeme pracovat samostatně i ve skupině a zkoušet nové věci\, techniky a pohyby. \nZ výtvarného umění si děti vyzkouší tvorbu surrealistických koláží\, kresbu i malbu za využití přírodnin. Tvořit budeme přímo v parcích blízko domu nacucky! a Za(o)hradě nacucky!. Tančit budeme na základě námi vytvořených děl i námětů z okolí\, rozpohybujeme například sochy\, které zdobí centrum města. Z divadelních technik si vyzkoušíme\, jak ztvárnit různé emoce\, zkusíme si živé obrazy a další divadelní hry. Nemine nás ani zvuková tvorba\, která nám pak závěrem týdne bude sloužit jako podkresová hudba pro závěrečný výstup. Aktivity se budou střídat po jednotlivých blocích v případě\, že by někdo neměl na nějakou aktivitu chuť\, po domluvě bude možnost alternativního programu. \nCílem je se s uměním jako takovým seznámit\, vyzkoušet si různé jeho podoby a zjistit\, jaká je právě ta moje. Děti si tak z tábora kromě nových zážitků\, přátel a zkušeností odnesou také prohloubení vztahu k umění a způsoby\, jak je možné ho vnímat. Není potřeba mít předchozí zkušenost\, s dětmi budeme pracovat individuálně\, aby každý prožil to\, na co bude mít chuť. \nNa konci týdne proběhne závěrečný výstup z práce dětí. \n  \n  \nČas a místo konání: Každý den 9.00–16.00\, Olomouc\, Dolní náměstí 42 \nCena zahrnuje celodenní pitný režim\, obědy\, veškeré materiály a pomůcky k tvorbě. Obědy budou zajištěny v Café nacucky! \nPŘIHLAŠOVÁNÍ JE MOŽNÉ DO 1. ČERVNA 2026. \nTábor povedou lektorky Edu nacucky! Julie Březinová a Veronika Lipmanová. \n\nTento tip na kulturní akci v Olomouc najdete v přehledu na Dnesnivylet.cz spolu s dalšími koncerty\, festivaly a divadelními představeními.Každý si vybere co se mu líbí. Nezapomeňte koupit vstupenky včas\, stačí kliknout a budete přesměrování na oficiálního prodejce vstupenek.
URL:https://dnesnivylet.cz/event/primestsky-tabor-nacucky-zazij-umeni-2/
LOCATION:nacucky!\, Olomouc\, nacucky!\, Olomouc\, Česká republika
CATEGORIES:Zábava
ATTACH;FMTTYPE=image/jpeg:https://dnesnivylet.cz/wp-content/uploads/2026/04/320-f3db70708395481fb06157e5b5781b2c.jpg
END:VEVENT
BEGIN:VEVENT
DTSTART;TZID=Europe/Prague:20260826T200000
DTEND;TZID=Europe/Prague:20260826T230000
DTSTAMP:20260419T225944
CREATED:20260208T144657Z
LAST-MODIFIED:20260208T144658Z
UID:17649-1787774400-1787785200@dnesnivylet.cz
SUMMARY:QUEENIE 2026 - 20 LET TOUR
DESCRIPTION:QUEENIE 2026 – 20 LET TOUR se uskuteční dne 2026-08-26 v 20:00 v Olomouc\, Korunní pevnůstka. \n🎟️ Koupit vstupenku \n\nQUEENIE 2026 – 20 LET TOUR:  \nVYDEJTE SE NA UNIKÁTNÍ KONCERTNÍ CESTU!Kapela QUEENIE\, jedna z nejuznávanějších tribute kapel na světě\, se v létě 2026 vrací na pódia českých a moravských měst s novým\, vylepšeným programem. Tato turné bude mít navíc speciální nádech\, protože QUEENIE oslavuje 20 let existence kapely! Přijďte zažít koncert\, který nejen že oslavuje legendární hudbu Freddieho Mercuryho a skupiny Queen\, ale posouvá její hranice do nového tisíciletí. \nProč Queenie? \nV kontrastu s mnoha jinými tribute kapelami se QUEENIE zaměřuje na to\, aby každý koncert byl mnohem víc než jen reprodukcí známých hitů. Naší silnou stránkou je věrnost originálním aranžím\, přičemž neustále inovujeme a využíváme nejnovější technologie a techniku\, abychom vytvářeli show\, která je nejen hudebně autentická\, ale i vizuálně ohromující. Naše vystoupení je koncertní divadlo – komplexní zážitek\, který věrně a zároveň kreativně navazuje na odkaz Freddieho Mercuryho a Queen. \n20 let s Queenie \nV roce 2026 slaví kapela QUEENIE 20 let od svého vzniku. Za tuto dobu jsme se stali neoddělitelnou součástí tribute scén\, přičemž jsme odehráli více než 1400 koncertů po celém světě\, včetně 7x vyprodané O2 areny. A právě letos chceme poděkovat našim věrným fanouškům za podporu a vytvořit zážitek\, který bude ještě silnější a nezapomenutelnější. Přijďte se podívat na naši show a oslavit s námi tento výjimečný milník! \nVstupte do světa Queen – show 21. století \nSkladby Queen v původních tóninách\, věrné aranže\, dechberoucí vizuální efekty a špičkový zvuk – to je zážitek\, který je s kapelou QUEENIE naprosto nezaměnitelný. Přijďte si poslechnout nejlepší hity\, které přivedou zpět kouzlo originální hudby\, a zároveň ji posunou na novou\, ohromující úroveň. \n\nTento tip na kulturní akci v Olomouc najdete v přehledu na Dnesnivylet.cz spolu s dalšími koncerty\, festivaly a divadelními představeními.Každý si vybere co se mu líbí. Nezapomeňte koupit vstupenky včas\, stačí kliknout a budete přesměrování na oficiálního prodejce vstupenek.
URL:https://dnesnivylet.cz/event/queenie-2026-20-let-tour-8/
LOCATION:Korunní pevnůstka\, Olomouc\, Korunní pevnůstka\, Olomouc\, Česká republika
CATEGORIES:Koncert
ATTACH;FMTTYPE=image/jpeg:https://dnesnivylet.cz/wp-content/uploads/2026/02/320-bbec8df4b40747a5a6c5738d4bf89777.jpg
END:VEVENT
BEGIN:VEVENT
DTSTART;TZID=Europe/Prague:20260828T080000
DTEND;TZID=Europe/Prague:20260828T110000
DTSTAMP:20260419T225944
CREATED:20260419T122518Z
LAST-MODIFIED:20260419T122518Z
UID:20945-1787904000-1787914800@dnesnivylet.cz
SUMMARY:Amateur & Profi Jump Tour Finále Morava - Olomouc
DESCRIPTION:Amateur & Profi Jump Tour Finále Morava – Olomouc se uskuteční dne 2026-08-28 v 08:00 v Olomouc\, Equine sport center Olomouc. \n🎟️ Koupit vstupenku \n\nRádi bychom vás srdečně pozvali na jedinečnou událost roku – moravské finále seriálu Amateur Jump Tour 2026\, které se bude konat v moderním areálu ESC Olomouc ve dnech 28. – 30. srpna. Tato prestižní akce slibuje nejen napínavé soutěže v parkurovém skákání\, ale také nezapomenutelný zážitek pro všechny milovníky jezdeckého sportu. Uskuteční se soutěže do výšky 140 cm. \nBěhem tří dnů se můžete těšit na vrcholné výkony jezdců\, kteří se utkají o titul šampiona v rámci seriálu Amateur Jump Tour oblasti Morava. \nTato událost je ideální příležitostí k navázání nových kontaktů a sdílení zkušeností s ostatními nadšenci jezdeckého sportu. \nNezmeškejte šanci být součástí této výjimečné akce!  \n  \n\nTento tip na kulturní akci v Olomouc najdete v přehledu na Dnesnivylet.cz spolu s dalšími koncerty\, festivaly a divadelními představeními.Každý si vybere co se mu líbí. Nezapomeňte koupit vstupenky včas\, stačí kliknout a budete přesměrování na oficiálního prodejce vstupenek.
URL:https://dnesnivylet.cz/event/amateur-profi-jump-tour-finale-morava-olomouc/
LOCATION:Equine sport center Olomouc\, Olomouc\, Equine sport center Olomouc\, Olomouc\, Česká republika
CATEGORIES:Zábava
ATTACH;FMTTYPE=image/jpeg:https://dnesnivylet.cz/wp-content/uploads/2026/04/320-72aad2cd56674a5eb2528577fa3760bb.jpg
END:VEVENT
BEGIN:VEVENT
DTSTART;TZID=Europe/Prague:20261031T163000
DTEND;TZID=Europe/Prague:20261031T193000
DTSTAMP:20260419T225944
CREATED:20260314T190039Z
LAST-MODIFIED:20260314T190039Z
UID:19469-1793464200-1793475000@dnesnivylet.cz
SUMMARY:KarmaFest Olomouc 2026
DESCRIPTION:KarmaFest Olomouc 2026 se uskuteční dne 2026-10-31 v 16:30 v Olomouc\, S-Klub. \n🎟️ Koupit vstupenku \n\nKarmaFest 2026: Reflections of Karma\, Imodium a Post-it dokážou\, že rock žije  \nKarmaFest 2026 je první ročník nového klubového festivalu zaměřeného na současnou rockovou a kytarovou hudbu. Vzniká z iniciativy mezinárodní rockové superskupiny Reflections of Karma a reaguje na dlouhodobý úbytek prostoru pro živý rock v klubovém prostředí. Festival je koncipován jako komorní indoorová akce\, která staví na blízkém kontaktu kapel s publikem\, autentické atmosféře a energii\, jež vzniká pouze při živém hraní. \nReflections of Karma patří k nejvýraznějším novým jménům české rockové scény posledních let. Kapelu tvoří zpěvák Travis O’Neill (ex-Pipes and Pints)\, kytarista Maťo Mišík (ex-Tata Bojs)\, baskytarista Josh Stewart (Gaia Mesiah) a bubeník Tomáš Hajíček Jr. (Krucipüsk). Na podzim 2025 vydala debutové album Venom & Velvet\, byla oceněna jako Objev roku v anketě Žebřík Awards a její první pražský koncert byl zcela vyprodán. Právě zkušenosti z klubové scény a potřeba vytvořit prostor pro živou\, poctivou rockovou hudbu stály u zrodu KarmaFestu. \nV rámci KarmaFestu 2026 se představí také kapely Imodium a Post-it. Imodium se po comebacku v roce 2023 vrátili na pódia ve výborné formě\, což potvrdily recenze na album Horizont i i koncerty ve Forum Karlín či Nové Spirále\, kde se kapela kolem zpěváka a producenta Thoma Frödeho představila akusticky. Post-it navazují na více než dvacetiletou historii české klubové scény a po personálním rozšíření přinášejí hutnější a syrovější zvuk. \nKarmaFest 2026 proběhne formou jarní a podzimní koncertní série v klubech napříč Českou republikou. Na jaře se festival zastaví v Havlíčkově Brodě\, Plzni\, Teplicích\, Českých Budějovicích a Pardubicích\, na podzim pak v Jablonci nad Nisou\, Jihlavě\, Praze\, Litomyšli a Olomouci. Další termíny jsou v jednání. \nRocková hudba nezmizela\, jen potřebuje prostor\, kde může znít naplno.  \nKarmaFest 2026 – JARO4.⁠ ⁠4. Havlíčkův Brod – Klub Oko11.⁠ ⁠4. Plzeň – Buena Vista18.⁠ ⁠4. Teplice – Knak25.⁠ ⁠4. České Budějovice – MC Fabrika2.5. Pardubice – Žlutý Pes \nKarmaFest 2026 – PODZIM3.⁠ ⁠10. Jablonec nad Nisou – Stage klub10.⁠ ⁠10. Jihlava – D-Klub22.⁠ ⁠10. Praha – Futurum Music Bar23.⁠ ⁠10. Litomyšl – Music Club Kotelna (MC Kotelna)31.⁠ ⁠10. Olomouc – S-Klub \n\nTento tip na kulturní akci v Olomouc najdete v přehledu na Dnesnivylet.cz spolu s dalšími koncerty\, festivaly a divadelními představeními.Každý si vybere co se mu líbí. Nezapomeňte koupit vstupenky včas\, stačí kliknout a budete přesměrování na oficiálního prodejce vstupenek.
URL:https://dnesnivylet.cz/event/karmafest-olomouc-2026/
LOCATION:S-Klub\, Olomouc\, S-Klub\, Olomouc\, Česká republika
CATEGORIES:Festival
ATTACH;FMTTYPE=image/jpeg:https://dnesnivylet.cz/wp-content/uploads/2026/03/320-abde8080324a4dc4bda1056ea1dd0a1f.jpg
END:VEVENT
BEGIN:VEVENT
DTSTART;TZID=Europe/Prague:20261126T190000
DTEND;TZID=Europe/Prague:20261126T220000
DTSTAMP:20260419T225944
CREATED:20260405T125939Z
LAST-MODIFIED:20260405T125940Z
UID:20175-1795719600-1795730400@dnesnivylet.cz
SUMMARY:QUEENSHOW Olomouc
DESCRIPTION:QUEENSHOW Olomouc se uskuteční dne 2026-11-26 v 19:00 v Olomouc\, Výstaviště Flora\, Pavilon A. \n🎟️ Koupit vstupenku \n\nQueenshow patří k nejvěrnějším tribute projektům legendární skupiny Queen na světě. \nJejich koncerty přinášejí autentický návrat do zlaté éry 80. let – od precizně zpracovaného zvuku\, přes dobovou pódiovou techniku\, až po ikonickou vizuální show. Díky použití originálních nástrojů a aparatury zní hudba Queen přesně tak\, jak si ji pamatují fanoušci z legendárních stadionových koncertů. \nVystoupení Queenshow umožňuje znovu pocítit přítomnost Freddieho Mercuryho a jedinečnou energii jedné z největších kapel hudební historie. Tento koncert je výjimečným zážitkem pro všechny milovníky rockové dokonalosti.  \n\nTento tip na kulturní akci v Olomouc najdete v přehledu na Dnesnivylet.cz spolu s dalšími koncerty\, festivaly a divadelními představeními.Každý si vybere co se mu líbí. Nezapomeňte koupit vstupenky včas\, stačí kliknout a budete přesměrování na oficiálního prodejce vstupenek.
URL:https://dnesnivylet.cz/event/queenshow-olomouc/
LOCATION:Výstaviště Flora\, Pavilon A\, Olomouc\, Výstaviště Flora\, Pavilon A\, Olomouc\, Česká republika
CATEGORIES:Koncert
ATTACH;FMTTYPE=image/jpeg:https://dnesnivylet.cz/wp-content/uploads/2026/04/320-950ee67aeca74026ad4a5d5d0836205a.jpg
END:VEVENT
BEGIN:VEVENT
DTSTART;TZID=Europe/Prague:20261212T193000
DTEND;TZID=Europe/Prague:20261212T223000
DTSTAMP:20260419T225944
CREATED:20260208T144217Z
LAST-MODIFIED:20260208T144218Z
UID:17589-1797103800-1797114600@dnesnivylet.cz
SUMMARY:Smokie (UK)
DESCRIPTION:Smokie (UK) se uskuteční dne 2026-12-12 v 19:30 v Olomouc\, Výstaviště Flora\, Pavilon A. \n🎟️ Koupit vstupenku \n\nSMOKIE /UK/ \n12.12.2026 od 19.30 \nPavilon A Výstaviště Flora Olomouc \nwww.brnokoncert.cz \n  \nSMOKIE SE VRACÍ DO ČESKA! Britské legendy naživo v Olomouci. \nPo skvělém návratu na česká pódia v červnu 2025\, kdy agentura Brnokoncert uspořádala vyprodané koncerty v Praze\, Brně a Ostravě\, se britská skupina Smokie vrací zpět! Jejich show byla součástí světového turné Greatest Hits World Tour 2025 – a díky obrovskému zájmu fanoušků se chystá nový termín i na rok 2026.  \nJak už název turné napovídá\, fanoušci se mohou těšit na průřez největšími hity této legendární glamrockové kapely. Zazní nesmrtelné songy jako Don’t Play Your Rock ’n’ Roll to Me\, Living Next Door to Alice nebo Oh Carol – skladby\, které znají celé generace a které se dodnes objevují v rádiích po celém světě. \n  \nPopularita Smokie sahá daleko i za hranice jejich rodné Británie – české publikum si jejich hudbu zamilovalo natolik\, že inspirovala i domácí interprety. Stačí připomenout písně jako Alenka v říši divů (Karel Zich)\, Mýdlový princ (Václav Neckář) nebo Prohrát není žádná hanba (Argema). \n  \nKořeny kapely sahají až do roku 1965\, kdy parta středoškoláků z anglického Bradfordu\, v čele se zpěvákem Chrisem Normanem\, založila kapelu\, která tehdy vystupovala pod různými názvy – Yen\, Essence\, Elizabethans či Smokey. Až v polovině 70. let se ustálil název Smokie\, který zná celý svět dodnes. \n  \nZ malých klubů se kapela postupně vypracovala mezi největší jména světové rockové scény. Klíčový zlom přišel v roce 1975\, kdy si jich všiml producent Nicky Chin. Právě tehdy vydali debutové album\, které je katapultovalo do hitparád po celém světě. Singly If You Think You Know How to Love Me nebo Don’t Play Your Rock ’n’ Roll to Me se okamžitě staly hity a Smokie se zařadili po bok velikánů 70. let – Pink Floyd či Rolling Stones. \n  \nBěhem své kariéry vydali více než dvacet studiových alb\, nespočet živých nahrávek i kolekcí největších hitů – a energie jim rozhodně nechybí ani po desítkách let na scéně. \n\nTento tip na kulturní akci v Olomouc najdete v přehledu na Dnesnivylet.cz spolu s dalšími koncerty\, festivaly a divadelními představeními.Každý si vybere co se mu líbí. Nezapomeňte koupit vstupenky včas\, stačí kliknout a budete přesměrování na oficiálního prodejce vstupenek.
URL:https://dnesnivylet.cz/event/smokie-uk/
LOCATION:Výstaviště Flora\, Pavilon A\, Olomouc\, Výstaviště Flora\, Pavilon A\, Olomouc\, Česká republika
CATEGORIES:Koncert
ATTACH;FMTTYPE=image/jpeg:https://dnesnivylet.cz/wp-content/uploads/2026/02/320-f7af0b63b4af40879154102d7a1f7c72.jpg
END:VEVENT
BEGIN:VEVENT
DTSTART;TZID=Europe/Prague:20261217T190000
DTEND;TZID=Europe/Prague:20261217T220000
DTSTAMP:20260419T225944
CREATED:20260211T131152Z
LAST-MODIFIED:20260211T131152Z
UID:18137-1797534000-1797544800@dnesnivylet.cz
SUMMARY:ŠVANCI SHOW - JÁ SU JÁ - Olomouc
DESCRIPTION:ŠVANCI SHOW – JÁ SU JÁ – Olomouc se uskuteční dne 2026-12-17 v 19:00 v Olomouc\, Kino Metropol. \n🎟️ Koupit vstupenku \n\nNová zábavná show „JÁ SU JÁ“ vyráží na TOUR po celé České republice. \nČekají vás vtipné historky\, od kariéry fotbalisty\, velkolepé rozlučky za Lužánkami\, návštěv různých zábavních pořadů\, až po účast v reality show Survivor. Dále se těšte na prostor pro otázky na tělo\, autogramiádu\, focení a mnoho dalšího. \nJak moc dobře mě znáš? Jak vypadá můj život po kariéře fotbalisty? Chceš znát více informací o reality show Surviror? \nNejen to se dozvíš ve zbrusu nové zábavné show „JÁ SU JÁ“. \nPřijď se podívat a užít si legraci\, popovídat si s legendou fotbalu\, moderátorem\, bavičem a dát si třeba fotku\, nebo si nechat cokoliv podepsat. \nPořad není vhodný mladším 15 let! \n\nTento tip na kulturní akci v Olomouc najdete v přehledu na Dnesnivylet.cz spolu s dalšími koncerty\, festivaly a divadelními představeními.Každý si vybere co se mu líbí. Nezapomeňte koupit vstupenky včas\, stačí kliknout a budete přesměrování na oficiálního prodejce vstupenek.
URL:https://dnesnivylet.cz/event/svanci-show-ja-su-ja-olomouc-2/
LOCATION:Kino Metropol\, Olomouc\, Kino Metropol\, Olomouc\, Česká republika
CATEGORIES:Zábava
ATTACH;FMTTYPE=image/jpeg:https://dnesnivylet.cz/wp-content/uploads/2026/02/320-1a6d3a7ce1b441069b92701f4b4ca356.jpg
END:VEVENT
BEGIN:VEVENT
DTSTART;TZID=Europe/Prague:20261217T190000
DTEND;TZID=Europe/Prague:20261217T220000
DTSTAMP:20260419T225944
CREATED:20260211T131152Z
LAST-MODIFIED:20260211T131152Z
UID:18138-1797534000-1797544800@dnesnivylet.cz
SUMMARY:ŠVANCI SHOW - JÁ SU JÁ - Olomouc
DESCRIPTION:ŠVANCI SHOW – JÁ SU JÁ – Olomouc se uskuteční dne 2026-12-17 v 19:00 v Olomouc\, Kino Metropol. \n🎟️ Koupit vstupenku \n\nNová zábavná show „JÁ SU JÁ“ vyráží na TOUR po celé České republice. \nČekají vás vtipné historky\, od kariéry fotbalisty\, velkolepé rozlučky za Lužánkami\, návštěv různých zábavních pořadů\, až po účast v reality show Survivor. Dále se těšte na prostor pro otázky na tělo\, autogramiádu\, focení a mnoho dalšího. \nJak moc dobře mě znáš? Jak vypadá můj život po kariéře fotbalisty? Chceš znát více informací o reality show Surviror? \nNejen to se dozvíš ve zbrusu nové zábavné show „JÁ SU JÁ“. \nPřijď se podívat a užít si legraci\, popovídat si s legendou fotbalu\, moderátorem\, bavičem a dát si třeba fotku\, nebo si nechat cokoliv podepsat. \nPořad není vhodný mladším 15 let! \n\nTento tip na kulturní akci v Olomouc najdete v přehledu na Dnesnivylet.cz spolu s dalšími koncerty\, festivaly a divadelními představeními.Každý si vybere co se mu líbí. Nezapomeňte koupit vstupenky včas\, stačí kliknout a budete přesměrování na oficiálního prodejce vstupenek.
URL:https://dnesnivylet.cz/event/svanci-show-ja-su-ja-olomouc-2/
LOCATION:Kino Metropol\, Olomouc\, Kino Metropol\, Olomouc\, Česká republika
CATEGORIES:Zábava
ATTACH;FMTTYPE=image/jpeg:https://dnesnivylet.cz/wp-content/uploads/2026/02/320-1a6d3a7ce1b441069b92701f4b4ca356-1.jpg
END:VEVENT
BEGIN:VEVENT
DTSTART;TZID=Europe/Prague:20270320T190000
DTEND;TZID=Europe/Prague:20270320T220000
DTSTAMP:20260419T225944
CREATED:20260206T110314Z
LAST-MODIFIED:20260206T110315Z
UID:17388-1805569200-1805580000@dnesnivylet.cz
SUMMARY:Floyds CZ/SK
DESCRIPTION:Floyds CZ/SK se uskuteční dne 2027-03-20 v 19:00 v Olomouc\, Kino Metropol. \n🎟️ Koupit vstupenku \n\nSkvělá\, téměř tříhodinová audio-vizuální show je naplněna nadčasovou hudbou Pink Floyd a inspirovaná turné PULSE 94′. Nechte se vtáhnout do magického světa rockové legendy. Dokonalé hudební ztvárnění plné energie\, projekce\, lasery\, světelné efekty\, profesionální zvuk – to vše vytváří neopakovatelnou atmosféru a hluboký zážitek pro diváky napříč všemi generacemi. \nSál bude zpřístupněn od 18 hod\, koncert začíná v 19:00\,  s přestávkou na občerstvení. \nO kapele Floyds CZ/SK: \n9 členný výběr top muzikantů hrající skladby Pink Floyd s cílem o maximální věrnost interpretace i atmosféry.  Členové kapely se dlouho „krystalizovali“ z toho nejlepšího co česká i slovenská scéna nabízí a mohou se opřít o dlouholeté zkušenosti nejen na evropské úrovni\, ale i na turné po USA.  \nMůžete se také těšit na okouzlující projev špičkových vokalistek okořeněný věrnou choreografií inspirující se posledním celosvětovým turné PULSE z r. 1994\, které nedávno oslavilo své 30 výročí. \nPropracovaná vizuální show je plná světelných efektů je zasazena do krásného a pohodlého prostředí kina Metropol. \nUpozornění: na akci budou použity vizuální\, stroboskopické a laserové efekty. \n\nTento tip na kulturní akci v Olomouc najdete v přehledu na Dnesnivylet.cz spolu s dalšími koncerty\, festivaly a divadelními představeními.Každý si vybere co se mu líbí. Nezapomeňte koupit vstupenky včas\, stačí kliknout a budete přesměrování na oficiálního prodejce vstupenek.
URL:https://dnesnivylet.cz/event/floyds-cz-sk/
LOCATION:Kino Metropol\, Olomouc\, Kino Metropol\, Olomouc\, Česká republika
CATEGORIES:Koncert
ATTACH;FMTTYPE=image/jpeg:https://dnesnivylet.cz/wp-content/uploads/2026/02/320-e99236aab0b248d680ec863a85a84bbe.jpg
END:VEVENT
END:VCALENDAR