BEGIN:VCALENDAR
VERSION:2.0
PRODID:-//www.dnesnivylet.cz                                                                                                                        Tip na výlet pro celou rodinu. - ECPv6.15.13.1//NONSGML v1.0//EN
CALSCALE:GREGORIAN
METHOD:PUBLISH
X-ORIGINAL-URL:https://dnesnivylet.cz
X-WR-CALDESC:Akce na www.dnesnivylet.cz                                                                                                                        Tip na výlet pro celou rodinu.
REFRESH-INTERVAL;VALUE=DURATION:PT1H
X-Robots-Tag:noindex
X-PUBLISHED-TTL:PT1H
BEGIN:VTIMEZONE
TZID:Europe/Prague
BEGIN:DAYLIGHT
TZOFFSETFROM:+0100
TZOFFSETTO:+0200
TZNAME:CEST
DTSTART:20260329T010000
END:DAYLIGHT
BEGIN:STANDARD
TZOFFSETFROM:+0200
TZOFFSETTO:+0100
TZNAME:CET
DTSTART:20261025T010000
END:STANDARD
BEGIN:DAYLIGHT
TZOFFSETFROM:+0100
TZOFFSETTO:+0200
TZNAME:CEST
DTSTART:20270328T010000
END:DAYLIGHT
BEGIN:STANDARD
TZOFFSETFROM:+0200
TZOFFSETTO:+0100
TZNAME:CET
DTSTART:20271031T010000
END:STANDARD
BEGIN:DAYLIGHT
TZOFFSETFROM:+0100
TZOFFSETTO:+0200
TZNAME:CEST
DTSTART:20280326T010000
END:DAYLIGHT
BEGIN:STANDARD
TZOFFSETFROM:+0200
TZOFFSETTO:+0100
TZNAME:CET
DTSTART:20281029T010000
END:STANDARD
END:VTIMEZONE
BEGIN:VEVENT
DTSTART;TZID=Europe/Prague:20270320T190000
DTEND;TZID=Europe/Prague:20270320T220000
DTSTAMP:20260420T003718
CREATED:20260206T110314Z
LAST-MODIFIED:20260206T110315Z
UID:17388-1805569200-1805580000@dnesnivylet.cz
SUMMARY:Floyds CZ/SK
DESCRIPTION:Floyds CZ/SK se uskuteční dne 2027-03-20 v 19:00 v Olomouc\, Kino Metropol. \n🎟️ Koupit vstupenku \n\nSkvělá\, téměř tříhodinová audio-vizuální show je naplněna nadčasovou hudbou Pink Floyd a inspirovaná turné PULSE 94′. Nechte se vtáhnout do magického světa rockové legendy. Dokonalé hudební ztvárnění plné energie\, projekce\, lasery\, světelné efekty\, profesionální zvuk – to vše vytváří neopakovatelnou atmosféru a hluboký zážitek pro diváky napříč všemi generacemi. \nSál bude zpřístupněn od 18 hod\, koncert začíná v 19:00\,  s přestávkou na občerstvení. \nO kapele Floyds CZ/SK: \n9 členný výběr top muzikantů hrající skladby Pink Floyd s cílem o maximální věrnost interpretace i atmosféry.  Členové kapely se dlouho „krystalizovali“ z toho nejlepšího co česká i slovenská scéna nabízí a mohou se opřít o dlouholeté zkušenosti nejen na evropské úrovni\, ale i na turné po USA.  \nMůžete se také těšit na okouzlující projev špičkových vokalistek okořeněný věrnou choreografií inspirující se posledním celosvětovým turné PULSE z r. 1994\, které nedávno oslavilo své 30 výročí. \nPropracovaná vizuální show je plná světelných efektů je zasazena do krásného a pohodlého prostředí kina Metropol. \nUpozornění: na akci budou použity vizuální\, stroboskopické a laserové efekty. \n\nTento tip na kulturní akci v Olomouc najdete v přehledu na Dnesnivylet.cz spolu s dalšími koncerty\, festivaly a divadelními představeními.Každý si vybere co se mu líbí. Nezapomeňte koupit vstupenky včas\, stačí kliknout a budete přesměrování na oficiálního prodejce vstupenek.
URL:https://dnesnivylet.cz/event/floyds-cz-sk/
LOCATION:Kino Metropol\, Olomouc\, Kino Metropol\, Olomouc\, Česká republika
CATEGORIES:Koncert
ATTACH;FMTTYPE=image/jpeg:https://dnesnivylet.cz/wp-content/uploads/2026/02/320-e99236aab0b248d680ec863a85a84bbe.jpg
END:VEVENT
END:VCALENDAR