BEGIN:VCALENDAR
VERSION:2.0
PRODID:-//www.dnesnivylet.cz                                                                                                                        Tip na výlet pro celou rodinu. - ECPv6.15.13.1//NONSGML v1.0//EN
CALSCALE:GREGORIAN
METHOD:PUBLISH
X-WR-CALNAME:www.dnesnivylet.cz                                                                                                                        Tip na výlet pro celou rodinu.
X-ORIGINAL-URL:https://dnesnivylet.cz
X-WR-CALDESC:Akce na www.dnesnivylet.cz                                                                                                                        Tip na výlet pro celou rodinu.
REFRESH-INTERVAL;VALUE=DURATION:PT1H
X-Robots-Tag:noindex
X-PUBLISHED-TTL:PT1H
BEGIN:VTIMEZONE
TZID:Europe/Prague
BEGIN:DAYLIGHT
TZOFFSETFROM:+0100
TZOFFSETTO:+0200
TZNAME:CEST
DTSTART:20250330T010000
END:DAYLIGHT
BEGIN:STANDARD
TZOFFSETFROM:+0200
TZOFFSETTO:+0100
TZNAME:CET
DTSTART:20251026T010000
END:STANDARD
BEGIN:DAYLIGHT
TZOFFSETFROM:+0100
TZOFFSETTO:+0200
TZNAME:CEST
DTSTART:20260329T010000
END:DAYLIGHT
BEGIN:STANDARD
TZOFFSETFROM:+0200
TZOFFSETTO:+0100
TZNAME:CET
DTSTART:20261025T010000
END:STANDARD
BEGIN:DAYLIGHT
TZOFFSETFROM:+0100
TZOFFSETTO:+0200
TZNAME:CEST
DTSTART:20270328T010000
END:DAYLIGHT
BEGIN:STANDARD
TZOFFSETFROM:+0200
TZOFFSETTO:+0100
TZNAME:CET
DTSTART:20271031T010000
END:STANDARD
END:VTIMEZONE
BEGIN:VEVENT
DTSTART;TZID=Europe/Prague:20260410T200000
DTEND;TZID=Europe/Prague:20260410T230000
DTSTAMP:20260419T144013
CREATED:20251101T134210Z
LAST-MODIFIED:20251101T134211Z
UID:10932-1775851200-1775862000@dnesnivylet.cz
SUMMARY:Teenage Dream Party - Olomouc
DESCRIPTION:Teenage Dream Party – Olomouc se uskuteční dne 2026-04-10 v 20:00 v Olomouc\, S-Klub. \n🎟️ Koupit vstupenku \n\nTEENAGE DREAM PARTY OPĚT V OLOMOUCI! \nUž 10.4. se vidíme v S-klubu s naší pohádkovou párty! \nPřijď si užít jedinečný večer plný nostalgie\, hudby a zábavy. \n  \nTeenage Dream Party není jen obyčejná párty. Je to jedinečná příležitost vrátit se zpátky do našich mladých let\, kdy jsme s nadšením sledovali Disney pohádky a seriály. Připravili jsme pro vás mix těch nejznámějších písniček z Disney filmů\, které nás provázeli během našich dětských let. \n  \nCelý večer vás bude doprovázet nejen hudba\, ale i videoklipy a záběry z těchto ikonických pohádek a seriálů\, které budeme promítat na plátno za naším DJem. \n  \nKlub bude otevřený od 20:00\, ve 21:00 začínají Disney Hity s videoprojekcí. \n  \nVIP vstupenka obsahuje přednostní vstup a Disney dáreček!  \n  \nMŮŽEŠ SE TĚŠIT NA: \n– videoprojekci \n– fotoreport \n– tématickou výzdobu \n– světelné efekty \n– tematické drinky \n– VIP Disney dárky \n– skvělou atmosféru \n  \nINFO: \n10.4.2025 \nS-klub – 17. listopadu 43\, 779 00 Olomouc 9 \nOPEN: 20:00 \nSTART: 21:00 \nVěk: 15+ \n\nTento tip na kulturní akci v Olomouc najdete v přehledu na Dnesnivylet.cz spolu s dalšími koncerty\, festivaly a divadelními představeními.Každý si vybere co se mu líbí. Nezapomeňte koupit vstupenky včas\, stačí kliknout a budete přesměrování na oficiálního prodejce vstupenek.
URL:https://dnesnivylet.cz/event/teenage-dream-party-olomouc/
LOCATION:S-Klub\, Olomouc\, S-Klub\, Olomouc\, Česká republika
CATEGORIES:Zábava
ATTACH;FMTTYPE=image/jpeg:https://dnesnivylet.cz/wp-content/uploads/2025/11/320-d236ce4c3198445ba1b18d4936b11b58.jpg
END:VEVENT
END:VCALENDAR