BEGIN:VCALENDAR
VERSION:2.0
PRODID:-//www.dnesnivylet.cz                                                                                                                        Tip na výlet pro celou rodinu. - ECPv6.15.13.1//NONSGML v1.0//EN
CALSCALE:GREGORIAN
METHOD:PUBLISH
X-ORIGINAL-URL:https://dnesnivylet.cz
X-WR-CALDESC:Akce na www.dnesnivylet.cz                                                                                                                        Tip na výlet pro celou rodinu.
REFRESH-INTERVAL;VALUE=DURATION:PT1H
X-Robots-Tag:noindex
X-PUBLISHED-TTL:PT1H
BEGIN:VTIMEZONE
TZID:Europe/Prague
BEGIN:DAYLIGHT
TZOFFSETFROM:+0100
TZOFFSETTO:+0200
TZNAME:CEST
DTSTART:20250330T010000
END:DAYLIGHT
BEGIN:STANDARD
TZOFFSETFROM:+0200
TZOFFSETTO:+0100
TZNAME:CET
DTSTART:20251026T010000
END:STANDARD
BEGIN:DAYLIGHT
TZOFFSETFROM:+0100
TZOFFSETTO:+0200
TZNAME:CEST
DTSTART:20260329T010000
END:DAYLIGHT
BEGIN:STANDARD
TZOFFSETFROM:+0200
TZOFFSETTO:+0100
TZNAME:CET
DTSTART:20261025T010000
END:STANDARD
BEGIN:DAYLIGHT
TZOFFSETFROM:+0100
TZOFFSETTO:+0200
TZNAME:CEST
DTSTART:20270328T010000
END:DAYLIGHT
BEGIN:STANDARD
TZOFFSETFROM:+0200
TZOFFSETTO:+0100
TZNAME:CET
DTSTART:20271031T010000
END:STANDARD
END:VTIMEZONE
BEGIN:VEVENT
DTSTART;TZID=Europe/Prague:20260416T170000
DTEND;TZID=Europe/Prague:20260416T200000
DTSTAMP:20260419T133336
CREATED:20251215T111510Z
LAST-MODIFIED:20251215T111510Z
UID:15476-1776358800-1776369600@dnesnivylet.cz
SUMMARY:MAOK - Vnitřní výlet
DESCRIPTION:MAOK – Vnitřní výlet se uskuteční dne 2026-04-16 v 17:00 v Ostrava\, Planetárium Ostrava. \n🎟️ Koupit vstupenku \n\nV tichu planetária sa rozoznie hudba\, ktorá sa spája s obrazom vesmíru.Maok vytvára zvukové krajiny napojené na prítomný okamih – hudbu\, ktorá plynie\, dýcha a necháva priestor na vnútorné stíšenie. \nPočas koncertu bude premietaná galaktická projekcia – pohľad do hlbín vesmíru\, kde sa pohyb planét\, hviezd a galaxií prelína so zvukom.Hudba a obraz sa stanú jedným celkom\, pozvaním k vnímaniu priestoru\, ticha a seba samých. \n\nTento tip na kulturní akci v Ostrava najdete v přehledu na Dnesnivylet.cz spolu s dalšími koncerty\, festivaly a divadelními představeními.Každý si vybere co se mu líbí. Nezapomeňte koupit vstupenky včas\, stačí kliknout a budete přesměrování na oficiálního prodejce vstupenek.
URL:https://dnesnivylet.cz/event/maok-vnitrni-vylet/
LOCATION:Planetárium Ostrava\, Ostrava\, Planetárium Ostrava\, Ostrava\, Česká republika
CATEGORIES:Koncert
ATTACH;FMTTYPE=image/jpeg:https://dnesnivylet.cz/wp-content/uploads/2025/12/320-ad78b9952856480d94ab4de43b8035fc.jpg
END:VEVENT
BEGIN:VEVENT
DTSTART;TZID=Europe/Prague:20260416T170000
DTEND;TZID=Europe/Prague:20260416T200000
DTSTAMP:20260419T133336
CREATED:20260310T173151Z
LAST-MODIFIED:20260310T173152Z
UID:19395-1776358800-1776369600@dnesnivylet.cz
SUMMARY:MAOK - Vnitřní výlet
DESCRIPTION:MAOK – Vnitřní výlet se uskuteční dne 2026-04-16 v 17:00 v Ostrava\, Planetárium Ostrava. \n🎟️ Koupit vstupenku \n\nV tichu planetária sa rozoznie hudba\, ktorá sa spája s obrazom vesmíru.Maok vytvára zvukové krajiny napojené na prítomný okamih – hudbu\, ktorá plynie\, dýcha a necháva priestor na vnútorné stíšenie. \nPočas koncertu bude premietaná galaktická projekcia – pohľad do hlbín vesmíru\, kde sa pohyb planét\, hviezd a galaxií prelína so zvukom.Hudba a obraz sa stanú jedným celkom\, pozvaním k vnímaniu priestoru\, ticha a seba samých. \n\nTento tip na kulturní akci v Ostrava najdete v přehledu na Dnesnivylet.cz spolu s dalšími koncerty\, festivaly a divadelními představeními.Každý si vybere co se mu líbí. Nezapomeňte koupit vstupenky včas\, stačí kliknout a budete přesměrování na oficiálního prodejce vstupenek.
URL:https://dnesnivylet.cz/event/maok-vnitrni-vylet-2/
LOCATION:Planetárium Ostrava\, Ostrava\, Planetárium Ostrava\, Ostrava\, Česká republika
CATEGORIES:Koncert
ATTACH;FMTTYPE=image/jpeg:https://dnesnivylet.cz/wp-content/uploads/2026/03/320-c8747988bf284e1e9f245e03f36dc8e4.jpg
END:VEVENT
BEGIN:VEVENT
DTSTART;TZID=Europe/Prague:20260416T193000
DTEND;TZID=Europe/Prague:20260416T223000
DTSTAMP:20260419T133336
CREATED:20251215T115607Z
LAST-MODIFIED:20251215T115608Z
UID:15568-1776367800-1776378600@dnesnivylet.cz
SUMMARY:Vesmírný výlet
DESCRIPTION:Vesmírný výlet se uskuteční dne 2026-04-16 v 19:30 v Ostrava\, Planetárium Ostrava. \n🎟️ Koupit vstupenku \n\nZvuk a ticho\, tma a priestor – všetko sa spája v jedinečnom okamihu.Maok svojou intuitívnou hudbou vytvára atmosféru\, v ktorej sa možno ponoriť do seba aj do nekonečna nad hlavou. \nPočas koncertu sa nad divákmi rozvinie galaktická projekcia – pohyb hviezd\, planét a galaxií v priestore kupoly planetária.Hudba a obraz sa prelínajú\, vytvárajú živý dialóg medzi človekom a vesmírom. \nTento raz otvárame dva koncertné časy\, aby si každý mohol nájsť svoj rytmus – pokojnejší podvečer o 17:00\, alebo hlbší ponor do nočnej oblohy o 19:30. \n  \n  \n  \n\nTento tip na kulturní akci v Ostrava najdete v přehledu na Dnesnivylet.cz spolu s dalšími koncerty\, festivaly a divadelními představeními.Každý si vybere co se mu líbí. Nezapomeňte koupit vstupenky včas\, stačí kliknout a budete přesměrování na oficiálního prodejce vstupenek.
URL:https://dnesnivylet.cz/event/vesmirny-vylet/
LOCATION:Planetárium Ostrava\, Ostrava\, Planetárium Ostrava\, Ostrava\, Česká republika
CATEGORIES:Koncert
ATTACH;FMTTYPE=image/jpeg:https://dnesnivylet.cz/wp-content/uploads/2025/12/320-50d385dadae8452fa6e5ba0b41a2b116.jpg
END:VEVENT
BEGIN:VEVENT
DTSTART;TZID=Europe/Prague:20260416T193000
DTEND;TZID=Europe/Prague:20260416T223000
DTSTAMP:20260419T133336
CREATED:20260310T173152Z
LAST-MODIFIED:20260310T173152Z
UID:19398-1776367800-1776378600@dnesnivylet.cz
SUMMARY:MAOK - Vesmírný výlet
DESCRIPTION:MAOK – Vesmírný výlet se uskuteční dne 2026-04-16 v 19:30 v Ostrava\, Planetárium Ostrava. \n🎟️ Koupit vstupenku \n\nZvuk a ticho\, tma a priestor – všetko sa spája v jedinečnom okamihu.Maok svojou intuitívnou hudbou vytvára atmosféru\, v ktorej sa možno ponoriť do seba aj do nekonečna nad hlavou. \nPočas koncertu sa nad divákmi rozvinie galaktická projekcia – pohyb hviezd\, planét a galaxií v priestore kupoly planetária.Hudba a obraz sa prelínajú\, vytvárajú živý dialóg medzi človekom a vesmírom. \nTento raz otvárame dva koncertné časy\, aby si každý mohol nájsť svoj rytmus – pokojnejší podvečer o 17:00\, alebo hlbší ponor do nočnej oblohy o 19:30. \n  \n  \n  \n\nTento tip na kulturní akci v Ostrava najdete v přehledu na Dnesnivylet.cz spolu s dalšími koncerty\, festivaly a divadelními představeními.Každý si vybere co se mu líbí. Nezapomeňte koupit vstupenky včas\, stačí kliknout a budete přesměrování na oficiálního prodejce vstupenek.
URL:https://dnesnivylet.cz/event/maok-vesmirny-vylet/
LOCATION:Planetárium Ostrava\, Ostrava\, Planetárium Ostrava\, Ostrava\, Česká republika
CATEGORIES:Koncert
ATTACH;FMTTYPE=image/jpeg:https://dnesnivylet.cz/wp-content/uploads/2026/03/320-f5ba8606509f4c69bea32a3267d100f0.jpg
END:VEVENT
END:VCALENDAR