BEGIN:VCALENDAR
VERSION:2.0
PRODID:-//www.dnesnivylet.cz                                                                                                                        Tip na výlet pro celou rodinu. - ECPv6.15.13.1//NONSGML v1.0//EN
CALSCALE:GREGORIAN
METHOD:PUBLISH
X-WR-CALNAME:www.dnesnivylet.cz                                                                                                                        Tip na výlet pro celou rodinu.
X-ORIGINAL-URL:https://dnesnivylet.cz
X-WR-CALDESC:Akce na www.dnesnivylet.cz                                                                                                                        Tip na výlet pro celou rodinu.
REFRESH-INTERVAL;VALUE=DURATION:PT1H
X-Robots-Tag:noindex
X-PUBLISHED-TTL:PT1H
BEGIN:VTIMEZONE
TZID:Europe/Prague
BEGIN:DAYLIGHT
TZOFFSETFROM:+0100
TZOFFSETTO:+0200
TZNAME:CEST
DTSTART:20240331T010000
END:DAYLIGHT
BEGIN:STANDARD
TZOFFSETFROM:+0200
TZOFFSETTO:+0100
TZNAME:CET
DTSTART:20241027T010000
END:STANDARD
BEGIN:DAYLIGHT
TZOFFSETFROM:+0100
TZOFFSETTO:+0200
TZNAME:CEST
DTSTART:20250330T010000
END:DAYLIGHT
BEGIN:STANDARD
TZOFFSETFROM:+0200
TZOFFSETTO:+0100
TZNAME:CET
DTSTART:20251026T010000
END:STANDARD
BEGIN:DAYLIGHT
TZOFFSETFROM:+0100
TZOFFSETTO:+0200
TZNAME:CEST
DTSTART:20260329T010000
END:DAYLIGHT
BEGIN:STANDARD
TZOFFSETFROM:+0200
TZOFFSETTO:+0100
TZNAME:CET
DTSTART:20261025T010000
END:STANDARD
END:VTIMEZONE
BEGIN:VEVENT
DTSTART;TZID=Europe/Prague:20251108T200000
DTEND;TZID=Europe/Prague:20251108T230000
DTSTAMP:20260420T000339
CREATED:20251103T192039Z
LAST-MODIFIED:20251103T192042Z
UID:11751-1762632000-1762642800@dnesnivylet.cz
SUMMARY:Koncert: Mutanti hledaj východisko & Anki
DESCRIPTION:Koncert: Mutanti hledaj východisko & Anki se uskuteční dne 2025-11-08 v 20:00 v Ostrava\, Dock Ostrava. \n🎟️ Koupit vstupenku \n\nMutanti hledaj východisko  \nnazdár\, čau čau čau\, tak jsi přišel nakonec? To je super\, moc rád tě vidím! Patnáct piv du prát ne vole fénix puma  \n…a další legendární songy \ndáme spolu i šlapací mlýn?  \n★ https://open.spotify.com/artist/6PwVmRPrwy0am1n3mYlzZt…★ https://www.instagram.com/mutantihledajvychodisko/★ https://youtu.be/sLg8KwxzocM?si=jPlMG-lQKuNsRgyI★ https://mutantihledajvychodisko.bandcamp.com \n  \nANKI  \nvítěz ceny VINYLA 2024 za nejlepší desku roku  \nČesko-vietnamský cloud rapper Anki hledá své místo na rapové scéně\, ale i v osobním životě.Autenticky\, bez striktních linií nebo falešné jistoty. Motivy chudoby\, periferií\, změny životních poměrů a vlastní identity se tu potkávají s potřebou vyjádřit se bez okázalých póz. \nMinule v nominacích Vinyly vzkazoval\, že už nechce žádné drama\, v titulu své zatím poslední desky pražský rapper Anki pro změnu říká: I want to feel safe. Nahrávka dokončuje trilogii desek\, v nichž mluvil o svém vyrůstání v Sudetech\, tentokrát se ale dostává nejvíc na dřeň a paradoxně do nejvíc tanečních beatů. V skladbách Anki mluví o drogové závislosti nebo násilí v rodině\, ale deska nakonec nachází naději v spokojené současnosti. Na desce s ním spolupracovali producenti harshmellow\, badfocus či Silverboi a v rolích hostů se objevuje zpěvačka Malvina a rappeři Edúv syn a Domo. / zdroj: VINYLA  \n★ https://www.instagram.com/____anki_tran/★ https://open.spotify.com/artist/7AU7w8KxSNBVBv515zNHnP…★ https://www.seznamzpravy.cz/…/kultura-cena-vinyla-anki… \n  \ndveře otevíráme v 19:00hstudentské vstupné / 200 KčEARLY BIRD ~ vstupné přes smsticket/ 290 KčLATE BIRD ~ vstupné přes Smsticket / 340 Kčvstupné na místě / 390 KčAkce je spolufinancována Statutárním městem Ostrava. Moc děkujeme za podporu !!!  \n\nTento tip na kulturní akci v Ostrava najdete v přehledu na Dnesnivylet.cz spolu s dalšími koncerty\, festivaly a divadelními představeními.Každý si vybere co se mu líbí. Nezapomeňte koupit vstupenky včas\, stačí kliknout a budete přesměrování na oficiálního prodejce vstupenek.
URL:https://dnesnivylet.cz/event/koncert-mutanti-hledaj-vychodisko-anki/
LOCATION:Dock Ostrava\, Ostrava\, Dock Ostrava\, Ostrava\, Česká republika
CATEGORIES:Koncert
ATTACH;FMTTYPE=image/jpeg:https://dnesnivylet.cz/wp-content/uploads/2025/11/320-0f98d44ae6bb4a3d9ce8def817d87f0c.jpg
END:VEVENT
BEGIN:VEVENT
DTSTART;TZID=Europe/Prague:20251108T170000
DTEND;TZID=Europe/Prague:20251108T200000
DTSTAMP:20260420T000339
CREATED:20251103T192349Z
LAST-MODIFIED:20251103T192350Z
UID:11867-1762621200-1762632000@dnesnivylet.cz
SUMMARY:Talk Show Zdeněk Pohlreich
DESCRIPTION:Talk Show Zdeněk Pohlreich se uskuteční dne 2025-11-08 v 17:00 v Ostrava\, Skelet Kafe. \n🎟️ Koupit vstupenku \n\nTalk Show se Zdeňkem PohlreichemSobota 8. listopaduod 17:00Skelet Kafe\, Ostrava \nVečer plný názorů\, humoru a upřímnosti bez servítek.Zveme vás na jedinečnou talk show se Zdeňkem Pohlreichem\, kterého v přátelském rozhovoru povede Petr Uchytil. \nČeká vás otevřená debata o životě\, práci\, zkušenostech i pohledech na dnešní svět. To vše v útulném prostředí Skelet Kafe – s drinkem v ruce a pohodovou atmosférou. \nKapacita je omezená – rezervujte si svá místa včas! \n\nTento tip na kulturní akci v Ostrava najdete v přehledu na Dnesnivylet.cz spolu s dalšími koncerty\, festivaly a divadelními představeními.Každý si vybere co se mu líbí. Nezapomeňte koupit vstupenky včas\, stačí kliknout a budete přesměrování na oficiálního prodejce vstupenek.
URL:https://dnesnivylet.cz/event/talk-show-zdenek-pohlreich/
LOCATION:Skelet Kafe\, Ostrava\, Skelet Kafe\, Ostrava\, Česká republika
CATEGORIES:Zábava
ATTACH;FMTTYPE=image/jpeg:https://dnesnivylet.cz/wp-content/uploads/2025/11/320-0ab539e719884c3ab3f2f6563aec7c46.jpg
END:VEVENT
BEGIN:VEVENT
DTSTART;TZID=Europe/Prague:20251107T193000
DTEND;TZID=Europe/Prague:20251107T223000
DTSTAMP:20260420T000339
CREATED:20251101T133839Z
LAST-MODIFIED:20251101T133840Z
UID:10858-1762543800-1762554600@dnesnivylet.cz
SUMMARY:Blue Secret Show: FEMME FATALE
DESCRIPTION:Blue Secret Show: FEMME FATALE se uskuteční dne 2025-11-07 v 19:30 v Ostrava\, Divadlo Loutek. \n🎟️ Koupit vstupenku \n\nPřiprav se na večer plný elegance\, nádherných kostýmů\, umění a emocí pod heslem „Burlesque your life!“. Producentkou této jedinečné show je Zorya Blue\, známá z Česko Slovensko má talent\, kde získala neuvěřitelných 5x ANO! \nNezbedná a koketní atmosféra Blue Burlesque Show tě udrží v napětí od začátku až do konce.Uvidíš špičkové kabaretní a burleskní performery a ponoříš se do třpytivého světa burlesky\, která zažívá obrovský boom. Tuhle show si nesmíš nechat ujít! \nUčinkující: \n\nZorya Blue – performerka\, producentka a lektorka burlesky. Během show si můžeš zakoupit její knihu „UŽ BUDEŠ? Kniha moderní sexuality.“\nKiki Koquette – retro princezna ze Slovenska\nVeren de Hedge – tajemná diva z Polska\nSuzy Feathers – a premiéra nového čísla\nIvy Kolcun – vdušná akrobatka\nKristy Budišová – nádherný hlas show\, moderátorka a zpěvačka\n\nDresscode: \nDress to impress! Fantazii se meze nekladou – staň se součástí třpytivé atmosféry večera. \nProgram: \n\nOtevření sálu: 19:00\nZačátek show: 19:30\n\nDélka show: cca 150 minutBlue Burlesque Show má tři části\, přičemž každá přestávka (cca 20 minut) ti umožní objednat si další drinky\, odskočit si na cigaretu nebo prohlédnout náš stánek s merchem. \nCena \nVIP 790GLITTER 690GOLD 590BLUE 550 \nPo show: \nVyfoť se s performery a poděl se s námi o své dojmy – těšíme se na tvůj feedback! \n\nTento tip na kulturní akci v Ostrava najdete v přehledu na Dnesnivylet.cz spolu s dalšími koncerty\, festivaly a divadelními představeními.Každý si vybere co se mu líbí. Nezapomeňte koupit vstupenky včas\, stačí kliknout a budete přesměrování na oficiálního prodejce vstupenek.
URL:https://dnesnivylet.cz/event/blue-secret-show-femme-fatale/
LOCATION:Divadlo Loutek\, Ostrava\, Divadlo Loutek\, Ostrava\, Česká republika
CATEGORIES:Zábava
ATTACH;FMTTYPE=image/jpeg:https://dnesnivylet.cz/wp-content/uploads/2025/11/320-a6cffa3e796c4e8082b69c716f8f9e92.jpg
END:VEVENT
BEGIN:VEVENT
DTSTART;TZID=Europe/Prague:20251107T190000
DTEND;TZID=Europe/Prague:20251107T220000
DTSTAMP:20260420T000339
CREATED:20251103T192350Z
LAST-MODIFIED:20251103T192350Z
UID:11871-1762542000-1762552800@dnesnivylet.cz
SUMMARY:Talk Show Tomáš Vorel st.
DESCRIPTION:Talk Show Tomáš Vorel st. se uskuteční dne 2025-11-07 v 19:00 v Ostrava\, Skelet Kafe. \n🎟️ Koupit vstupenku \n\nTalk Show s Tomášem Vorelem st.Pátek 7. listopaduod 19:00Skelet Kafe\, Ostrava \nRežisér\, scénárista\, herec.Muž\, který stojí za kultovními filmy jako Gympl\, Cesta z města nebo Vejška. \nZveme vás na výjimečný večer s Tomášem Vorelem st.\, kde se o jeho životní i filmové cestě dozvíte víc v otevřené a přátelské talk show – v prostředí Skelet Kafe\, s drinkem a skvělou atmosférou. \nModeruje Petr Uchytil \n\nTento tip na kulturní akci v Ostrava najdete v přehledu na Dnesnivylet.cz spolu s dalšími koncerty\, festivaly a divadelními představeními.Každý si vybere co se mu líbí. Nezapomeňte koupit vstupenky včas\, stačí kliknout a budete přesměrování na oficiálního prodejce vstupenek.
URL:https://dnesnivylet.cz/event/talk-show-tomas-vorel-st/
LOCATION:Skelet Kafe\, Ostrava\, Skelet Kafe\, Ostrava\, Česká republika
CATEGORIES:Zábava
ATTACH;FMTTYPE=image/jpeg:https://dnesnivylet.cz/wp-content/uploads/2025/11/320-344586dfab78436bbb17ee7cb3d2ea20.jpg
END:VEVENT
BEGIN:VEVENT
DTSTART;TZID=Europe/Prague:20251104T190000
DTEND;TZID=Europe/Prague:20251104T220000
DTSTAMP:20260420T000339
CREATED:20251021T054703Z
LAST-MODIFIED:20251021T054703Z
UID:9477-1762282800-1762293600@dnesnivylet.cz
SUMMARY:Jsme Zločinožrouti Tour II. - Ostrava
DESCRIPTION:Jsme Zločinožrouti Tour II. – Ostrava se uskuteční dne 2025-11-04 v 19:00 v Ostrava\, Multifunkční aula Gong. \n🎟️ Koupit vstupenku \n\nPřiprav se na večer plný true crime příběhů a černého humoru. V řijnu a listopadu 2025 jedeme na podzimní tour. \n\nTento tip na kulturní akci v Ostrava najdete v přehledu na Dnesnivylet.cz spolu s dalšími koncerty\, festivaly a divadelními představeními.Každý si vybere co se mu líbí. Nezapomeňte koupit vstupenky včas\, stačí kliknout a budete přesměrování na oficiálního prodejce vstupenek.
URL:https://dnesnivylet.cz/event/jsme-zlocinozrouti-tour-ii-ostrava/
LOCATION:Multifunkční aula Gong\, Ostrava\, Multifunkční aula Gong\, Ostrava\, Česká republika
CATEGORIES:Zábava
ATTACH;FMTTYPE=image/jpeg:https://dnesnivylet.cz/wp-content/uploads/2025/10/320-8f271ecae16043db95b247d0393ad9b6.jpg
END:VEVENT
BEGIN:VEVENT
DTSTART;TZID=Europe/Prague:20251029T190000
DTEND;TZID=Europe/Prague:20251029T220000
DTSTAMP:20260420T000339
CREATED:20251020T111351Z
LAST-MODIFIED:20251020T111352Z
UID:9186-1761764400-1761775200@dnesnivylet.cz
SUMMARY:A zbylo nic / Vendula Šmídke a Jiří Charvát
DESCRIPTION:A zbylo nic / Vendula Šmídke a Jiří Charvát se uskuteční dne 2025-10-29 v 19:00 v Ostrava\, Kulturní dům K-TRIO. \n🎟️ Koupit vstupenku \n\nZdravíme všechny\, kdo se marně pokoušejí držet pohromadě. \nTahle událost je pro vás. \nVečer pro ty\, kdo tuší\, že neřídí vůbec nic. \nPro ty\, kdo se probudili – a zjistili\, že probuzení neexistuje. \nPro všechny\, kdo už pochopili\, že „já“ je jen zvuk\, který brzy utichne. \nVendula Šmídke spolu s Jirkou Charvátem vás vezmou do míst\, kde končí úsilí a začíná smích. \nUkážeme vám kousek ze svých Bufo seancí\, kde ego zápasí\, padá… a mizí. \nA pak už jen budeme. Mluvit. Mlčet. Smát se. Nechat věci\, ať se dějí. Nebo nedějí. \nStand-up? Beseda? Terapeutický výmaz? \nMožná všechno. Možná nic. A možná právě proto bys tam měl být. \n\nTento tip na kulturní akci v Ostrava najdete v přehledu na Dnesnivylet.cz spolu s dalšími koncerty\, festivaly a divadelními představeními.Každý si vybere co se mu líbí. Nezapomeňte koupit vstupenky včas\, stačí kliknout a budete přesměrování na oficiálního prodejce vstupenek.
URL:https://dnesnivylet.cz/event/a-zbylo-nic-vendula-smidke-a-jiri-charvat/
LOCATION:Kulturní dům K-TRIO\, Ostrava\, Kulturní dům K-TRIO\, Ostrava\, Česká republika
CATEGORIES:Zábava
ATTACH;FMTTYPE=image/jpeg:https://dnesnivylet.cz/wp-content/uploads/2025/10/320-de9796fc9f8442a1a7aedebbb6897c76.jpg
END:VEVENT
BEGIN:VEVENT
DTSTART;TZID=Europe/Prague:20251025T170000
DTEND;TZID=Europe/Prague:20251025T200000
DTSTAMP:20260420T000339
CREATED:20251022T113456Z
LAST-MODIFIED:20251022T113456Z
UID:9622-1761411600-1761422400@dnesnivylet.cz
SUMMARY:Folk metal pilgrims 2025 vol.10
DESCRIPTION:Folk metal pilgrims 2025 vol.10 se uskuteční dne 2025-10-25 v 17:00 v Ostrava\, BARRÁK music club. \n🎟️ Koupit vstupenku \n\nDeset let legendy: Oslavte s námi jubileum metalového pohanství \nUž deset zim a deset sklizní se scházíme pod střechou ostravského Barráku\, abychom společně vzdali hold hudbě\, která prýští z hlubokých lesů\, horských řek a dávných příběhů. Folk Metal Pilgrims není jen koncert – je to rituál\, poutní cesta napříč žánry\, kulturami a emocemi. V roce 2025 nás čeká oslavná desetiletka\, a tak jsme pro vás připravili line-up\, jaký se rodí jednou za věk. \n🔥 Kdo rozezní srdce poutníků? \n🌿 Silent Stream of Godless Elegy (CZ) \nMoravští vládci melancholie\, jejichž hudba je jako víno z hlubokého sudu – zraje\, sílí a čaruje. Doom metal protkaný cimbálem\, folklorem a emocemi\, které vás rozloží i postaví. Kapela\, která získala Anděla a stala se pojmem. Letos na Pilgrims představí průřez svým epickým repertoárem. Připravte se na silnou dávku moravské duše. \n🪓 Folkrim (FI) \nZ temných severských lesů přichází finská výprava s viking metalem\, který volá po tanci\, plavbě a boji. Melodický\, vtipný\, ale i těžký jako medový sud. Jejich sety připomínají hostinu v síni padlých – všichni se baví\, ale žádný riff nezůstane neodbit. Pokud chcete zažít skutečný severský žár\, tady ho máte. \n🏹 Jerna (PL) \nPolská odpověď na Eluveitie či Ensiferum. Kapela\, která mistrně kombinuje fantasy atmosféru s tvrdými melodiemi. Výpravný folk/death metal\, kde každý tón kreslí příběh o čarodějích\, hrdinech a pradávných lesích. Představí zbrusu nové skladby\, které mají premiéru právě na Folk Metal Pilgrims. \n🛡️ Achsar (SK) \nSlovenský symphonic/folk metal s atmosférou středověkého dvora. Silné orchestrace\, hrdinské texty\, kytary ostré jako meč a melodie\, které zůstanou znít v hlavě. Rytířská kapela se zbrojí pro velkou show a přiváží i nový materiál z připravované desky. Nostalgie a síla v jednom štítu. \n🦌 Thanallian (CZ) \nDomácí bardové epického folk metalu. Skupina\, která sází na silné refrény\, fantasy lyriku a nekompromisní rytmiku. Jejich hudba je jako jízda na válečném jelenu lesní říší\, kde v každém taktu cítíte vůni mechu a vítr ve vlasech. \n🌘 Odraedir (CZ) \nTemný pagan/folk metal\, jehož skladby působí jako kouzlo šamanů. Tempa střídají ticho a rozervané pasáže nahlodávají duši. Tohle je přírodní mystika přetavená v metalový obřad. Ideální zakončení večera\, které vás přenese do jiného světa. \nVíce info: metalpilgrims.cz \n\nTento tip na kulturní akci v Ostrava najdete v přehledu na Dnesnivylet.cz spolu s dalšími koncerty\, festivaly a divadelními představeními.Každý si vybere co se mu líbí. Nezapomeňte koupit vstupenky včas\, stačí kliknout a budete přesměrování na oficiálního prodejce vstupenek.
URL:https://dnesnivylet.cz/event/folk-metal-pilgrims-2025-vol-10/
LOCATION:BARRÁK music club\, Ostrava\, BARRÁK music club\, Ostrava\, Česká republika
CATEGORIES:Festival
ATTACH;FMTTYPE=image/jpeg:https://dnesnivylet.cz/wp-content/uploads/2025/10/320-cc61ca61189e4fc9a3b526d0a240715e.jpg
END:VEVENT
BEGIN:VEVENT
DTSTART;TZID=Europe/Prague:20251024T200000
DTEND;TZID=Europe/Prague:20251024T230000
DTSTAMP:20260420T000339
CREATED:20251022T142825Z
LAST-MODIFIED:20251022T142827Z
UID:9678-1761336000-1761346800@dnesnivylet.cz
SUMMARY:Supreme Rave Hall Halloween Ostrava
DESCRIPTION:Supreme Rave Hall Halloween Ostrava se uskuteční dne 2025-10-24 v 20:00 v Ostrava\, Ostrava\, Brickhouse. \n🎟️ Koupit vstupenku \n\n🔺🔺 PŘEDPRODEJ NYNÍ BĚŽÍ ZDE 🔺🔺🔺🔺 https://tickets.supremeraves.com/🔺🔺🔺🔺🔺🔺🔺🔺🔺🔺🔺🔺🔺🔺🔺🔺🔺🔺 \nHorizontální LED\, laserové mříže\, pódia a pořádný kotel okolo DJ! \n🔺 Pokud tě to bavilo\, děláme to pro tebe znovu!🔻 Pokud jsi minule nebyl/a\, máš možnost!  \nPoslední tři eventy byly vyprodány! Mrkni na galerie na FB \n1. Marika Rossa ✟ Dolní Vítkovice\, Ostrava ✟ 31.03.2023 2. Mauro Picotto ❌ Dolní Vítkovice\, Ostrava ❌ 03.11.20233. SUPREME ❌ R₳VɆ RØØM ❌ Dolní Vítkovice\, Ostrava | 11.10.2024  \n4️⃣. pokračování halovky\, kterou pro Vás děláme jednou za rok! \n🟥 LINEUPZnovu spojujeme moderním hardtechno a techno! \n🦸 RUDAKI /nl – holandský hardtechno master\, rezident DJ Verkniptu\, největších HT eventů na světě🧑‍🎤 GARY BECK /uk – legenda techna jehož “proper techno” sound je známý po celém světě a v roce 2023 rozsekal halu na B4L 🔥 \nVýborní CZ/SK Techno/Hardtechno DJs jako support:👻 SIGNATE /sk🤡 DAVE LXR /cz👁️ MVTTHEW /sk🦄 DENYSA /cz🧟 LARA GOTHEL /cz👹 BRIGHT /cz🥷 SAMUEL ANDRÁŠIK /sk🧛 ANDWARE /cz👱‍♀️ EIRBET /cz \n❌ STAGE DESIGN🏟️ 360° STAGE – 3 pódia a kotel okolo DJ📺 Horizontální LED\, Laserová klec\, Bílé Beamy a zvuk AdamsonTentokrát poprvé v HALLOWEEN stylu! 🎃Díky zapůjčený\, top dekoracím tě čeká šílená atmosféra a creepy vibe! 🕸️🔥 \n🧛 Všichni v kostýmu dostanou na vstupu malý dárek 🎁🥂(Kostým = malba na obličeji\, maska nebo stylový outfit) \nTo není všechno – v hale tě čeká:✔️ Facepainting 🎨✔️ Tetování 💉✔️ Halloween doplňky & merch 🧟‍♀️🛍️✔️ Péče od Hard & Smart 🧑‍⚕️ \n🎟️ Vstupenky jsou v prodeji v 6 vlnách – první vlna stála 290\,- Kč a poslední bude stát 890\,- Kč ➕ poplatky. ⏳💸Na místě za 1000\,- Kč 💰 \nTěšíme se na Vás 🖤🎫 https://tickets.supremeraves.com/ \n  \nFOTA z posledního eventu a foto konceptu který připravujeme jsou níže 🙂 \n\nTento tip na kulturní akci v Ostrava najdete v přehledu na Dnesnivylet.cz spolu s dalšími koncerty\, festivaly a divadelními představeními.Každý si vybere co se mu líbí. Nezapomeňte koupit vstupenky včas\, stačí kliknout a budete přesměrování na oficiálního prodejce vstupenek.
URL:https://dnesnivylet.cz/event/supreme-rave-hall-halloween-ostrava/
LOCATION:Ostrava\, Brickhouse\, Ostrava\, Ostrava\, Brickhouse\, Ostrava\, Česká republika
CATEGORIES:Zábava
ATTACH;FMTTYPE=image/jpeg:https://dnesnivylet.cz/wp-content/uploads/2025/10/320-46263b2ecb93493e864d18bb6451d2af.jpg
END:VEVENT
BEGIN:VEVENT
DTSTART;TZID=Europe/Prague:20251021T190000
DTEND;TZID=Europe/Prague:20251021T220000
DTSTAMP:20260420T000339
CREATED:20251020T065252Z
LAST-MODIFIED:20251020T065252Z
UID:8333-1761073200-1761084000@dnesnivylet.cz
SUMMARY:Martin Hranáč - CRAZY SHOW - Ostrava
DESCRIPTION:Martin Hranáč – CRAZY SHOW – Ostrava se uskuteční dne 2025-10-21 v 19:00 v Ostrava\, Poklad\, Ostrava-Poruba. \n🎟️ Koupit vstupenku \n\nChcete vstoupit do světa humoru a improvizace? Tak je CRAZY SHOW právě pro VÁS! Připravte se na nezapomenutelný večer plný smíchu s Martinem Hranáčem – komikem\, hercem\, číšníkem a optimistou\, který svým jedinečným smyslem pro humor baví lidi na sociálních sítích. Martinův příběh číšníka a jeho každodenní zážitky z gastronomie se stávají zábavným vyprávěním\, které osloví naprosto všechny. \nKaždé vystoupení je unikátní a plné improvizace\, protože Martin miluje improvizaci a scénáře mění v průběhu večera\, což občas vykolejí jeho sestru Štěpánku Šmídovou\, která mu dělá skvělou společnost během celé show. Všechny scénky a historky vychází z Martinových zkušeností a zážitků\, jak profesního\, tak soukromého života. Jeho humor je nekorektní\, sebeironický a nebojí se jít na hranu – právě to dělá jeho show nezapomenutelnou! \nNenechte si ujít tento jedinečný zážitek! Vstupenky v prodeji! \nPořad není vhodný mladším 15 let! \nhttps://www.standupshow.cz/ \n\nTento tip na kulturní akci v Ostrava najdete v přehledu na Dnesnivylet.cz spolu s dalšími koncerty\, festivaly a divadelními představeními.Každý si vybere co se mu líbí. Nezapomeňte koupit vstupenky včas\, stačí kliknout a budete přesměrování na oficiálního prodejce vstupenek.
URL:https://dnesnivylet.cz/event/martin-hranac-crazy-show-ostrava/
LOCATION:Poklad\, Ostrava-Poruba\, Ostrava\, Poklad\, Ostrava-Poruba\, Ostrava\, Česká republika
CATEGORIES:Zábava
ATTACH;FMTTYPE=image/jpeg:https://dnesnivylet.cz/wp-content/uploads/2025/10/320-744e6518f1944e4ea74dbc1ac657f03c-1.jpg
END:VEVENT
END:VCALENDAR